BEGIN:VCALENDAR
VERSION:2.0
PRODID:-//Enjoy Where You Are - ECPv6.5.2//NONSGML v1.0//EN
CALSCALE:GREGORIAN
METHOD:PUBLISH
X-ORIGINAL-URL:https://enjoywhereyouare.today
X-WR-CALDESC:Events for Enjoy Where You Are
REFRESH-INTERVAL;VALUE=DURATION:PT1H
X-Robots-Tag:noindex
X-PUBLISHED-TTL:PT1H
BEGIN:VTIMEZONE
TZID:America/New_York
BEGIN:DAYLIGHT
TZOFFSETFROM:-0500
TZOFFSETTO:-0400
TZNAME:EDT
DTSTART:20220313T070000
END:DAYLIGHT
BEGIN:STANDARD
TZOFFSETFROM:-0400
TZOFFSETTO:-0500
TZNAME:EST
DTSTART:20221106T060000
END:STANDARD
END:VTIMEZONE
BEGIN:VEVENT
DTSTART;TZID=America/New_York:20220905T080000
DTEND;TZID=America/New_York:20220905T170000
DTSTAMP:20260425T163913
CREATED:20220509T153416Z
LAST-MODIFIED:20220621T145402Z
UID:10001221-1662364800-1662397200@enjoywhereyouare.today
SUMMARY:Outdoor Farmers Market
DESCRIPTION:The Outdoor Village Farmers Market is back! Join us on The Piazza every Monday from 2pm-6pm. There will be fresh fruits and veggies\, eggs\, honey\, baked goods\, and so much more!
URL:https://enjoywhereyouare.today/events/outdoor-farmers-market/2022-09-05/
LOCATION:The Village at Grand Traverse Commons\, 800 Cottageview Dr\, Traverse City\, MI\, 49684\, United States
CATEGORIES:Farm Markets & Shopping,Village TC
ATTACH;FMTTYPE=image/jpeg:https://enjoywhereyouare.today/wp-content/uploads/2022/05/Village-at-GT-Commons-farm-market-e1652113281401.jpg
GEO:44.7562455;-85.6434579
X-APPLE-STRUCTURED-LOCATION;VALUE=URI;X-ADDRESS=The Village at Grand Traverse Commons 800 Cottageview Dr Traverse City MI 49684 United States;X-APPLE-RADIUS=500;X-TITLE=800 Cottageview Dr:geo:-85.6434579,44.7562455
END:VEVENT
BEGIN:VEVENT
DTSTART;TZID=America/New_York:20220829T080000
DTEND;TZID=America/New_York:20220829T170000
DTSTAMP:20260425T163913
CREATED:20220509T153416Z
LAST-MODIFIED:20220621T145402Z
UID:10001220-1661760000-1661792400@enjoywhereyouare.today
SUMMARY:Outdoor Farmers Market
DESCRIPTION:The Outdoor Village Farmers Market is back! Join us on The Piazza every Monday from 2pm-6pm. There will be fresh fruits and veggies\, eggs\, honey\, baked goods\, and so much more!
URL:https://enjoywhereyouare.today/events/outdoor-farmers-market/2022-08-29/
LOCATION:The Village at Grand Traverse Commons\, 800 Cottageview Dr\, Traverse City\, MI\, 49684\, United States
CATEGORIES:Farm Markets & Shopping,Village TC
ATTACH;FMTTYPE=image/jpeg:https://enjoywhereyouare.today/wp-content/uploads/2022/05/Village-at-GT-Commons-farm-market-e1652113281401.jpg
GEO:44.7562455;-85.6434579
X-APPLE-STRUCTURED-LOCATION;VALUE=URI;X-ADDRESS=The Village at Grand Traverse Commons 800 Cottageview Dr Traverse City MI 49684 United States;X-APPLE-RADIUS=500;X-TITLE=800 Cottageview Dr:geo:-85.6434579,44.7562455
END:VEVENT
BEGIN:VEVENT
DTSTART;TZID=America/New_York:20220822T080000
DTEND;TZID=America/New_York:20220822T170000
DTSTAMP:20260425T163913
CREATED:20220509T153416Z
LAST-MODIFIED:20220621T145402Z
UID:10001219-1661155200-1661187600@enjoywhereyouare.today
SUMMARY:Outdoor Farmers Market
DESCRIPTION:The Outdoor Village Farmers Market is back! Join us on The Piazza every Monday from 2pm-6pm. There will be fresh fruits and veggies\, eggs\, honey\, baked goods\, and so much more!
URL:https://enjoywhereyouare.today/events/outdoor-farmers-market/2022-08-22/
LOCATION:The Village at Grand Traverse Commons\, 800 Cottageview Dr\, Traverse City\, MI\, 49684\, United States
CATEGORIES:Farm Markets & Shopping,Village TC
ATTACH;FMTTYPE=image/jpeg:https://enjoywhereyouare.today/wp-content/uploads/2022/05/Village-at-GT-Commons-farm-market-e1652113281401.jpg
GEO:44.7562455;-85.6434579
X-APPLE-STRUCTURED-LOCATION;VALUE=URI;X-ADDRESS=The Village at Grand Traverse Commons 800 Cottageview Dr Traverse City MI 49684 United States;X-APPLE-RADIUS=500;X-TITLE=800 Cottageview Dr:geo:-85.6434579,44.7562455
END:VEVENT
BEGIN:VEVENT
DTSTART;TZID=America/New_York:20220815T080000
DTEND;TZID=America/New_York:20220815T170000
DTSTAMP:20260425T163913
CREATED:20220509T153416Z
LAST-MODIFIED:20220621T145402Z
UID:10001218-1660550400-1660582800@enjoywhereyouare.today
SUMMARY:Outdoor Farmers Market
DESCRIPTION:The Outdoor Village Farmers Market is back! Join us on The Piazza every Monday from 2pm-6pm. There will be fresh fruits and veggies\, eggs\, honey\, baked goods\, and so much more!
URL:https://enjoywhereyouare.today/events/outdoor-farmers-market/2022-08-15/
LOCATION:The Village at Grand Traverse Commons\, 800 Cottageview Dr\, Traverse City\, MI\, 49684\, United States
CATEGORIES:Farm Markets & Shopping,Village TC
ATTACH;FMTTYPE=image/jpeg:https://enjoywhereyouare.today/wp-content/uploads/2022/05/Village-at-GT-Commons-farm-market-e1652113281401.jpg
GEO:44.7562455;-85.6434579
X-APPLE-STRUCTURED-LOCATION;VALUE=URI;X-ADDRESS=The Village at Grand Traverse Commons 800 Cottageview Dr Traverse City MI 49684 United States;X-APPLE-RADIUS=500;X-TITLE=800 Cottageview Dr:geo:-85.6434579,44.7562455
END:VEVENT
BEGIN:VEVENT
DTSTART;TZID=America/New_York:20220808T080000
DTEND;TZID=America/New_York:20220808T170000
DTSTAMP:20260425T163913
CREATED:20220509T153416Z
LAST-MODIFIED:20220621T145402Z
UID:10001217-1659945600-1659978000@enjoywhereyouare.today
SUMMARY:Outdoor Farmers Market
DESCRIPTION:The Outdoor Village Farmers Market is back! Join us on The Piazza every Monday from 2pm-6pm. There will be fresh fruits and veggies\, eggs\, honey\, baked goods\, and so much more!
URL:https://enjoywhereyouare.today/events/outdoor-farmers-market/2022-08-08/
LOCATION:The Village at Grand Traverse Commons\, 800 Cottageview Dr\, Traverse City\, MI\, 49684\, United States
CATEGORIES:Farm Markets & Shopping,Village TC
ATTACH;FMTTYPE=image/jpeg:https://enjoywhereyouare.today/wp-content/uploads/2022/05/Village-at-GT-Commons-farm-market-e1652113281401.jpg
GEO:44.7562455;-85.6434579
X-APPLE-STRUCTURED-LOCATION;VALUE=URI;X-ADDRESS=The Village at Grand Traverse Commons 800 Cottageview Dr Traverse City MI 49684 United States;X-APPLE-RADIUS=500;X-TITLE=800 Cottageview Dr:geo:-85.6434579,44.7562455
END:VEVENT
BEGIN:VEVENT
DTSTART;TZID=America/New_York:20220801T080000
DTEND;TZID=America/New_York:20220801T170000
DTSTAMP:20260425T163913
CREATED:20220509T153416Z
LAST-MODIFIED:20220621T145402Z
UID:10001216-1659340800-1659373200@enjoywhereyouare.today
SUMMARY:Outdoor Farmers Market
DESCRIPTION:The Outdoor Village Farmers Market is back! Join us on The Piazza every Monday from 2pm-6pm. There will be fresh fruits and veggies\, eggs\, honey\, baked goods\, and so much more!
URL:https://enjoywhereyouare.today/events/outdoor-farmers-market/2022-08-01/
LOCATION:The Village at Grand Traverse Commons\, 800 Cottageview Dr\, Traverse City\, MI\, 49684\, United States
CATEGORIES:Farm Markets & Shopping,Village TC
ATTACH;FMTTYPE=image/jpeg:https://enjoywhereyouare.today/wp-content/uploads/2022/05/Village-at-GT-Commons-farm-market-e1652113281401.jpg
GEO:44.7562455;-85.6434579
X-APPLE-STRUCTURED-LOCATION;VALUE=URI;X-ADDRESS=The Village at Grand Traverse Commons 800 Cottageview Dr Traverse City MI 49684 United States;X-APPLE-RADIUS=500;X-TITLE=800 Cottageview Dr:geo:-85.6434579,44.7562455
END:VEVENT
BEGIN:VEVENT
DTSTART;TZID=America/New_York:20220725T080000
DTEND;TZID=America/New_York:20220725T170000
DTSTAMP:20260425T163913
CREATED:20220509T153416Z
LAST-MODIFIED:20220621T145402Z
UID:10001215-1658736000-1658768400@enjoywhereyouare.today
SUMMARY:Outdoor Farmers Market
DESCRIPTION:The Outdoor Village Farmers Market is back! Join us on The Piazza every Monday from 2pm-6pm. There will be fresh fruits and veggies\, eggs\, honey\, baked goods\, and so much more!
URL:https://enjoywhereyouare.today/events/outdoor-farmers-market/2022-07-25/
LOCATION:The Village at Grand Traverse Commons\, 800 Cottageview Dr\, Traverse City\, MI\, 49684\, United States
CATEGORIES:Farm Markets & Shopping,Village TC
ATTACH;FMTTYPE=image/jpeg:https://enjoywhereyouare.today/wp-content/uploads/2022/05/Village-at-GT-Commons-farm-market-e1652113281401.jpg
GEO:44.7562455;-85.6434579
X-APPLE-STRUCTURED-LOCATION;VALUE=URI;X-ADDRESS=The Village at Grand Traverse Commons 800 Cottageview Dr Traverse City MI 49684 United States;X-APPLE-RADIUS=500;X-TITLE=800 Cottageview Dr:geo:-85.6434579,44.7562455
END:VEVENT
BEGIN:VEVENT
DTSTART;TZID=America/New_York:20220718T080000
DTEND;TZID=America/New_York:20220718T170000
DTSTAMP:20260425T163913
CREATED:20220509T153416Z
LAST-MODIFIED:20220621T145402Z
UID:10001214-1658131200-1658163600@enjoywhereyouare.today
SUMMARY:Outdoor Farmers Market
DESCRIPTION:The Outdoor Village Farmers Market is back! Join us on The Piazza every Monday from 2pm-6pm. There will be fresh fruits and veggies\, eggs\, honey\, baked goods\, and so much more!
URL:https://enjoywhereyouare.today/events/outdoor-farmers-market/2022-07-18/
LOCATION:The Village at Grand Traverse Commons\, 800 Cottageview Dr\, Traverse City\, MI\, 49684\, United States
CATEGORIES:Farm Markets & Shopping,Village TC
ATTACH;FMTTYPE=image/jpeg:https://enjoywhereyouare.today/wp-content/uploads/2022/05/Village-at-GT-Commons-farm-market-e1652113281401.jpg
GEO:44.7562455;-85.6434579
X-APPLE-STRUCTURED-LOCATION;VALUE=URI;X-ADDRESS=The Village at Grand Traverse Commons 800 Cottageview Dr Traverse City MI 49684 United States;X-APPLE-RADIUS=500;X-TITLE=800 Cottageview Dr:geo:-85.6434579,44.7562455
END:VEVENT
BEGIN:VEVENT
DTSTART;TZID=America/New_York:20220711T080000
DTEND;TZID=America/New_York:20220711T170000
DTSTAMP:20260425T163913
CREATED:20220509T153416Z
LAST-MODIFIED:20220621T145402Z
UID:10001213-1657526400-1657558800@enjoywhereyouare.today
SUMMARY:Outdoor Farmers Market
DESCRIPTION:The Outdoor Village Farmers Market is back! Join us on The Piazza every Monday from 2pm-6pm. There will be fresh fruits and veggies\, eggs\, honey\, baked goods\, and so much more!
URL:https://enjoywhereyouare.today/events/outdoor-farmers-market/2022-07-11/
LOCATION:The Village at Grand Traverse Commons\, 800 Cottageview Dr\, Traverse City\, MI\, 49684\, United States
CATEGORIES:Farm Markets & Shopping,Village TC
ATTACH;FMTTYPE=image/jpeg:https://enjoywhereyouare.today/wp-content/uploads/2022/05/Village-at-GT-Commons-farm-market-e1652113281401.jpg
GEO:44.7562455;-85.6434579
X-APPLE-STRUCTURED-LOCATION;VALUE=URI;X-ADDRESS=The Village at Grand Traverse Commons 800 Cottageview Dr Traverse City MI 49684 United States;X-APPLE-RADIUS=500;X-TITLE=800 Cottageview Dr:geo:-85.6434579,44.7562455
END:VEVENT
BEGIN:VEVENT
DTSTART;TZID=America/New_York:20220704T080000
DTEND;TZID=America/New_York:20220704T170000
DTSTAMP:20260425T163913
CREATED:20220509T153416Z
LAST-MODIFIED:20220621T145402Z
UID:10001212-1656921600-1656954000@enjoywhereyouare.today
SUMMARY:Outdoor Farmers Market
DESCRIPTION:The Outdoor Village Farmers Market is back! Join us on The Piazza every Monday from 2pm-6pm. There will be fresh fruits and veggies\, eggs\, honey\, baked goods\, and so much more!
URL:https://enjoywhereyouare.today/events/outdoor-farmers-market/2022-07-04/
LOCATION:The Village at Grand Traverse Commons\, 800 Cottageview Dr\, Traverse City\, MI\, 49684\, United States
CATEGORIES:Farm Markets & Shopping,Village TC
ATTACH;FMTTYPE=image/jpeg:https://enjoywhereyouare.today/wp-content/uploads/2022/05/Village-at-GT-Commons-farm-market-e1652113281401.jpg
GEO:44.7562455;-85.6434579
X-APPLE-STRUCTURED-LOCATION;VALUE=URI;X-ADDRESS=The Village at Grand Traverse Commons 800 Cottageview Dr Traverse City MI 49684 United States;X-APPLE-RADIUS=500;X-TITLE=800 Cottageview Dr:geo:-85.6434579,44.7562455
END:VEVENT
BEGIN:VEVENT
DTSTART;TZID=America/New_York:20220627T080000
DTEND;TZID=America/New_York:20220627T170000
DTSTAMP:20260425T163913
CREATED:20220509T153416Z
LAST-MODIFIED:20220621T145402Z
UID:10001211-1656316800-1656349200@enjoywhereyouare.today
SUMMARY:Outdoor Farmers Market
DESCRIPTION:The Outdoor Village Farmers Market is back! Join us on The Piazza every Monday from 2pm-6pm. There will be fresh fruits and veggies\, eggs\, honey\, baked goods\, and so much more!
URL:https://enjoywhereyouare.today/events/outdoor-farmers-market/2022-06-27/
LOCATION:The Village at Grand Traverse Commons\, 800 Cottageview Dr\, Traverse City\, MI\, 49684\, United States
CATEGORIES:Farm Markets & Shopping,Village TC
ATTACH;FMTTYPE=image/jpeg:https://enjoywhereyouare.today/wp-content/uploads/2022/05/Village-at-GT-Commons-farm-market-e1652113281401.jpg
GEO:44.7562455;-85.6434579
X-APPLE-STRUCTURED-LOCATION;VALUE=URI;X-ADDRESS=The Village at Grand Traverse Commons 800 Cottageview Dr Traverse City MI 49684 United States;X-APPLE-RADIUS=500;X-TITLE=800 Cottageview Dr:geo:-85.6434579,44.7562455
END:VEVENT
BEGIN:VEVENT
DTSTART;TZID=America/New_York:20220620T080000
DTEND;TZID=America/New_York:20220620T170000
DTSTAMP:20260425T163913
CREATED:20220509T153416Z
LAST-MODIFIED:20220621T145402Z
UID:10001210-1655712000-1655744400@enjoywhereyouare.today
SUMMARY:Outdoor Farmers Market
DESCRIPTION:The Outdoor Village Farmers Market is back! Join us on The Piazza every Monday from 2pm-6pm. There will be fresh fruits and veggies\, eggs\, honey\, baked goods\, and so much more!
URL:https://enjoywhereyouare.today/events/outdoor-farmers-market/2022-06-20/
LOCATION:The Village at Grand Traverse Commons\, 800 Cottageview Dr\, Traverse City\, MI\, 49684\, United States
CATEGORIES:Farm Markets & Shopping,Village TC
ATTACH;FMTTYPE=image/jpeg:https://enjoywhereyouare.today/wp-content/uploads/2022/05/Village-at-GT-Commons-farm-market-e1652113281401.jpg
GEO:44.7562455;-85.6434579
X-APPLE-STRUCTURED-LOCATION;VALUE=URI;X-ADDRESS=The Village at Grand Traverse Commons 800 Cottageview Dr Traverse City MI 49684 United States;X-APPLE-RADIUS=500;X-TITLE=800 Cottageview Dr:geo:-85.6434579,44.7562455
END:VEVENT
BEGIN:VEVENT
DTSTART;TZID=America/New_York:20220613T080000
DTEND;TZID=America/New_York:20220613T170000
DTSTAMP:20260425T163913
CREATED:20220509T153416Z
LAST-MODIFIED:20220621T145402Z
UID:10001209-1655107200-1655139600@enjoywhereyouare.today
SUMMARY:Outdoor Farmers Market
DESCRIPTION:The Outdoor Village Farmers Market is back! Join us on The Piazza every Monday from 2pm-6pm. There will be fresh fruits and veggies\, eggs\, honey\, baked goods\, and so much more!
URL:https://enjoywhereyouare.today/events/outdoor-farmers-market/2022-06-13/
LOCATION:The Village at Grand Traverse Commons\, 800 Cottageview Dr\, Traverse City\, MI\, 49684\, United States
CATEGORIES:Farm Markets & Shopping,Village TC
ATTACH;FMTTYPE=image/jpeg:https://enjoywhereyouare.today/wp-content/uploads/2022/05/Village-at-GT-Commons-farm-market-e1652113281401.jpg
GEO:44.7562455;-85.6434579
X-APPLE-STRUCTURED-LOCATION;VALUE=URI;X-ADDRESS=The Village at Grand Traverse Commons 800 Cottageview Dr Traverse City MI 49684 United States;X-APPLE-RADIUS=500;X-TITLE=800 Cottageview Dr:geo:-85.6434579,44.7562455
END:VEVENT
BEGIN:VEVENT
DTSTART;TZID=America/New_York:20220606T080000
DTEND;TZID=America/New_York:20220606T170000
DTSTAMP:20260425T163913
CREATED:20220509T153416Z
LAST-MODIFIED:20220621T145402Z
UID:10001208-1654502400-1654534800@enjoywhereyouare.today
SUMMARY:Outdoor Farmers Market
DESCRIPTION:The Outdoor Village Farmers Market is back! Join us on The Piazza every Monday from 2pm-6pm. There will be fresh fruits and veggies\, eggs\, honey\, baked goods\, and so much more!
URL:https://enjoywhereyouare.today/events/outdoor-farmers-market/2022-06-06/
LOCATION:The Village at Grand Traverse Commons\, 800 Cottageview Dr\, Traverse City\, MI\, 49684\, United States
CATEGORIES:Farm Markets & Shopping,Village TC
ATTACH;FMTTYPE=image/jpeg:https://enjoywhereyouare.today/wp-content/uploads/2022/05/Village-at-GT-Commons-farm-market-e1652113281401.jpg
GEO:44.7562455;-85.6434579
X-APPLE-STRUCTURED-LOCATION;VALUE=URI;X-ADDRESS=The Village at Grand Traverse Commons 800 Cottageview Dr Traverse City MI 49684 United States;X-APPLE-RADIUS=500;X-TITLE=800 Cottageview Dr:geo:-85.6434579,44.7562455
END:VEVENT
BEGIN:VEVENT
DTSTART;TZID=America/New_York:20220530T080000
DTEND;TZID=America/New_York:20220530T170000
DTSTAMP:20260425T163913
CREATED:20220509T153416Z
LAST-MODIFIED:20220621T145402Z
UID:10001207-1653897600-1653930000@enjoywhereyouare.today
SUMMARY:Outdoor Farmers Market
DESCRIPTION:The Outdoor Village Farmers Market is back! Join us on The Piazza every Monday from 2pm-6pm. There will be fresh fruits and veggies\, eggs\, honey\, baked goods\, and so much more!
URL:https://enjoywhereyouare.today/events/outdoor-farmers-market/2022-05-30/
LOCATION:The Village at Grand Traverse Commons\, 800 Cottageview Dr\, Traverse City\, MI\, 49684\, United States
CATEGORIES:Farm Markets & Shopping,Village TC
ATTACH;FMTTYPE=image/jpeg:https://enjoywhereyouare.today/wp-content/uploads/2022/05/Village-at-GT-Commons-farm-market-e1652113281401.jpg
GEO:44.7562455;-85.6434579
X-APPLE-STRUCTURED-LOCATION;VALUE=URI;X-ADDRESS=The Village at Grand Traverse Commons 800 Cottageview Dr Traverse City MI 49684 United States;X-APPLE-RADIUS=500;X-TITLE=800 Cottageview Dr:geo:-85.6434579,44.7562455
END:VEVENT
BEGIN:VEVENT
DTSTART;TZID=America/New_York:20220523T080000
DTEND;TZID=America/New_York:20220523T170000
DTSTAMP:20260425T163913
CREATED:20220509T153416Z
LAST-MODIFIED:20220621T145402Z
UID:10001206-1653292800-1653325200@enjoywhereyouare.today
SUMMARY:Outdoor Farmers Market
DESCRIPTION:The Outdoor Village Farmers Market is back! Join us on The Piazza every Monday from 2pm-6pm. There will be fresh fruits and veggies\, eggs\, honey\, baked goods\, and so much more!
URL:https://enjoywhereyouare.today/events/outdoor-farmers-market/2022-05-23/
LOCATION:The Village at Grand Traverse Commons\, 800 Cottageview Dr\, Traverse City\, MI\, 49684\, United States
CATEGORIES:Farm Markets & Shopping,Village TC
ATTACH;FMTTYPE=image/jpeg:https://enjoywhereyouare.today/wp-content/uploads/2022/05/Village-at-GT-Commons-farm-market-e1652113281401.jpg
GEO:44.7562455;-85.6434579
X-APPLE-STRUCTURED-LOCATION;VALUE=URI;X-ADDRESS=The Village at Grand Traverse Commons 800 Cottageview Dr Traverse City MI 49684 United States;X-APPLE-RADIUS=500;X-TITLE=800 Cottageview Dr:geo:-85.6434579,44.7562455
END:VEVENT
BEGIN:VEVENT
DTSTART;TZID=America/New_York:20220516T080000
DTEND;TZID=America/New_York:20220516T170000
DTSTAMP:20260425T163913
CREATED:20220509T153416Z
LAST-MODIFIED:20220621T145402Z
UID:10001205-1652688000-1652720400@enjoywhereyouare.today
SUMMARY:Outdoor Farmers Market
DESCRIPTION:The Outdoor Village Farmers Market is back! Join us on The Piazza every Monday from 2pm-6pm. There will be fresh fruits and veggies\, eggs\, honey\, baked goods\, and so much more!
URL:https://enjoywhereyouare.today/events/outdoor-farmers-market/2022-05-16/
LOCATION:The Village at Grand Traverse Commons\, 800 Cottageview Dr\, Traverse City\, MI\, 49684\, United States
CATEGORIES:Farm Markets & Shopping,Village TC
ATTACH;FMTTYPE=image/jpeg:https://enjoywhereyouare.today/wp-content/uploads/2022/05/Village-at-GT-Commons-farm-market-e1652113281401.jpg
GEO:44.7562455;-85.6434579
X-APPLE-STRUCTURED-LOCATION;VALUE=URI;X-ADDRESS=The Village at Grand Traverse Commons 800 Cottageview Dr Traverse City MI 49684 United States;X-APPLE-RADIUS=500;X-TITLE=800 Cottageview Dr:geo:-85.6434579,44.7562455
END:VEVENT
END:VCALENDAR