BEGIN:VCALENDAR
VERSION:2.0
PRODID:-//Enjoy Where You Are - ECPv6.5.2//NONSGML v1.0//EN
CALSCALE:GREGORIAN
METHOD:PUBLISH
X-WR-CALNAME:Enjoy Where You Are
X-ORIGINAL-URL:https://enjoywhereyouare.today
X-WR-CALDESC:Events for Enjoy Where You Are
REFRESH-INTERVAL;VALUE=DURATION:PT1H
X-Robots-Tag:noindex
X-PUBLISHED-TTL:PT1H
BEGIN:VTIMEZONE
TZID:America/New_York
BEGIN:DAYLIGHT
TZOFFSETFROM:-0500
TZOFFSETTO:-0400
TZNAME:EDT
DTSTART:20250309T070000
END:DAYLIGHT
BEGIN:STANDARD
TZOFFSETFROM:-0400
TZOFFSETTO:-0500
TZNAME:EST
DTSTART:20251102T060000
END:STANDARD
BEGIN:DAYLIGHT
TZOFFSETFROM:-0500
TZOFFSETTO:-0400
TZNAME:EDT
DTSTART:20260308T070000
END:DAYLIGHT
BEGIN:STANDARD
TZOFFSETFROM:-0400
TZOFFSETTO:-0500
TZNAME:EST
DTSTART:20261101T060000
END:STANDARD
END:VTIMEZONE
BEGIN:VEVENT
DTSTART;TZID=America/New_York:20260108T193000
DTEND;TZID=America/New_York:20260108T223000
DTSTAMP:20260424T092825
CREATED:20250609T143445Z
LAST-MODIFIED:20260106T205541Z
UID:10015353-1767900600-1767911400@enjoywhereyouare.today
SUMMARY:Music Bingo
DESCRIPTION:FREE TO PLAY!!! \n \n 
URL:https://enjoywhereyouare.today/events/music-bingo/2026-01-08/
LOCATION:The Pub\, 160 E Front St\, Traverse City\, MI\, 49684
CATEGORIES:*Downtown TC and Traverse City,Bar Games & Date Nights,The Parlor The Pub North Bar
ATTACH;FMTTYPE=image/jpeg:https://enjoywhereyouare.today/wp-content/uploads/2025/06/The-Pub-Music-Bingo-1.jpg
GEO:44.7638478;-85.6212028
X-APPLE-STRUCTURED-LOCATION;VALUE=URI;X-ADDRESS=The Pub 160 E Front St Traverse City MI 49684;X-APPLE-RADIUS=500;X-TITLE=160 E Front St:geo:-85.6212028,44.7638478
END:VEVENT
BEGIN:VEVENT
DTSTART;TZID=America/New_York:20260108T140000
DTEND;TZID=America/New_York:20260108T170000
DTSTAMP:20260424T092825
CREATED:20250915T203347Z
LAST-MODIFIED:20250915T203347Z
UID:10014426-1767880800-1767891600@enjoywhereyouare.today
SUMMARY:Happy Hour
DESCRIPTION:Monday-Friday from 2-5pm. Half Off all of your favorite drinks. Includes Pub classics or one of 20 tap beers. ENJOY!!!
URL:https://enjoywhereyouare.today/events/happy-hour-6/2026-01-08/
LOCATION:The Pub\, 160 E Front St\, Traverse City\, MI\, 49684
CATEGORIES:*Downtown TC and Traverse City,Daily Specials
ATTACH;FMTTYPE=image/jpeg:https://enjoywhereyouare.today/wp-content/uploads/2025/09/The-Pub-TC-Happy-Hour.jpg
GEO:44.7638478;-85.6212028
X-APPLE-STRUCTURED-LOCATION;VALUE=URI;X-ADDRESS=The Pub 160 E Front St Traverse City MI 49684;X-APPLE-RADIUS=500;X-TITLE=160 E Front St:geo:-85.6212028,44.7638478
END:VEVENT
BEGIN:VEVENT
DTSTART;TZID=America/New_York:20260107T140000
DTEND;TZID=America/New_York:20260107T170000
DTSTAMP:20260424T092825
CREATED:20250915T203347Z
LAST-MODIFIED:20250915T203347Z
UID:10014425-1767794400-1767805200@enjoywhereyouare.today
SUMMARY:Happy Hour
DESCRIPTION:Monday-Friday from 2-5pm. Half Off all of your favorite drinks. Includes Pub classics or one of 20 tap beers. ENJOY!!!
URL:https://enjoywhereyouare.today/events/happy-hour-6/2026-01-07/
LOCATION:The Pub\, 160 E Front St\, Traverse City\, MI\, 49684
CATEGORIES:*Downtown TC and Traverse City,Daily Specials
ATTACH;FMTTYPE=image/jpeg:https://enjoywhereyouare.today/wp-content/uploads/2025/09/The-Pub-TC-Happy-Hour.jpg
GEO:44.7638478;-85.6212028
X-APPLE-STRUCTURED-LOCATION;VALUE=URI;X-ADDRESS=The Pub 160 E Front St Traverse City MI 49684;X-APPLE-RADIUS=500;X-TITLE=160 E Front St:geo:-85.6212028,44.7638478
END:VEVENT
BEGIN:VEVENT
DTSTART;TZID=America/New_York:20260106T140000
DTEND;TZID=America/New_York:20260106T170000
DTSTAMP:20260424T092825
CREATED:20250915T203347Z
LAST-MODIFIED:20250915T203347Z
UID:10014424-1767708000-1767718800@enjoywhereyouare.today
SUMMARY:Happy Hour
DESCRIPTION:Monday-Friday from 2-5pm. Half Off all of your favorite drinks. Includes Pub classics or one of 20 tap beers. ENJOY!!!
URL:https://enjoywhereyouare.today/events/happy-hour-6/2026-01-06/
LOCATION:The Pub\, 160 E Front St\, Traverse City\, MI\, 49684
CATEGORIES:*Downtown TC and Traverse City,Daily Specials
ATTACH;FMTTYPE=image/jpeg:https://enjoywhereyouare.today/wp-content/uploads/2025/09/The-Pub-TC-Happy-Hour.jpg
GEO:44.7638478;-85.6212028
X-APPLE-STRUCTURED-LOCATION;VALUE=URI;X-ADDRESS=The Pub 160 E Front St Traverse City MI 49684;X-APPLE-RADIUS=500;X-TITLE=160 E Front St:geo:-85.6212028,44.7638478
END:VEVENT
BEGIN:VEVENT
DTSTART;TZID=America/New_York:20260105T140000
DTEND;TZID=America/New_York:20260105T170000
DTSTAMP:20260424T092825
CREATED:20250915T203347Z
LAST-MODIFIED:20250915T203347Z
UID:10014423-1767621600-1767632400@enjoywhereyouare.today
SUMMARY:Happy Hour
DESCRIPTION:Monday-Friday from 2-5pm. Half Off all of your favorite drinks. Includes Pub classics or one of 20 tap beers. ENJOY!!!
URL:https://enjoywhereyouare.today/events/happy-hour-6/2026-01-05/
LOCATION:The Pub\, 160 E Front St\, Traverse City\, MI\, 49684
CATEGORIES:*Downtown TC and Traverse City,Daily Specials
ATTACH;FMTTYPE=image/jpeg:https://enjoywhereyouare.today/wp-content/uploads/2025/09/The-Pub-TC-Happy-Hour.jpg
GEO:44.7638478;-85.6212028
X-APPLE-STRUCTURED-LOCATION;VALUE=URI;X-ADDRESS=The Pub 160 E Front St Traverse City MI 49684;X-APPLE-RADIUS=500;X-TITLE=160 E Front St:geo:-85.6212028,44.7638478
END:VEVENT
BEGIN:VEVENT
DTSTART;TZID=America/New_York:20260102T170000
DTEND;TZID=America/New_York:20260102T200000
DTSTAMP:20260424T092825
CREATED:20240917T132515Z
LAST-MODIFIED:20260106T193714Z
UID:10015319-1767373200-1767384000@enjoywhereyouare.today
SUMMARY:All-You-Can-Eat FISH FRY
DESCRIPTION:
URL:https://enjoywhereyouare.today/events/fish-fry-fridays/2026-01-02/
LOCATION:The Pub\, 160 E Front St\, Traverse City\, MI\, 49684
CATEGORIES:*Downtown TC and Traverse City,Daily Specials
ATTACH;FMTTYPE=image/jpeg:https://enjoywhereyouare.today/wp-content/uploads/2024/09/The-Pub-Fish-Fry-event.jpg
GEO:44.7638478;-85.6212028
X-APPLE-STRUCTURED-LOCATION;VALUE=URI;X-ADDRESS=The Pub 160 E Front St Traverse City MI 49684;X-APPLE-RADIUS=500;X-TITLE=160 E Front St:geo:-85.6212028,44.7638478
END:VEVENT
BEGIN:VEVENT
DTSTART;TZID=America/New_York:20260102T140000
DTEND;TZID=America/New_York:20260102T170000
DTSTAMP:20260424T092825
CREATED:20250915T203347Z
LAST-MODIFIED:20250915T203347Z
UID:10014422-1767362400-1767373200@enjoywhereyouare.today
SUMMARY:Happy Hour
DESCRIPTION:Monday-Friday from 2-5pm. Half Off all of your favorite drinks. Includes Pub classics or one of 20 tap beers. ENJOY!!!
URL:https://enjoywhereyouare.today/events/happy-hour-6/2026-01-02/
LOCATION:The Pub\, 160 E Front St\, Traverse City\, MI\, 49684
CATEGORIES:*Downtown TC and Traverse City,Daily Specials
ATTACH;FMTTYPE=image/jpeg:https://enjoywhereyouare.today/wp-content/uploads/2025/09/The-Pub-TC-Happy-Hour.jpg
GEO:44.7638478;-85.6212028
X-APPLE-STRUCTURED-LOCATION;VALUE=URI;X-ADDRESS=The Pub 160 E Front St Traverse City MI 49684;X-APPLE-RADIUS=500;X-TITLE=160 E Front St:geo:-85.6212028,44.7638478
END:VEVENT
BEGIN:VEVENT
DTSTART;TZID=America/New_York:20260101T193000
DTEND;TZID=America/New_York:20260101T223000
DTSTAMP:20260424T092825
CREATED:20250609T143445Z
LAST-MODIFIED:20260106T205541Z
UID:10015352-1767295800-1767306600@enjoywhereyouare.today
SUMMARY:Music Bingo
DESCRIPTION:FREE TO PLAY!!! \n \n 
URL:https://enjoywhereyouare.today/events/music-bingo/2026-01-01/
LOCATION:The Pub\, 160 E Front St\, Traverse City\, MI\, 49684
CATEGORIES:*Downtown TC and Traverse City,Bar Games & Date Nights,The Parlor The Pub North Bar
ATTACH;FMTTYPE=image/jpeg:https://enjoywhereyouare.today/wp-content/uploads/2025/06/The-Pub-Music-Bingo-1.jpg
GEO:44.7638478;-85.6212028
X-APPLE-STRUCTURED-LOCATION;VALUE=URI;X-ADDRESS=The Pub 160 E Front St Traverse City MI 49684;X-APPLE-RADIUS=500;X-TITLE=160 E Front St:geo:-85.6212028,44.7638478
END:VEVENT
BEGIN:VEVENT
DTSTART;TZID=America/New_York:20260101T140000
DTEND;TZID=America/New_York:20260101T170000
DTSTAMP:20260424T092825
CREATED:20250915T203347Z
LAST-MODIFIED:20250915T203347Z
UID:10014421-1767276000-1767286800@enjoywhereyouare.today
SUMMARY:Happy Hour
DESCRIPTION:Monday-Friday from 2-5pm. Half Off all of your favorite drinks. Includes Pub classics or one of 20 tap beers. ENJOY!!!
URL:https://enjoywhereyouare.today/events/happy-hour-6/2026-01-01/
LOCATION:The Pub\, 160 E Front St\, Traverse City\, MI\, 49684
CATEGORIES:*Downtown TC and Traverse City,Daily Specials
ATTACH;FMTTYPE=image/jpeg:https://enjoywhereyouare.today/wp-content/uploads/2025/09/The-Pub-TC-Happy-Hour.jpg
GEO:44.7638478;-85.6212028
X-APPLE-STRUCTURED-LOCATION;VALUE=URI;X-ADDRESS=The Pub 160 E Front St Traverse City MI 49684;X-APPLE-RADIUS=500;X-TITLE=160 E Front St:geo:-85.6212028,44.7638478
END:VEVENT
BEGIN:VEVENT
DTSTART;TZID=America/New_York:20251231T190000
DTEND;TZID=America/New_York:20251231T220000
DTSTAMP:20260424T092825
CREATED:20250609T150456Z
LAST-MODIFIED:20250611T135302Z
UID:10014030-1767207600-1767218400@enjoywhereyouare.today
SUMMARY:Zeke Clemons
DESCRIPTION:
URL:https://enjoywhereyouare.today/events/zeke-clemons/2025-12-31/
LOCATION:The Pub\, 160 E Front St\, Traverse City\, MI\, 49684
CATEGORIES:Music
ATTACH;FMTTYPE=image/jpeg:https://enjoywhereyouare.today/wp-content/uploads/2025/06/The-Pub-Zeke-Clemons.jpg
GEO:44.7638478;-85.6212028
X-APPLE-STRUCTURED-LOCATION;VALUE=URI;X-ADDRESS=The Pub 160 E Front St Traverse City MI 49684;X-APPLE-RADIUS=500;X-TITLE=160 E Front St:geo:-85.6212028,44.7638478
END:VEVENT
BEGIN:VEVENT
DTSTART;TZID=America/New_York:20251231T180000
DTEND;TZID=America/New_York:20251231T233000
DTSTAMP:20260424T092825
CREATED:20250609T145852Z
LAST-MODIFIED:20250611T135302Z
UID:10013999-1767204000-1767223800@enjoywhereyouare.today
SUMMARY:HALF OFF Pitchers!
DESCRIPTION:Every Wednesday 6pm – Midnight. Music by Zeke Clemons 7-10pm
URL:https://enjoywhereyouare.today/events/half-off-pitchers/2025-12-31/
LOCATION:The Pub\, 160 E Front St\, Traverse City\, MI\, 49684
CATEGORIES:*Downtown TC and Traverse City,Daily Specials
ATTACH;FMTTYPE=image/jpeg:https://enjoywhereyouare.today/wp-content/uploads/2025/06/The-Pub-half-off-pitchers.jpg
GEO:44.7638478;-85.6212028
X-APPLE-STRUCTURED-LOCATION;VALUE=URI;X-ADDRESS=The Pub 160 E Front St Traverse City MI 49684;X-APPLE-RADIUS=500;X-TITLE=160 E Front St:geo:-85.6212028,44.7638478
END:VEVENT
BEGIN:VEVENT
DTSTART;TZID=America/New_York:20251231T140000
DTEND;TZID=America/New_York:20251231T170000
DTSTAMP:20260424T092825
CREATED:20250915T203347Z
LAST-MODIFIED:20250915T203347Z
UID:10014420-1767189600-1767200400@enjoywhereyouare.today
SUMMARY:Happy Hour
DESCRIPTION:Monday-Friday from 2-5pm. Half Off all of your favorite drinks. Includes Pub classics or one of 20 tap beers. ENJOY!!!
URL:https://enjoywhereyouare.today/events/happy-hour-6/2025-12-31/
LOCATION:The Pub\, 160 E Front St\, Traverse City\, MI\, 49684
CATEGORIES:*Downtown TC and Traverse City,Daily Specials
ATTACH;FMTTYPE=image/jpeg:https://enjoywhereyouare.today/wp-content/uploads/2025/09/The-Pub-TC-Happy-Hour.jpg
GEO:44.7638478;-85.6212028
X-APPLE-STRUCTURED-LOCATION;VALUE=URI;X-ADDRESS=The Pub 160 E Front St Traverse City MI 49684;X-APPLE-RADIUS=500;X-TITLE=160 E Front St:geo:-85.6212028,44.7638478
END:VEVENT
BEGIN:VEVENT
DTSTART;TZID=America/New_York:20251230T140000
DTEND;TZID=America/New_York:20251230T170000
DTSTAMP:20260424T092825
CREATED:20250915T203347Z
LAST-MODIFIED:20250915T203347Z
UID:10014419-1767103200-1767114000@enjoywhereyouare.today
SUMMARY:Happy Hour
DESCRIPTION:Monday-Friday from 2-5pm. Half Off all of your favorite drinks. Includes Pub classics or one of 20 tap beers. ENJOY!!!
URL:https://enjoywhereyouare.today/events/happy-hour-6/2025-12-30/
LOCATION:The Pub\, 160 E Front St\, Traverse City\, MI\, 49684
CATEGORIES:*Downtown TC and Traverse City,Daily Specials
ATTACH;FMTTYPE=image/jpeg:https://enjoywhereyouare.today/wp-content/uploads/2025/09/The-Pub-TC-Happy-Hour.jpg
GEO:44.7638478;-85.6212028
X-APPLE-STRUCTURED-LOCATION;VALUE=URI;X-ADDRESS=The Pub 160 E Front St Traverse City MI 49684;X-APPLE-RADIUS=500;X-TITLE=160 E Front St:geo:-85.6212028,44.7638478
END:VEVENT
BEGIN:VEVENT
DTSTART;TZID=America/New_York:20251229T140000
DTEND;TZID=America/New_York:20251229T170000
DTSTAMP:20260424T092825
CREATED:20250915T203347Z
LAST-MODIFIED:20250915T203347Z
UID:10014418-1767016800-1767027600@enjoywhereyouare.today
SUMMARY:Happy Hour
DESCRIPTION:Monday-Friday from 2-5pm. Half Off all of your favorite drinks. Includes Pub classics or one of 20 tap beers. ENJOY!!!
URL:https://enjoywhereyouare.today/events/happy-hour-6/2025-12-29/
LOCATION:The Pub\, 160 E Front St\, Traverse City\, MI\, 49684
CATEGORIES:*Downtown TC and Traverse City,Daily Specials
ATTACH;FMTTYPE=image/jpeg:https://enjoywhereyouare.today/wp-content/uploads/2025/09/The-Pub-TC-Happy-Hour.jpg
GEO:44.7638478;-85.6212028
X-APPLE-STRUCTURED-LOCATION;VALUE=URI;X-ADDRESS=The Pub 160 E Front St Traverse City MI 49684;X-APPLE-RADIUS=500;X-TITLE=160 E Front St:geo:-85.6212028,44.7638478
END:VEVENT
BEGIN:VEVENT
DTSTART;TZID=America/New_York:20251226T170000
DTEND;TZID=America/New_York:20251226T200000
DTSTAMP:20260424T092825
CREATED:20240917T132515Z
LAST-MODIFIED:20260106T193714Z
UID:10013937-1766768400-1766779200@enjoywhereyouare.today
SUMMARY:All-You-Can-Eat FISH FRY
DESCRIPTION:
URL:https://enjoywhereyouare.today/events/fish-fry-fridays/2025-12-26/
LOCATION:The Pub\, 160 E Front St\, Traverse City\, MI\, 49684
CATEGORIES:*Downtown TC and Traverse City,Daily Specials
ATTACH;FMTTYPE=image/jpeg:https://enjoywhereyouare.today/wp-content/uploads/2024/09/The-Pub-Fish-Fry-event.jpg
GEO:44.7638478;-85.6212028
X-APPLE-STRUCTURED-LOCATION;VALUE=URI;X-ADDRESS=The Pub 160 E Front St Traverse City MI 49684;X-APPLE-RADIUS=500;X-TITLE=160 E Front St:geo:-85.6212028,44.7638478
END:VEVENT
BEGIN:VEVENT
DTSTART;TZID=America/New_York:20251226T140000
DTEND;TZID=America/New_York:20251226T170000
DTSTAMP:20260424T092825
CREATED:20250915T203347Z
LAST-MODIFIED:20250915T203347Z
UID:10014417-1766757600-1766768400@enjoywhereyouare.today
SUMMARY:Happy Hour
DESCRIPTION:Monday-Friday from 2-5pm. Half Off all of your favorite drinks. Includes Pub classics or one of 20 tap beers. ENJOY!!!
URL:https://enjoywhereyouare.today/events/happy-hour-6/2025-12-26/
LOCATION:The Pub\, 160 E Front St\, Traverse City\, MI\, 49684
CATEGORIES:*Downtown TC and Traverse City,Daily Specials
ATTACH;FMTTYPE=image/jpeg:https://enjoywhereyouare.today/wp-content/uploads/2025/09/The-Pub-TC-Happy-Hour.jpg
GEO:44.7638478;-85.6212028
X-APPLE-STRUCTURED-LOCATION;VALUE=URI;X-ADDRESS=The Pub 160 E Front St Traverse City MI 49684;X-APPLE-RADIUS=500;X-TITLE=160 E Front St:geo:-85.6212028,44.7638478
END:VEVENT
BEGIN:VEVENT
DTSTART;TZID=America/New_York:20251225T193000
DTEND;TZID=America/New_York:20251225T223000
DTSTAMP:20260424T092825
CREATED:20250609T143445Z
LAST-MODIFIED:20260106T205541Z
UID:10015351-1766691000-1766701800@enjoywhereyouare.today
SUMMARY:Music Bingo
DESCRIPTION:FREE TO PLAY!!! \n \n 
URL:https://enjoywhereyouare.today/events/music-bingo/2025-12-25/
LOCATION:The Pub\, 160 E Front St\, Traverse City\, MI\, 49684
CATEGORIES:*Downtown TC and Traverse City,Bar Games & Date Nights,The Parlor The Pub North Bar
ATTACH;FMTTYPE=image/jpeg:https://enjoywhereyouare.today/wp-content/uploads/2025/06/The-Pub-Music-Bingo-1.jpg
GEO:44.7638478;-85.6212028
X-APPLE-STRUCTURED-LOCATION;VALUE=URI;X-ADDRESS=The Pub 160 E Front St Traverse City MI 49684;X-APPLE-RADIUS=500;X-TITLE=160 E Front St:geo:-85.6212028,44.7638478
END:VEVENT
BEGIN:VEVENT
DTSTART;TZID=America/New_York:20251225T140000
DTEND;TZID=America/New_York:20251225T170000
DTSTAMP:20260424T092825
CREATED:20250915T203347Z
LAST-MODIFIED:20250915T203347Z
UID:10014416-1766671200-1766682000@enjoywhereyouare.today
SUMMARY:Happy Hour
DESCRIPTION:Monday-Friday from 2-5pm. Half Off all of your favorite drinks. Includes Pub classics or one of 20 tap beers. ENJOY!!!
URL:https://enjoywhereyouare.today/events/happy-hour-6/2025-12-25/
LOCATION:The Pub\, 160 E Front St\, Traverse City\, MI\, 49684
CATEGORIES:*Downtown TC and Traverse City,Daily Specials
ATTACH;FMTTYPE=image/jpeg:https://enjoywhereyouare.today/wp-content/uploads/2025/09/The-Pub-TC-Happy-Hour.jpg
GEO:44.7638478;-85.6212028
X-APPLE-STRUCTURED-LOCATION;VALUE=URI;X-ADDRESS=The Pub 160 E Front St Traverse City MI 49684;X-APPLE-RADIUS=500;X-TITLE=160 E Front St:geo:-85.6212028,44.7638478
END:VEVENT
BEGIN:VEVENT
DTSTART;TZID=America/New_York:20251224T190000
DTEND;TZID=America/New_York:20251224T220000
DTSTAMP:20260424T092825
CREATED:20250609T150456Z
LAST-MODIFIED:20250611T135302Z
UID:10014029-1766602800-1766613600@enjoywhereyouare.today
SUMMARY:Zeke Clemons
DESCRIPTION:
URL:https://enjoywhereyouare.today/events/zeke-clemons/2025-12-24/
LOCATION:The Pub\, 160 E Front St\, Traverse City\, MI\, 49684
CATEGORIES:Music
ATTACH;FMTTYPE=image/jpeg:https://enjoywhereyouare.today/wp-content/uploads/2025/06/The-Pub-Zeke-Clemons.jpg
GEO:44.7638478;-85.6212028
X-APPLE-STRUCTURED-LOCATION;VALUE=URI;X-ADDRESS=The Pub 160 E Front St Traverse City MI 49684;X-APPLE-RADIUS=500;X-TITLE=160 E Front St:geo:-85.6212028,44.7638478
END:VEVENT
BEGIN:VEVENT
DTSTART;TZID=America/New_York:20251224T180000
DTEND;TZID=America/New_York:20251224T233000
DTSTAMP:20260424T092825
CREATED:20250609T145852Z
LAST-MODIFIED:20250611T135302Z
UID:10013998-1766599200-1766619000@enjoywhereyouare.today
SUMMARY:HALF OFF Pitchers!
DESCRIPTION:Every Wednesday 6pm – Midnight. Music by Zeke Clemons 7-10pm
URL:https://enjoywhereyouare.today/events/half-off-pitchers/2025-12-24/
LOCATION:The Pub\, 160 E Front St\, Traverse City\, MI\, 49684
CATEGORIES:*Downtown TC and Traverse City,Daily Specials
ATTACH;FMTTYPE=image/jpeg:https://enjoywhereyouare.today/wp-content/uploads/2025/06/The-Pub-half-off-pitchers.jpg
GEO:44.7638478;-85.6212028
X-APPLE-STRUCTURED-LOCATION;VALUE=URI;X-ADDRESS=The Pub 160 E Front St Traverse City MI 49684;X-APPLE-RADIUS=500;X-TITLE=160 E Front St:geo:-85.6212028,44.7638478
END:VEVENT
BEGIN:VEVENT
DTSTART;TZID=America/New_York:20251224T140000
DTEND;TZID=America/New_York:20251224T170000
DTSTAMP:20260424T092825
CREATED:20250915T203347Z
LAST-MODIFIED:20250915T203347Z
UID:10014415-1766584800-1766595600@enjoywhereyouare.today
SUMMARY:Happy Hour
DESCRIPTION:Monday-Friday from 2-5pm. Half Off all of your favorite drinks. Includes Pub classics or one of 20 tap beers. ENJOY!!!
URL:https://enjoywhereyouare.today/events/happy-hour-6/2025-12-24/
LOCATION:The Pub\, 160 E Front St\, Traverse City\, MI\, 49684
CATEGORIES:*Downtown TC and Traverse City,Daily Specials
ATTACH;FMTTYPE=image/jpeg:https://enjoywhereyouare.today/wp-content/uploads/2025/09/The-Pub-TC-Happy-Hour.jpg
GEO:44.7638478;-85.6212028
X-APPLE-STRUCTURED-LOCATION;VALUE=URI;X-ADDRESS=The Pub 160 E Front St Traverse City MI 49684;X-APPLE-RADIUS=500;X-TITLE=160 E Front St:geo:-85.6212028,44.7638478
END:VEVENT
BEGIN:VEVENT
DTSTART;TZID=America/New_York:20251223T140000
DTEND;TZID=America/New_York:20251223T170000
DTSTAMP:20260424T092825
CREATED:20250915T203347Z
LAST-MODIFIED:20250915T203347Z
UID:10014414-1766498400-1766509200@enjoywhereyouare.today
SUMMARY:Happy Hour
DESCRIPTION:Monday-Friday from 2-5pm. Half Off all of your favorite drinks. Includes Pub classics or one of 20 tap beers. ENJOY!!!
URL:https://enjoywhereyouare.today/events/happy-hour-6/2025-12-23/
LOCATION:The Pub\, 160 E Front St\, Traverse City\, MI\, 49684
CATEGORIES:*Downtown TC and Traverse City,Daily Specials
ATTACH;FMTTYPE=image/jpeg:https://enjoywhereyouare.today/wp-content/uploads/2025/09/The-Pub-TC-Happy-Hour.jpg
GEO:44.7638478;-85.6212028
X-APPLE-STRUCTURED-LOCATION;VALUE=URI;X-ADDRESS=The Pub 160 E Front St Traverse City MI 49684;X-APPLE-RADIUS=500;X-TITLE=160 E Front St:geo:-85.6212028,44.7638478
END:VEVENT
BEGIN:VEVENT
DTSTART;TZID=America/New_York:20251222T140000
DTEND;TZID=America/New_York:20251222T170000
DTSTAMP:20260424T092825
CREATED:20250915T203347Z
LAST-MODIFIED:20250915T203347Z
UID:10014413-1766412000-1766422800@enjoywhereyouare.today
SUMMARY:Happy Hour
DESCRIPTION:Monday-Friday from 2-5pm. Half Off all of your favorite drinks. Includes Pub classics or one of 20 tap beers. ENJOY!!!
URL:https://enjoywhereyouare.today/events/happy-hour-6/2025-12-22/
LOCATION:The Pub\, 160 E Front St\, Traverse City\, MI\, 49684
CATEGORIES:*Downtown TC and Traverse City,Daily Specials
ATTACH;FMTTYPE=image/jpeg:https://enjoywhereyouare.today/wp-content/uploads/2025/09/The-Pub-TC-Happy-Hour.jpg
GEO:44.7638478;-85.6212028
X-APPLE-STRUCTURED-LOCATION;VALUE=URI;X-ADDRESS=The Pub 160 E Front St Traverse City MI 49684;X-APPLE-RADIUS=500;X-TITLE=160 E Front St:geo:-85.6212028,44.7638478
END:VEVENT
BEGIN:VEVENT
DTSTART;TZID=America/New_York:20251219T170000
DTEND;TZID=America/New_York:20251219T200000
DTSTAMP:20260424T092825
CREATED:20240917T132515Z
LAST-MODIFIED:20260106T193714Z
UID:10013936-1766163600-1766174400@enjoywhereyouare.today
SUMMARY:All-You-Can-Eat FISH FRY
DESCRIPTION:
URL:https://enjoywhereyouare.today/events/fish-fry-fridays/2025-12-19/
LOCATION:The Pub\, 160 E Front St\, Traverse City\, MI\, 49684
CATEGORIES:*Downtown TC and Traverse City,Daily Specials
ATTACH;FMTTYPE=image/jpeg:https://enjoywhereyouare.today/wp-content/uploads/2024/09/The-Pub-Fish-Fry-event.jpg
GEO:44.7638478;-85.6212028
X-APPLE-STRUCTURED-LOCATION;VALUE=URI;X-ADDRESS=The Pub 160 E Front St Traverse City MI 49684;X-APPLE-RADIUS=500;X-TITLE=160 E Front St:geo:-85.6212028,44.7638478
END:VEVENT
BEGIN:VEVENT
DTSTART;TZID=America/New_York:20251219T140000
DTEND;TZID=America/New_York:20251219T170000
DTSTAMP:20260424T092825
CREATED:20250915T203347Z
LAST-MODIFIED:20250915T203347Z
UID:10014412-1766152800-1766163600@enjoywhereyouare.today
SUMMARY:Happy Hour
DESCRIPTION:Monday-Friday from 2-5pm. Half Off all of your favorite drinks. Includes Pub classics or one of 20 tap beers. ENJOY!!!
URL:https://enjoywhereyouare.today/events/happy-hour-6/2025-12-19/
LOCATION:The Pub\, 160 E Front St\, Traverse City\, MI\, 49684
CATEGORIES:*Downtown TC and Traverse City,Daily Specials
ATTACH;FMTTYPE=image/jpeg:https://enjoywhereyouare.today/wp-content/uploads/2025/09/The-Pub-TC-Happy-Hour.jpg
GEO:44.7638478;-85.6212028
X-APPLE-STRUCTURED-LOCATION;VALUE=URI;X-ADDRESS=The Pub 160 E Front St Traverse City MI 49684;X-APPLE-RADIUS=500;X-TITLE=160 E Front St:geo:-85.6212028,44.7638478
END:VEVENT
BEGIN:VEVENT
DTSTART;TZID=America/New_York:20251218T193000
DTEND;TZID=America/New_York:20251218T223000
DTSTAMP:20260424T092825
CREATED:20250609T143445Z
LAST-MODIFIED:20260106T205541Z
UID:10015350-1766086200-1766097000@enjoywhereyouare.today
SUMMARY:Music Bingo
DESCRIPTION:FREE TO PLAY!!! \n \n 
URL:https://enjoywhereyouare.today/events/music-bingo/2025-12-18/
LOCATION:The Pub\, 160 E Front St\, Traverse City\, MI\, 49684
CATEGORIES:*Downtown TC and Traverse City,Bar Games & Date Nights,The Parlor The Pub North Bar
ATTACH;FMTTYPE=image/jpeg:https://enjoywhereyouare.today/wp-content/uploads/2025/06/The-Pub-Music-Bingo-1.jpg
GEO:44.7638478;-85.6212028
X-APPLE-STRUCTURED-LOCATION;VALUE=URI;X-ADDRESS=The Pub 160 E Front St Traverse City MI 49684;X-APPLE-RADIUS=500;X-TITLE=160 E Front St:geo:-85.6212028,44.7638478
END:VEVENT
BEGIN:VEVENT
DTSTART;TZID=America/New_York:20251218T140000
DTEND;TZID=America/New_York:20251218T170000
DTSTAMP:20260424T092825
CREATED:20250915T203347Z
LAST-MODIFIED:20250915T203347Z
UID:10014411-1766066400-1766077200@enjoywhereyouare.today
SUMMARY:Happy Hour
DESCRIPTION:Monday-Friday from 2-5pm. Half Off all of your favorite drinks. Includes Pub classics or one of 20 tap beers. ENJOY!!!
URL:https://enjoywhereyouare.today/events/happy-hour-6/2025-12-18/
LOCATION:The Pub\, 160 E Front St\, Traverse City\, MI\, 49684
CATEGORIES:*Downtown TC and Traverse City,Daily Specials
ATTACH;FMTTYPE=image/jpeg:https://enjoywhereyouare.today/wp-content/uploads/2025/09/The-Pub-TC-Happy-Hour.jpg
GEO:44.7638478;-85.6212028
X-APPLE-STRUCTURED-LOCATION;VALUE=URI;X-ADDRESS=The Pub 160 E Front St Traverse City MI 49684;X-APPLE-RADIUS=500;X-TITLE=160 E Front St:geo:-85.6212028,44.7638478
END:VEVENT
BEGIN:VEVENT
DTSTART;TZID=America/New_York:20251217T190000
DTEND;TZID=America/New_York:20251217T220000
DTSTAMP:20260424T092825
CREATED:20250609T150456Z
LAST-MODIFIED:20250611T135302Z
UID:10014028-1765998000-1766008800@enjoywhereyouare.today
SUMMARY:Zeke Clemons
DESCRIPTION:
URL:https://enjoywhereyouare.today/events/zeke-clemons/2025-12-17/
LOCATION:The Pub\, 160 E Front St\, Traverse City\, MI\, 49684
CATEGORIES:Music
ATTACH;FMTTYPE=image/jpeg:https://enjoywhereyouare.today/wp-content/uploads/2025/06/The-Pub-Zeke-Clemons.jpg
GEO:44.7638478;-85.6212028
X-APPLE-STRUCTURED-LOCATION;VALUE=URI;X-ADDRESS=The Pub 160 E Front St Traverse City MI 49684;X-APPLE-RADIUS=500;X-TITLE=160 E Front St:geo:-85.6212028,44.7638478
END:VEVENT
BEGIN:VEVENT
DTSTART;TZID=America/New_York:20251217T180000
DTEND;TZID=America/New_York:20251217T233000
DTSTAMP:20260424T092825
CREATED:20250609T145852Z
LAST-MODIFIED:20250611T135302Z
UID:10013997-1765994400-1766014200@enjoywhereyouare.today
SUMMARY:HALF OFF Pitchers!
DESCRIPTION:Every Wednesday 6pm – Midnight. Music by Zeke Clemons 7-10pm
URL:https://enjoywhereyouare.today/events/half-off-pitchers/2025-12-17/
LOCATION:The Pub\, 160 E Front St\, Traverse City\, MI\, 49684
CATEGORIES:*Downtown TC and Traverse City,Daily Specials
ATTACH;FMTTYPE=image/jpeg:https://enjoywhereyouare.today/wp-content/uploads/2025/06/The-Pub-half-off-pitchers.jpg
GEO:44.7638478;-85.6212028
X-APPLE-STRUCTURED-LOCATION;VALUE=URI;X-ADDRESS=The Pub 160 E Front St Traverse City MI 49684;X-APPLE-RADIUS=500;X-TITLE=160 E Front St:geo:-85.6212028,44.7638478
END:VEVENT
BEGIN:VEVENT
DTSTART;TZID=America/New_York:20251217T140000
DTEND;TZID=America/New_York:20251217T170000
DTSTAMP:20260424T092825
CREATED:20250915T203347Z
LAST-MODIFIED:20250915T203347Z
UID:10014410-1765980000-1765990800@enjoywhereyouare.today
SUMMARY:Happy Hour
DESCRIPTION:Monday-Friday from 2-5pm. Half Off all of your favorite drinks. Includes Pub classics or one of 20 tap beers. ENJOY!!!
URL:https://enjoywhereyouare.today/events/happy-hour-6/2025-12-17/
LOCATION:The Pub\, 160 E Front St\, Traverse City\, MI\, 49684
CATEGORIES:*Downtown TC and Traverse City,Daily Specials
ATTACH;FMTTYPE=image/jpeg:https://enjoywhereyouare.today/wp-content/uploads/2025/09/The-Pub-TC-Happy-Hour.jpg
GEO:44.7638478;-85.6212028
X-APPLE-STRUCTURED-LOCATION;VALUE=URI;X-ADDRESS=The Pub 160 E Front St Traverse City MI 49684;X-APPLE-RADIUS=500;X-TITLE=160 E Front St:geo:-85.6212028,44.7638478
END:VEVENT
END:VCALENDAR