BEGIN:VCALENDAR
VERSION:2.0
PRODID:-//Enjoy Where You Are - ECPv6.5.2//NONSGML v1.0//EN
CALSCALE:GREGORIAN
METHOD:PUBLISH
X-ORIGINAL-URL:https://enjoywhereyouare.today
X-WR-CALDESC:Events for Enjoy Where You Are
REFRESH-INTERVAL;VALUE=DURATION:PT1H
X-Robots-Tag:noindex
X-PUBLISHED-TTL:PT1H
BEGIN:VTIMEZONE
TZID:America/New_York
BEGIN:DAYLIGHT
TZOFFSETFROM:-0500
TZOFFSETTO:-0400
TZNAME:EDT
DTSTART:20240310T070000
END:DAYLIGHT
BEGIN:STANDARD
TZOFFSETFROM:-0400
TZOFFSETTO:-0500
TZNAME:EST
DTSTART:20241103T060000
END:STANDARD
END:VTIMEZONE
BEGIN:VEVENT
DTSTART;TZID=America/New_York:20241223T120000
DTEND;TZID=America/New_York:20241223T160000
DTSTAMP:20260425T114130
CREATED:20240917T133154Z
LAST-MODIFIED:20240917T133154Z
UID:10007407-1734955200-1734969600@enjoywhereyouare.today
SUMMARY:Happy Hour
DESCRIPTION:
URL:https://enjoywhereyouare.today/events/happy-hour-3/2024-12-23/
LOCATION:The Pub\, 160 E Front St\, Traverse City\, MI\, 49684
CATEGORIES:*Downtown TC and Traverse City,Daily Specials
ATTACH;FMTTYPE=image/jpeg:https://enjoywhereyouare.today/wp-content/uploads/2024/09/Happy-Hour-The-Pub-TC.jpg
GEO:44.7638478;-85.6212028
X-APPLE-STRUCTURED-LOCATION;VALUE=URI;X-ADDRESS=The Pub 160 E Front St Traverse City MI 49684;X-APPLE-RADIUS=500;X-TITLE=160 E Front St:geo:-85.6212028,44.7638478
END:VEVENT
BEGIN:VEVENT
DTSTART;VALUE=DATE:20241222
DTEND;VALUE=DATE:20241223
DTSTAMP:20260425T114130
CREATED:20241005T151831Z
LAST-MODIFIED:20241005T151936Z
UID:10009682-1734825600-1734911999@enjoywhereyouare.today
SUMMARY:Game Day Wings Special!
DESCRIPTION:
URL:https://enjoywhereyouare.today/events/game-day-wings-special-2/2024-12-22/
LOCATION:The Pub\, 160 E Front St\, Traverse City\, MI\, 49684
CATEGORIES:Daily Specials
ATTACH;FMTTYPE=image/jpeg:https://enjoywhereyouare.today/wp-content/uploads/2024/10/Fish-Fry-003-1.jpg
GEO:44.7638478;-85.6212028
X-APPLE-STRUCTURED-LOCATION;VALUE=URI;X-ADDRESS=The Pub 160 E Front St Traverse City MI 49684;X-APPLE-RADIUS=500;X-TITLE=160 E Front St:geo:-85.6212028,44.7638478
END:VEVENT
BEGIN:VEVENT
DTSTART;TZID=America/New_York:20241220T170000
DTEND;TZID=America/New_York:20241220T200000
DTSTAMP:20260425T114130
CREATED:20240917T132515Z
LAST-MODIFIED:20260106T193714Z
UID:10013884-1734714000-1734724800@enjoywhereyouare.today
SUMMARY:All-You-Can-Eat FISH FRY
DESCRIPTION:
URL:https://enjoywhereyouare.today/events/fish-fry-fridays/2024-12-20/
LOCATION:The Pub\, 160 E Front St\, Traverse City\, MI\, 49684
CATEGORIES:*Downtown TC and Traverse City,Daily Specials
ATTACH;FMTTYPE=image/jpeg:https://enjoywhereyouare.today/wp-content/uploads/2024/09/The-Pub-Fish-Fry-event.jpg
GEO:44.7638478;-85.6212028
X-APPLE-STRUCTURED-LOCATION;VALUE=URI;X-ADDRESS=The Pub 160 E Front St Traverse City MI 49684;X-APPLE-RADIUS=500;X-TITLE=160 E Front St:geo:-85.6212028,44.7638478
END:VEVENT
BEGIN:VEVENT
DTSTART;TZID=America/New_York:20241220T120000
DTEND;TZID=America/New_York:20241220T160000
DTSTAMP:20260425T114130
CREATED:20240917T133154Z
LAST-MODIFIED:20240917T133154Z
UID:10007406-1734696000-1734710400@enjoywhereyouare.today
SUMMARY:Happy Hour
DESCRIPTION:
URL:https://enjoywhereyouare.today/events/happy-hour-3/2024-12-20/
LOCATION:The Pub\, 160 E Front St\, Traverse City\, MI\, 49684
CATEGORIES:*Downtown TC and Traverse City,Daily Specials
ATTACH;FMTTYPE=image/jpeg:https://enjoywhereyouare.today/wp-content/uploads/2024/09/Happy-Hour-The-Pub-TC.jpg
GEO:44.7638478;-85.6212028
X-APPLE-STRUCTURED-LOCATION;VALUE=URI;X-ADDRESS=The Pub 160 E Front St Traverse City MI 49684;X-APPLE-RADIUS=500;X-TITLE=160 E Front St:geo:-85.6212028,44.7638478
END:VEVENT
BEGIN:VEVENT
DTSTART;TZID=America/New_York:20241219T120000
DTEND;TZID=America/New_York:20241219T160000
DTSTAMP:20260425T114130
CREATED:20240917T133154Z
LAST-MODIFIED:20240917T133154Z
UID:10007405-1734609600-1734624000@enjoywhereyouare.today
SUMMARY:Happy Hour
DESCRIPTION:
URL:https://enjoywhereyouare.today/events/happy-hour-3/2024-12-19/
LOCATION:The Pub\, 160 E Front St\, Traverse City\, MI\, 49684
CATEGORIES:*Downtown TC and Traverse City,Daily Specials
ATTACH;FMTTYPE=image/jpeg:https://enjoywhereyouare.today/wp-content/uploads/2024/09/Happy-Hour-The-Pub-TC.jpg
GEO:44.7638478;-85.6212028
X-APPLE-STRUCTURED-LOCATION;VALUE=URI;X-ADDRESS=The Pub 160 E Front St Traverse City MI 49684;X-APPLE-RADIUS=500;X-TITLE=160 E Front St:geo:-85.6212028,44.7638478
END:VEVENT
BEGIN:VEVENT
DTSTART;TZID=America/New_York:20241218T120000
DTEND;TZID=America/New_York:20241218T160000
DTSTAMP:20260425T114130
CREATED:20240917T133154Z
LAST-MODIFIED:20240917T133154Z
UID:10007404-1734523200-1734537600@enjoywhereyouare.today
SUMMARY:Happy Hour
DESCRIPTION:
URL:https://enjoywhereyouare.today/events/happy-hour-3/2024-12-18/
LOCATION:The Pub\, 160 E Front St\, Traverse City\, MI\, 49684
CATEGORIES:*Downtown TC and Traverse City,Daily Specials
ATTACH;FMTTYPE=image/jpeg:https://enjoywhereyouare.today/wp-content/uploads/2024/09/Happy-Hour-The-Pub-TC.jpg
GEO:44.7638478;-85.6212028
X-APPLE-STRUCTURED-LOCATION;VALUE=URI;X-ADDRESS=The Pub 160 E Front St Traverse City MI 49684;X-APPLE-RADIUS=500;X-TITLE=160 E Front St:geo:-85.6212028,44.7638478
END:VEVENT
BEGIN:VEVENT
DTSTART;TZID=America/New_York:20241217T120000
DTEND;TZID=America/New_York:20241217T160000
DTSTAMP:20260425T114130
CREATED:20240917T133154Z
LAST-MODIFIED:20240917T133154Z
UID:10007403-1734436800-1734451200@enjoywhereyouare.today
SUMMARY:Happy Hour
DESCRIPTION:
URL:https://enjoywhereyouare.today/events/happy-hour-3/2024-12-17/
LOCATION:The Pub\, 160 E Front St\, Traverse City\, MI\, 49684
CATEGORIES:*Downtown TC and Traverse City,Daily Specials
ATTACH;FMTTYPE=image/jpeg:https://enjoywhereyouare.today/wp-content/uploads/2024/09/Happy-Hour-The-Pub-TC.jpg
GEO:44.7638478;-85.6212028
X-APPLE-STRUCTURED-LOCATION;VALUE=URI;X-ADDRESS=The Pub 160 E Front St Traverse City MI 49684;X-APPLE-RADIUS=500;X-TITLE=160 E Front St:geo:-85.6212028,44.7638478
END:VEVENT
BEGIN:VEVENT
DTSTART;TZID=America/New_York:20241216T120000
DTEND;TZID=America/New_York:20241216T160000
DTSTAMP:20260425T114130
CREATED:20240917T133154Z
LAST-MODIFIED:20240917T133154Z
UID:10007402-1734350400-1734364800@enjoywhereyouare.today
SUMMARY:Happy Hour
DESCRIPTION:
URL:https://enjoywhereyouare.today/events/happy-hour-3/2024-12-16/
LOCATION:The Pub\, 160 E Front St\, Traverse City\, MI\, 49684
CATEGORIES:*Downtown TC and Traverse City,Daily Specials
ATTACH;FMTTYPE=image/jpeg:https://enjoywhereyouare.today/wp-content/uploads/2024/09/Happy-Hour-The-Pub-TC.jpg
GEO:44.7638478;-85.6212028
X-APPLE-STRUCTURED-LOCATION;VALUE=URI;X-ADDRESS=The Pub 160 E Front St Traverse City MI 49684;X-APPLE-RADIUS=500;X-TITLE=160 E Front St:geo:-85.6212028,44.7638478
END:VEVENT
BEGIN:VEVENT
DTSTART;VALUE=DATE:20241215
DTEND;VALUE=DATE:20241216
DTSTAMP:20260425T114130
CREATED:20241005T151831Z
LAST-MODIFIED:20241005T151936Z
UID:10009681-1734220800-1734307199@enjoywhereyouare.today
SUMMARY:Game Day Wings Special!
DESCRIPTION:
URL:https://enjoywhereyouare.today/events/game-day-wings-special-2/2024-12-15/
LOCATION:The Pub\, 160 E Front St\, Traverse City\, MI\, 49684
CATEGORIES:Daily Specials
ATTACH;FMTTYPE=image/jpeg:https://enjoywhereyouare.today/wp-content/uploads/2024/10/Fish-Fry-003-1.jpg
GEO:44.7638478;-85.6212028
X-APPLE-STRUCTURED-LOCATION;VALUE=URI;X-ADDRESS=The Pub 160 E Front St Traverse City MI 49684;X-APPLE-RADIUS=500;X-TITLE=160 E Front St:geo:-85.6212028,44.7638478
END:VEVENT
BEGIN:VEVENT
DTSTART;TZID=America/New_York:20241213T170000
DTEND;TZID=America/New_York:20241213T200000
DTSTAMP:20260425T114130
CREATED:20240917T132515Z
LAST-MODIFIED:20260106T193714Z
UID:10013883-1734109200-1734120000@enjoywhereyouare.today
SUMMARY:All-You-Can-Eat FISH FRY
DESCRIPTION:
URL:https://enjoywhereyouare.today/events/fish-fry-fridays/2024-12-13/
LOCATION:The Pub\, 160 E Front St\, Traverse City\, MI\, 49684
CATEGORIES:*Downtown TC and Traverse City,Daily Specials
ATTACH;FMTTYPE=image/jpeg:https://enjoywhereyouare.today/wp-content/uploads/2024/09/The-Pub-Fish-Fry-event.jpg
GEO:44.7638478;-85.6212028
X-APPLE-STRUCTURED-LOCATION;VALUE=URI;X-ADDRESS=The Pub 160 E Front St Traverse City MI 49684;X-APPLE-RADIUS=500;X-TITLE=160 E Front St:geo:-85.6212028,44.7638478
END:VEVENT
BEGIN:VEVENT
DTSTART;TZID=America/New_York:20241213T120000
DTEND;TZID=America/New_York:20241213T160000
DTSTAMP:20260425T114130
CREATED:20240917T133154Z
LAST-MODIFIED:20240917T133154Z
UID:10007401-1734091200-1734105600@enjoywhereyouare.today
SUMMARY:Happy Hour
DESCRIPTION:
URL:https://enjoywhereyouare.today/events/happy-hour-3/2024-12-13/
LOCATION:The Pub\, 160 E Front St\, Traverse City\, MI\, 49684
CATEGORIES:*Downtown TC and Traverse City,Daily Specials
ATTACH;FMTTYPE=image/jpeg:https://enjoywhereyouare.today/wp-content/uploads/2024/09/Happy-Hour-The-Pub-TC.jpg
GEO:44.7638478;-85.6212028
X-APPLE-STRUCTURED-LOCATION;VALUE=URI;X-ADDRESS=The Pub 160 E Front St Traverse City MI 49684;X-APPLE-RADIUS=500;X-TITLE=160 E Front St:geo:-85.6212028,44.7638478
END:VEVENT
BEGIN:VEVENT
DTSTART;TZID=America/New_York:20241212T120000
DTEND;TZID=America/New_York:20241212T160000
DTSTAMP:20260425T114130
CREATED:20240917T133154Z
LAST-MODIFIED:20240917T133154Z
UID:10007400-1734004800-1734019200@enjoywhereyouare.today
SUMMARY:Happy Hour
DESCRIPTION:
URL:https://enjoywhereyouare.today/events/happy-hour-3/2024-12-12/
LOCATION:The Pub\, 160 E Front St\, Traverse City\, MI\, 49684
CATEGORIES:*Downtown TC and Traverse City,Daily Specials
ATTACH;FMTTYPE=image/jpeg:https://enjoywhereyouare.today/wp-content/uploads/2024/09/Happy-Hour-The-Pub-TC.jpg
GEO:44.7638478;-85.6212028
X-APPLE-STRUCTURED-LOCATION;VALUE=URI;X-ADDRESS=The Pub 160 E Front St Traverse City MI 49684;X-APPLE-RADIUS=500;X-TITLE=160 E Front St:geo:-85.6212028,44.7638478
END:VEVENT
BEGIN:VEVENT
DTSTART;TZID=America/New_York:20241211T120000
DTEND;TZID=America/New_York:20241211T160000
DTSTAMP:20260425T114130
CREATED:20240917T133154Z
LAST-MODIFIED:20240917T133154Z
UID:10007399-1733918400-1733932800@enjoywhereyouare.today
SUMMARY:Happy Hour
DESCRIPTION:
URL:https://enjoywhereyouare.today/events/happy-hour-3/2024-12-11/
LOCATION:The Pub\, 160 E Front St\, Traverse City\, MI\, 49684
CATEGORIES:*Downtown TC and Traverse City,Daily Specials
ATTACH;FMTTYPE=image/jpeg:https://enjoywhereyouare.today/wp-content/uploads/2024/09/Happy-Hour-The-Pub-TC.jpg
GEO:44.7638478;-85.6212028
X-APPLE-STRUCTURED-LOCATION;VALUE=URI;X-ADDRESS=The Pub 160 E Front St Traverse City MI 49684;X-APPLE-RADIUS=500;X-TITLE=160 E Front St:geo:-85.6212028,44.7638478
END:VEVENT
BEGIN:VEVENT
DTSTART;TZID=America/New_York:20241210T120000
DTEND;TZID=America/New_York:20241210T160000
DTSTAMP:20260425T114130
CREATED:20240917T133154Z
LAST-MODIFIED:20240917T133154Z
UID:10007398-1733832000-1733846400@enjoywhereyouare.today
SUMMARY:Happy Hour
DESCRIPTION:
URL:https://enjoywhereyouare.today/events/happy-hour-3/2024-12-10/
LOCATION:The Pub\, 160 E Front St\, Traverse City\, MI\, 49684
CATEGORIES:*Downtown TC and Traverse City,Daily Specials
ATTACH;FMTTYPE=image/jpeg:https://enjoywhereyouare.today/wp-content/uploads/2024/09/Happy-Hour-The-Pub-TC.jpg
GEO:44.7638478;-85.6212028
X-APPLE-STRUCTURED-LOCATION;VALUE=URI;X-ADDRESS=The Pub 160 E Front St Traverse City MI 49684;X-APPLE-RADIUS=500;X-TITLE=160 E Front St:geo:-85.6212028,44.7638478
END:VEVENT
BEGIN:VEVENT
DTSTART;TZID=America/New_York:20241209T120000
DTEND;TZID=America/New_York:20241209T160000
DTSTAMP:20260425T114130
CREATED:20240917T133154Z
LAST-MODIFIED:20240917T133154Z
UID:10007397-1733745600-1733760000@enjoywhereyouare.today
SUMMARY:Happy Hour
DESCRIPTION:
URL:https://enjoywhereyouare.today/events/happy-hour-3/2024-12-09/
LOCATION:The Pub\, 160 E Front St\, Traverse City\, MI\, 49684
CATEGORIES:*Downtown TC and Traverse City,Daily Specials
ATTACH;FMTTYPE=image/jpeg:https://enjoywhereyouare.today/wp-content/uploads/2024/09/Happy-Hour-The-Pub-TC.jpg
GEO:44.7638478;-85.6212028
X-APPLE-STRUCTURED-LOCATION;VALUE=URI;X-ADDRESS=The Pub 160 E Front St Traverse City MI 49684;X-APPLE-RADIUS=500;X-TITLE=160 E Front St:geo:-85.6212028,44.7638478
END:VEVENT
BEGIN:VEVENT
DTSTART;VALUE=DATE:20241208
DTEND;VALUE=DATE:20241209
DTSTAMP:20260425T114130
CREATED:20241005T151831Z
LAST-MODIFIED:20241005T151936Z
UID:10009680-1733616000-1733702399@enjoywhereyouare.today
SUMMARY:Game Day Wings Special!
DESCRIPTION:
URL:https://enjoywhereyouare.today/events/game-day-wings-special-2/2024-12-08/
LOCATION:The Pub\, 160 E Front St\, Traverse City\, MI\, 49684
CATEGORIES:Daily Specials
ATTACH;FMTTYPE=image/jpeg:https://enjoywhereyouare.today/wp-content/uploads/2024/10/Fish-Fry-003-1.jpg
GEO:44.7638478;-85.6212028
X-APPLE-STRUCTURED-LOCATION;VALUE=URI;X-ADDRESS=The Pub 160 E Front St Traverse City MI 49684;X-APPLE-RADIUS=500;X-TITLE=160 E Front St:geo:-85.6212028,44.7638478
END:VEVENT
BEGIN:VEVENT
DTSTART;TZID=America/New_York:20241206T170000
DTEND;TZID=America/New_York:20241206T200000
DTSTAMP:20260425T114130
CREATED:20240917T132515Z
LAST-MODIFIED:20260106T193714Z
UID:10013882-1733504400-1733515200@enjoywhereyouare.today
SUMMARY:All-You-Can-Eat FISH FRY
DESCRIPTION:
URL:https://enjoywhereyouare.today/events/fish-fry-fridays/2024-12-06/
LOCATION:The Pub\, 160 E Front St\, Traverse City\, MI\, 49684
CATEGORIES:*Downtown TC and Traverse City,Daily Specials
ATTACH;FMTTYPE=image/jpeg:https://enjoywhereyouare.today/wp-content/uploads/2024/09/The-Pub-Fish-Fry-event.jpg
GEO:44.7638478;-85.6212028
X-APPLE-STRUCTURED-LOCATION;VALUE=URI;X-ADDRESS=The Pub 160 E Front St Traverse City MI 49684;X-APPLE-RADIUS=500;X-TITLE=160 E Front St:geo:-85.6212028,44.7638478
END:VEVENT
BEGIN:VEVENT
DTSTART;TZID=America/New_York:20241206T120000
DTEND;TZID=America/New_York:20241206T160000
DTSTAMP:20260425T114130
CREATED:20240917T133154Z
LAST-MODIFIED:20240917T133154Z
UID:10007396-1733486400-1733500800@enjoywhereyouare.today
SUMMARY:Happy Hour
DESCRIPTION:
URL:https://enjoywhereyouare.today/events/happy-hour-3/2024-12-06/
LOCATION:The Pub\, 160 E Front St\, Traverse City\, MI\, 49684
CATEGORIES:*Downtown TC and Traverse City,Daily Specials
ATTACH;FMTTYPE=image/jpeg:https://enjoywhereyouare.today/wp-content/uploads/2024/09/Happy-Hour-The-Pub-TC.jpg
GEO:44.7638478;-85.6212028
X-APPLE-STRUCTURED-LOCATION;VALUE=URI;X-ADDRESS=The Pub 160 E Front St Traverse City MI 49684;X-APPLE-RADIUS=500;X-TITLE=160 E Front St:geo:-85.6212028,44.7638478
END:VEVENT
BEGIN:VEVENT
DTSTART;TZID=America/New_York:20241205T120000
DTEND;TZID=America/New_York:20241205T160000
DTSTAMP:20260425T114130
CREATED:20240917T133154Z
LAST-MODIFIED:20240917T133154Z
UID:10007395-1733400000-1733414400@enjoywhereyouare.today
SUMMARY:Happy Hour
DESCRIPTION:
URL:https://enjoywhereyouare.today/events/happy-hour-3/2024-12-05/
LOCATION:The Pub\, 160 E Front St\, Traverse City\, MI\, 49684
CATEGORIES:*Downtown TC and Traverse City,Daily Specials
ATTACH;FMTTYPE=image/jpeg:https://enjoywhereyouare.today/wp-content/uploads/2024/09/Happy-Hour-The-Pub-TC.jpg
GEO:44.7638478;-85.6212028
X-APPLE-STRUCTURED-LOCATION;VALUE=URI;X-ADDRESS=The Pub 160 E Front St Traverse City MI 49684;X-APPLE-RADIUS=500;X-TITLE=160 E Front St:geo:-85.6212028,44.7638478
END:VEVENT
BEGIN:VEVENT
DTSTART;TZID=America/New_York:20241204T120000
DTEND;TZID=America/New_York:20241204T160000
DTSTAMP:20260425T114130
CREATED:20240917T133154Z
LAST-MODIFIED:20240917T133154Z
UID:10007394-1733313600-1733328000@enjoywhereyouare.today
SUMMARY:Happy Hour
DESCRIPTION:
URL:https://enjoywhereyouare.today/events/happy-hour-3/2024-12-04/
LOCATION:The Pub\, 160 E Front St\, Traverse City\, MI\, 49684
CATEGORIES:*Downtown TC and Traverse City,Daily Specials
ATTACH;FMTTYPE=image/jpeg:https://enjoywhereyouare.today/wp-content/uploads/2024/09/Happy-Hour-The-Pub-TC.jpg
GEO:44.7638478;-85.6212028
X-APPLE-STRUCTURED-LOCATION;VALUE=URI;X-ADDRESS=The Pub 160 E Front St Traverse City MI 49684;X-APPLE-RADIUS=500;X-TITLE=160 E Front St:geo:-85.6212028,44.7638478
END:VEVENT
BEGIN:VEVENT
DTSTART;TZID=America/New_York:20241203T120000
DTEND;TZID=America/New_York:20241203T160000
DTSTAMP:20260425T114130
CREATED:20240917T133154Z
LAST-MODIFIED:20240917T133154Z
UID:10007393-1733227200-1733241600@enjoywhereyouare.today
SUMMARY:Happy Hour
DESCRIPTION:
URL:https://enjoywhereyouare.today/events/happy-hour-3/2024-12-03/
LOCATION:The Pub\, 160 E Front St\, Traverse City\, MI\, 49684
CATEGORIES:*Downtown TC and Traverse City,Daily Specials
ATTACH;FMTTYPE=image/jpeg:https://enjoywhereyouare.today/wp-content/uploads/2024/09/Happy-Hour-The-Pub-TC.jpg
GEO:44.7638478;-85.6212028
X-APPLE-STRUCTURED-LOCATION;VALUE=URI;X-ADDRESS=The Pub 160 E Front St Traverse City MI 49684;X-APPLE-RADIUS=500;X-TITLE=160 E Front St:geo:-85.6212028,44.7638478
END:VEVENT
BEGIN:VEVENT
DTSTART;TZID=America/New_York:20241202T120000
DTEND;TZID=America/New_York:20241202T160000
DTSTAMP:20260425T114130
CREATED:20240917T133154Z
LAST-MODIFIED:20240917T133154Z
UID:10007392-1733140800-1733155200@enjoywhereyouare.today
SUMMARY:Happy Hour
DESCRIPTION:
URL:https://enjoywhereyouare.today/events/happy-hour-3/2024-12-02/
LOCATION:The Pub\, 160 E Front St\, Traverse City\, MI\, 49684
CATEGORIES:*Downtown TC and Traverse City,Daily Specials
ATTACH;FMTTYPE=image/jpeg:https://enjoywhereyouare.today/wp-content/uploads/2024/09/Happy-Hour-The-Pub-TC.jpg
GEO:44.7638478;-85.6212028
X-APPLE-STRUCTURED-LOCATION;VALUE=URI;X-ADDRESS=The Pub 160 E Front St Traverse City MI 49684;X-APPLE-RADIUS=500;X-TITLE=160 E Front St:geo:-85.6212028,44.7638478
END:VEVENT
BEGIN:VEVENT
DTSTART;VALUE=DATE:20241201
DTEND;VALUE=DATE:20241202
DTSTAMP:20260425T114130
CREATED:20241005T151831Z
LAST-MODIFIED:20241005T151936Z
UID:10009679-1733011200-1733097599@enjoywhereyouare.today
SUMMARY:Game Day Wings Special!
DESCRIPTION:
URL:https://enjoywhereyouare.today/events/game-day-wings-special-2/2024-12-01/
LOCATION:The Pub\, 160 E Front St\, Traverse City\, MI\, 49684
CATEGORIES:Daily Specials
ATTACH;FMTTYPE=image/jpeg:https://enjoywhereyouare.today/wp-content/uploads/2024/10/Fish-Fry-003-1.jpg
GEO:44.7638478;-85.6212028
X-APPLE-STRUCTURED-LOCATION;VALUE=URI;X-ADDRESS=The Pub 160 E Front St Traverse City MI 49684;X-APPLE-RADIUS=500;X-TITLE=160 E Front St:geo:-85.6212028,44.7638478
END:VEVENT
BEGIN:VEVENT
DTSTART;TZID=America/New_York:20241129T170000
DTEND;TZID=America/New_York:20241129T200000
DTSTAMP:20260425T114130
CREATED:20240917T132515Z
LAST-MODIFIED:20260106T193714Z
UID:10013881-1732899600-1732910400@enjoywhereyouare.today
SUMMARY:All-You-Can-Eat FISH FRY
DESCRIPTION:
URL:https://enjoywhereyouare.today/events/fish-fry-fridays/2024-11-29/
LOCATION:The Pub\, 160 E Front St\, Traverse City\, MI\, 49684
CATEGORIES:*Downtown TC and Traverse City,Daily Specials
ATTACH;FMTTYPE=image/jpeg:https://enjoywhereyouare.today/wp-content/uploads/2024/09/The-Pub-Fish-Fry-event.jpg
GEO:44.7638478;-85.6212028
X-APPLE-STRUCTURED-LOCATION;VALUE=URI;X-ADDRESS=The Pub 160 E Front St Traverse City MI 49684;X-APPLE-RADIUS=500;X-TITLE=160 E Front St:geo:-85.6212028,44.7638478
END:VEVENT
BEGIN:VEVENT
DTSTART;TZID=America/New_York:20241129T120000
DTEND;TZID=America/New_York:20241129T160000
DTSTAMP:20260425T114130
CREATED:20240917T133154Z
LAST-MODIFIED:20240917T133154Z
UID:10007391-1732881600-1732896000@enjoywhereyouare.today
SUMMARY:Happy Hour
DESCRIPTION:
URL:https://enjoywhereyouare.today/events/happy-hour-3/2024-11-29/
LOCATION:The Pub\, 160 E Front St\, Traverse City\, MI\, 49684
CATEGORIES:*Downtown TC and Traverse City,Daily Specials
ATTACH;FMTTYPE=image/jpeg:https://enjoywhereyouare.today/wp-content/uploads/2024/09/Happy-Hour-The-Pub-TC.jpg
GEO:44.7638478;-85.6212028
X-APPLE-STRUCTURED-LOCATION;VALUE=URI;X-ADDRESS=The Pub 160 E Front St Traverse City MI 49684;X-APPLE-RADIUS=500;X-TITLE=160 E Front St:geo:-85.6212028,44.7638478
END:VEVENT
BEGIN:VEVENT
DTSTART;TZID=America/New_York:20241128T120000
DTEND;TZID=America/New_York:20241128T160000
DTSTAMP:20260425T114130
CREATED:20240917T133154Z
LAST-MODIFIED:20240917T133154Z
UID:10007390-1732795200-1732809600@enjoywhereyouare.today
SUMMARY:Happy Hour
DESCRIPTION:
URL:https://enjoywhereyouare.today/events/happy-hour-3/2024-11-28/
LOCATION:The Pub\, 160 E Front St\, Traverse City\, MI\, 49684
CATEGORIES:*Downtown TC and Traverse City,Daily Specials
ATTACH;FMTTYPE=image/jpeg:https://enjoywhereyouare.today/wp-content/uploads/2024/09/Happy-Hour-The-Pub-TC.jpg
GEO:44.7638478;-85.6212028
X-APPLE-STRUCTURED-LOCATION;VALUE=URI;X-ADDRESS=The Pub 160 E Front St Traverse City MI 49684;X-APPLE-RADIUS=500;X-TITLE=160 E Front St:geo:-85.6212028,44.7638478
END:VEVENT
BEGIN:VEVENT
DTSTART;TZID=America/New_York:20241127T120000
DTEND;TZID=America/New_York:20241127T160000
DTSTAMP:20260425T114130
CREATED:20240917T133154Z
LAST-MODIFIED:20240917T133154Z
UID:10007389-1732708800-1732723200@enjoywhereyouare.today
SUMMARY:Happy Hour
DESCRIPTION:
URL:https://enjoywhereyouare.today/events/happy-hour-3/2024-11-27/
LOCATION:The Pub\, 160 E Front St\, Traverse City\, MI\, 49684
CATEGORIES:*Downtown TC and Traverse City,Daily Specials
ATTACH;FMTTYPE=image/jpeg:https://enjoywhereyouare.today/wp-content/uploads/2024/09/Happy-Hour-The-Pub-TC.jpg
GEO:44.7638478;-85.6212028
X-APPLE-STRUCTURED-LOCATION;VALUE=URI;X-ADDRESS=The Pub 160 E Front St Traverse City MI 49684;X-APPLE-RADIUS=500;X-TITLE=160 E Front St:geo:-85.6212028,44.7638478
END:VEVENT
BEGIN:VEVENT
DTSTART;TZID=America/New_York:20241126T120000
DTEND;TZID=America/New_York:20241126T160000
DTSTAMP:20260425T114130
CREATED:20240917T133154Z
LAST-MODIFIED:20240917T133154Z
UID:10007388-1732622400-1732636800@enjoywhereyouare.today
SUMMARY:Happy Hour
DESCRIPTION:
URL:https://enjoywhereyouare.today/events/happy-hour-3/2024-11-26/
LOCATION:The Pub\, 160 E Front St\, Traverse City\, MI\, 49684
CATEGORIES:*Downtown TC and Traverse City,Daily Specials
ATTACH;FMTTYPE=image/jpeg:https://enjoywhereyouare.today/wp-content/uploads/2024/09/Happy-Hour-The-Pub-TC.jpg
GEO:44.7638478;-85.6212028
X-APPLE-STRUCTURED-LOCATION;VALUE=URI;X-ADDRESS=The Pub 160 E Front St Traverse City MI 49684;X-APPLE-RADIUS=500;X-TITLE=160 E Front St:geo:-85.6212028,44.7638478
END:VEVENT
BEGIN:VEVENT
DTSTART;TZID=America/New_York:20241125T120000
DTEND;TZID=America/New_York:20241125T160000
DTSTAMP:20260425T114130
CREATED:20240917T133154Z
LAST-MODIFIED:20240917T133154Z
UID:10007387-1732536000-1732550400@enjoywhereyouare.today
SUMMARY:Happy Hour
DESCRIPTION:
URL:https://enjoywhereyouare.today/events/happy-hour-3/2024-11-25/
LOCATION:The Pub\, 160 E Front St\, Traverse City\, MI\, 49684
CATEGORIES:*Downtown TC and Traverse City,Daily Specials
ATTACH;FMTTYPE=image/jpeg:https://enjoywhereyouare.today/wp-content/uploads/2024/09/Happy-Hour-The-Pub-TC.jpg
GEO:44.7638478;-85.6212028
X-APPLE-STRUCTURED-LOCATION;VALUE=URI;X-ADDRESS=The Pub 160 E Front St Traverse City MI 49684;X-APPLE-RADIUS=500;X-TITLE=160 E Front St:geo:-85.6212028,44.7638478
END:VEVENT
BEGIN:VEVENT
DTSTART;VALUE=DATE:20241124
DTEND;VALUE=DATE:20241125
DTSTAMP:20260425T114130
CREATED:20241005T151831Z
LAST-MODIFIED:20241005T151936Z
UID:10009678-1732406400-1732492799@enjoywhereyouare.today
SUMMARY:Game Day Wings Special!
DESCRIPTION:
URL:https://enjoywhereyouare.today/events/game-day-wings-special-2/2024-11-24/
LOCATION:The Pub\, 160 E Front St\, Traverse City\, MI\, 49684
CATEGORIES:Daily Specials
ATTACH;FMTTYPE=image/jpeg:https://enjoywhereyouare.today/wp-content/uploads/2024/10/Fish-Fry-003-1.jpg
GEO:44.7638478;-85.6212028
X-APPLE-STRUCTURED-LOCATION;VALUE=URI;X-ADDRESS=The Pub 160 E Front St Traverse City MI 49684;X-APPLE-RADIUS=500;X-TITLE=160 E Front St:geo:-85.6212028,44.7638478
END:VEVENT
END:VCALENDAR