BEGIN:VCALENDAR
VERSION:2.0
PRODID:-//Enjoy Where You Are - ECPv6.5.2//NONSGML v1.0//EN
CALSCALE:GREGORIAN
METHOD:PUBLISH
X-ORIGINAL-URL:https://enjoywhereyouare.today
X-WR-CALDESC:Events for Enjoy Where You Are
REFRESH-INTERVAL;VALUE=DURATION:PT1H
X-Robots-Tag:noindex
X-PUBLISHED-TTL:PT1H
BEGIN:VTIMEZONE
TZID:America/New_York
BEGIN:DAYLIGHT
TZOFFSETFROM:-0500
TZOFFSETTO:-0400
TZNAME:EDT
DTSTART:20260308T070000
END:DAYLIGHT
BEGIN:STANDARD
TZOFFSETFROM:-0400
TZOFFSETTO:-0500
TZNAME:EST
DTSTART:20261101T060000
END:STANDARD
END:VTIMEZONE
BEGIN:VEVENT
DTSTART;TZID=America/New_York:20260324T140000
DTEND;TZID=America/New_York:20260324T170000
DTSTAMP:20260422T150325
CREATED:20250915T203347Z
LAST-MODIFIED:20250915T203347Z
UID:10014479-1774360800-1774371600@enjoywhereyouare.today
SUMMARY:Happy Hour
DESCRIPTION:Monday-Friday from 2-5pm. Half Off all of your favorite drinks. Includes Pub classics or one of 20 tap beers. ENJOY!!!
URL:https://enjoywhereyouare.today/events/happy-hour-6/2026-03-24/
LOCATION:The Pub\, 160 E Front St\, Traverse City\, MI\, 49684
CATEGORIES:*Downtown TC and Traverse City,Daily Specials
ATTACH;FMTTYPE=image/jpeg:https://enjoywhereyouare.today/wp-content/uploads/2025/09/The-Pub-TC-Happy-Hour.jpg
GEO:44.7638478;-85.6212028
X-APPLE-STRUCTURED-LOCATION;VALUE=URI;X-ADDRESS=The Pub 160 E Front St Traverse City MI 49684;X-APPLE-RADIUS=500;X-TITLE=160 E Front St:geo:-85.6212028,44.7638478
END:VEVENT
BEGIN:VEVENT
DTSTART;TZID=America/New_York:20260323T140000
DTEND;TZID=America/New_York:20260323T170000
DTSTAMP:20260422T150325
CREATED:20250915T203347Z
LAST-MODIFIED:20250915T203347Z
UID:10014478-1774274400-1774285200@enjoywhereyouare.today
SUMMARY:Happy Hour
DESCRIPTION:Monday-Friday from 2-5pm. Half Off all of your favorite drinks. Includes Pub classics or one of 20 tap beers. ENJOY!!!
URL:https://enjoywhereyouare.today/events/happy-hour-6/2026-03-23/
LOCATION:The Pub\, 160 E Front St\, Traverse City\, MI\, 49684
CATEGORIES:*Downtown TC and Traverse City,Daily Specials
ATTACH;FMTTYPE=image/jpeg:https://enjoywhereyouare.today/wp-content/uploads/2025/09/The-Pub-TC-Happy-Hour.jpg
GEO:44.7638478;-85.6212028
X-APPLE-STRUCTURED-LOCATION;VALUE=URI;X-ADDRESS=The Pub 160 E Front St Traverse City MI 49684;X-APPLE-RADIUS=500;X-TITLE=160 E Front St:geo:-85.6212028,44.7638478
END:VEVENT
BEGIN:VEVENT
DTSTART;TZID=America/New_York:20260320T140000
DTEND;TZID=America/New_York:20260320T170000
DTSTAMP:20260422T150325
CREATED:20250915T203347Z
LAST-MODIFIED:20250915T203347Z
UID:10014477-1774015200-1774026000@enjoywhereyouare.today
SUMMARY:Happy Hour
DESCRIPTION:Monday-Friday from 2-5pm. Half Off all of your favorite drinks. Includes Pub classics or one of 20 tap beers. ENJOY!!!
URL:https://enjoywhereyouare.today/events/happy-hour-6/2026-03-20/
LOCATION:The Pub\, 160 E Front St\, Traverse City\, MI\, 49684
CATEGORIES:*Downtown TC and Traverse City,Daily Specials
ATTACH;FMTTYPE=image/jpeg:https://enjoywhereyouare.today/wp-content/uploads/2025/09/The-Pub-TC-Happy-Hour.jpg
GEO:44.7638478;-85.6212028
X-APPLE-STRUCTURED-LOCATION;VALUE=URI;X-ADDRESS=The Pub 160 E Front St Traverse City MI 49684;X-APPLE-RADIUS=500;X-TITLE=160 E Front St:geo:-85.6212028,44.7638478
END:VEVENT
BEGIN:VEVENT
DTSTART;TZID=America/New_York:20260319T140000
DTEND;TZID=America/New_York:20260319T170000
DTSTAMP:20260422T150325
CREATED:20250915T203347Z
LAST-MODIFIED:20250915T203347Z
UID:10014476-1773928800-1773939600@enjoywhereyouare.today
SUMMARY:Happy Hour
DESCRIPTION:Monday-Friday from 2-5pm. Half Off all of your favorite drinks. Includes Pub classics or one of 20 tap beers. ENJOY!!!
URL:https://enjoywhereyouare.today/events/happy-hour-6/2026-03-19/
LOCATION:The Pub\, 160 E Front St\, Traverse City\, MI\, 49684
CATEGORIES:*Downtown TC and Traverse City,Daily Specials
ATTACH;FMTTYPE=image/jpeg:https://enjoywhereyouare.today/wp-content/uploads/2025/09/The-Pub-TC-Happy-Hour.jpg
GEO:44.7638478;-85.6212028
X-APPLE-STRUCTURED-LOCATION;VALUE=URI;X-ADDRESS=The Pub 160 E Front St Traverse City MI 49684;X-APPLE-RADIUS=500;X-TITLE=160 E Front St:geo:-85.6212028,44.7638478
END:VEVENT
BEGIN:VEVENT
DTSTART;TZID=America/New_York:20260318T140000
DTEND;TZID=America/New_York:20260318T170000
DTSTAMP:20260422T150325
CREATED:20250915T203347Z
LAST-MODIFIED:20250915T203347Z
UID:10014475-1773842400-1773853200@enjoywhereyouare.today
SUMMARY:Happy Hour
DESCRIPTION:Monday-Friday from 2-5pm. Half Off all of your favorite drinks. Includes Pub classics or one of 20 tap beers. ENJOY!!!
URL:https://enjoywhereyouare.today/events/happy-hour-6/2026-03-18/
LOCATION:The Pub\, 160 E Front St\, Traverse City\, MI\, 49684
CATEGORIES:*Downtown TC and Traverse City,Daily Specials
ATTACH;FMTTYPE=image/jpeg:https://enjoywhereyouare.today/wp-content/uploads/2025/09/The-Pub-TC-Happy-Hour.jpg
GEO:44.7638478;-85.6212028
X-APPLE-STRUCTURED-LOCATION;VALUE=URI;X-ADDRESS=The Pub 160 E Front St Traverse City MI 49684;X-APPLE-RADIUS=500;X-TITLE=160 E Front St:geo:-85.6212028,44.7638478
END:VEVENT
BEGIN:VEVENT
DTSTART;TZID=America/New_York:20260317T140000
DTEND;TZID=America/New_York:20260317T170000
DTSTAMP:20260422T150325
CREATED:20250915T203347Z
LAST-MODIFIED:20250915T203347Z
UID:10014474-1773756000-1773766800@enjoywhereyouare.today
SUMMARY:Happy Hour
DESCRIPTION:Monday-Friday from 2-5pm. Half Off all of your favorite drinks. Includes Pub classics or one of 20 tap beers. ENJOY!!!
URL:https://enjoywhereyouare.today/events/happy-hour-6/2026-03-17/
LOCATION:The Pub\, 160 E Front St\, Traverse City\, MI\, 49684
CATEGORIES:*Downtown TC and Traverse City,Daily Specials
ATTACH;FMTTYPE=image/jpeg:https://enjoywhereyouare.today/wp-content/uploads/2025/09/The-Pub-TC-Happy-Hour.jpg
GEO:44.7638478;-85.6212028
X-APPLE-STRUCTURED-LOCATION;VALUE=URI;X-ADDRESS=The Pub 160 E Front St Traverse City MI 49684;X-APPLE-RADIUS=500;X-TITLE=160 E Front St:geo:-85.6212028,44.7638478
END:VEVENT
BEGIN:VEVENT
DTSTART;TZID=America/New_York:20260316T140000
DTEND;TZID=America/New_York:20260316T170000
DTSTAMP:20260422T150325
CREATED:20250915T203347Z
LAST-MODIFIED:20250915T203347Z
UID:10014473-1773669600-1773680400@enjoywhereyouare.today
SUMMARY:Happy Hour
DESCRIPTION:Monday-Friday from 2-5pm. Half Off all of your favorite drinks. Includes Pub classics or one of 20 tap beers. ENJOY!!!
URL:https://enjoywhereyouare.today/events/happy-hour-6/2026-03-16/
LOCATION:The Pub\, 160 E Front St\, Traverse City\, MI\, 49684
CATEGORIES:*Downtown TC and Traverse City,Daily Specials
ATTACH;FMTTYPE=image/jpeg:https://enjoywhereyouare.today/wp-content/uploads/2025/09/The-Pub-TC-Happy-Hour.jpg
GEO:44.7638478;-85.6212028
X-APPLE-STRUCTURED-LOCATION;VALUE=URI;X-ADDRESS=The Pub 160 E Front St Traverse City MI 49684;X-APPLE-RADIUS=500;X-TITLE=160 E Front St:geo:-85.6212028,44.7638478
END:VEVENT
BEGIN:VEVENT
DTSTART;TZID=America/New_York:20260313T140000
DTEND;TZID=America/New_York:20260313T170000
DTSTAMP:20260422T150325
CREATED:20250915T203347Z
LAST-MODIFIED:20250915T203347Z
UID:10014472-1773410400-1773421200@enjoywhereyouare.today
SUMMARY:Happy Hour
DESCRIPTION:Monday-Friday from 2-5pm. Half Off all of your favorite drinks. Includes Pub classics or one of 20 tap beers. ENJOY!!!
URL:https://enjoywhereyouare.today/events/happy-hour-6/2026-03-13/
LOCATION:The Pub\, 160 E Front St\, Traverse City\, MI\, 49684
CATEGORIES:*Downtown TC and Traverse City,Daily Specials
ATTACH;FMTTYPE=image/jpeg:https://enjoywhereyouare.today/wp-content/uploads/2025/09/The-Pub-TC-Happy-Hour.jpg
GEO:44.7638478;-85.6212028
X-APPLE-STRUCTURED-LOCATION;VALUE=URI;X-ADDRESS=The Pub 160 E Front St Traverse City MI 49684;X-APPLE-RADIUS=500;X-TITLE=160 E Front St:geo:-85.6212028,44.7638478
END:VEVENT
BEGIN:VEVENT
DTSTART;TZID=America/New_York:20260312T140000
DTEND;TZID=America/New_York:20260312T170000
DTSTAMP:20260422T150325
CREATED:20250915T203347Z
LAST-MODIFIED:20250915T203347Z
UID:10014471-1773324000-1773334800@enjoywhereyouare.today
SUMMARY:Happy Hour
DESCRIPTION:Monday-Friday from 2-5pm. Half Off all of your favorite drinks. Includes Pub classics or one of 20 tap beers. ENJOY!!!
URL:https://enjoywhereyouare.today/events/happy-hour-6/2026-03-12/
LOCATION:The Pub\, 160 E Front St\, Traverse City\, MI\, 49684
CATEGORIES:*Downtown TC and Traverse City,Daily Specials
ATTACH;FMTTYPE=image/jpeg:https://enjoywhereyouare.today/wp-content/uploads/2025/09/The-Pub-TC-Happy-Hour.jpg
GEO:44.7638478;-85.6212028
X-APPLE-STRUCTURED-LOCATION;VALUE=URI;X-ADDRESS=The Pub 160 E Front St Traverse City MI 49684;X-APPLE-RADIUS=500;X-TITLE=160 E Front St:geo:-85.6212028,44.7638478
END:VEVENT
BEGIN:VEVENT
DTSTART;TZID=America/New_York:20260311T140000
DTEND;TZID=America/New_York:20260311T170000
DTSTAMP:20260422T150325
CREATED:20250915T203347Z
LAST-MODIFIED:20250915T203347Z
UID:10014470-1773237600-1773248400@enjoywhereyouare.today
SUMMARY:Happy Hour
DESCRIPTION:Monday-Friday from 2-5pm. Half Off all of your favorite drinks. Includes Pub classics or one of 20 tap beers. ENJOY!!!
URL:https://enjoywhereyouare.today/events/happy-hour-6/2026-03-11/
LOCATION:The Pub\, 160 E Front St\, Traverse City\, MI\, 49684
CATEGORIES:*Downtown TC and Traverse City,Daily Specials
ATTACH;FMTTYPE=image/jpeg:https://enjoywhereyouare.today/wp-content/uploads/2025/09/The-Pub-TC-Happy-Hour.jpg
GEO:44.7638478;-85.6212028
X-APPLE-STRUCTURED-LOCATION;VALUE=URI;X-ADDRESS=The Pub 160 E Front St Traverse City MI 49684;X-APPLE-RADIUS=500;X-TITLE=160 E Front St:geo:-85.6212028,44.7638478
END:VEVENT
BEGIN:VEVENT
DTSTART;TZID=America/New_York:20260310T140000
DTEND;TZID=America/New_York:20260310T170000
DTSTAMP:20260422T150325
CREATED:20250915T203347Z
LAST-MODIFIED:20250915T203347Z
UID:10014469-1773151200-1773162000@enjoywhereyouare.today
SUMMARY:Happy Hour
DESCRIPTION:Monday-Friday from 2-5pm. Half Off all of your favorite drinks. Includes Pub classics or one of 20 tap beers. ENJOY!!!
URL:https://enjoywhereyouare.today/events/happy-hour-6/2026-03-10/
LOCATION:The Pub\, 160 E Front St\, Traverse City\, MI\, 49684
CATEGORIES:*Downtown TC and Traverse City,Daily Specials
ATTACH;FMTTYPE=image/jpeg:https://enjoywhereyouare.today/wp-content/uploads/2025/09/The-Pub-TC-Happy-Hour.jpg
GEO:44.7638478;-85.6212028
X-APPLE-STRUCTURED-LOCATION;VALUE=URI;X-ADDRESS=The Pub 160 E Front St Traverse City MI 49684;X-APPLE-RADIUS=500;X-TITLE=160 E Front St:geo:-85.6212028,44.7638478
END:VEVENT
BEGIN:VEVENT
DTSTART;TZID=America/New_York:20260309T140000
DTEND;TZID=America/New_York:20260309T170000
DTSTAMP:20260422T150325
CREATED:20250915T203347Z
LAST-MODIFIED:20250915T203347Z
UID:10014468-1773064800-1773075600@enjoywhereyouare.today
SUMMARY:Happy Hour
DESCRIPTION:Monday-Friday from 2-5pm. Half Off all of your favorite drinks. Includes Pub classics or one of 20 tap beers. ENJOY!!!
URL:https://enjoywhereyouare.today/events/happy-hour-6/2026-03-09/
LOCATION:The Pub\, 160 E Front St\, Traverse City\, MI\, 49684
CATEGORIES:*Downtown TC and Traverse City,Daily Specials
ATTACH;FMTTYPE=image/jpeg:https://enjoywhereyouare.today/wp-content/uploads/2025/09/The-Pub-TC-Happy-Hour.jpg
GEO:44.7638478;-85.6212028
X-APPLE-STRUCTURED-LOCATION;VALUE=URI;X-ADDRESS=The Pub 160 E Front St Traverse City MI 49684;X-APPLE-RADIUS=500;X-TITLE=160 E Front St:geo:-85.6212028,44.7638478
END:VEVENT
BEGIN:VEVENT
DTSTART;TZID=America/New_York:20260306T140000
DTEND;TZID=America/New_York:20260306T170000
DTSTAMP:20260422T150325
CREATED:20250915T203347Z
LAST-MODIFIED:20250915T203347Z
UID:10014467-1772805600-1772816400@enjoywhereyouare.today
SUMMARY:Happy Hour
DESCRIPTION:Monday-Friday from 2-5pm. Half Off all of your favorite drinks. Includes Pub classics or one of 20 tap beers. ENJOY!!!
URL:https://enjoywhereyouare.today/events/happy-hour-6/2026-03-06/
LOCATION:The Pub\, 160 E Front St\, Traverse City\, MI\, 49684
CATEGORIES:*Downtown TC and Traverse City,Daily Specials
ATTACH;FMTTYPE=image/jpeg:https://enjoywhereyouare.today/wp-content/uploads/2025/09/The-Pub-TC-Happy-Hour.jpg
GEO:44.7638478;-85.6212028
X-APPLE-STRUCTURED-LOCATION;VALUE=URI;X-ADDRESS=The Pub 160 E Front St Traverse City MI 49684;X-APPLE-RADIUS=500;X-TITLE=160 E Front St:geo:-85.6212028,44.7638478
END:VEVENT
BEGIN:VEVENT
DTSTART;TZID=America/New_York:20260305T140000
DTEND;TZID=America/New_York:20260305T170000
DTSTAMP:20260422T150325
CREATED:20250915T203347Z
LAST-MODIFIED:20250915T203347Z
UID:10014466-1772719200-1772730000@enjoywhereyouare.today
SUMMARY:Happy Hour
DESCRIPTION:Monday-Friday from 2-5pm. Half Off all of your favorite drinks. Includes Pub classics or one of 20 tap beers. ENJOY!!!
URL:https://enjoywhereyouare.today/events/happy-hour-6/2026-03-05/
LOCATION:The Pub\, 160 E Front St\, Traverse City\, MI\, 49684
CATEGORIES:*Downtown TC and Traverse City,Daily Specials
ATTACH;FMTTYPE=image/jpeg:https://enjoywhereyouare.today/wp-content/uploads/2025/09/The-Pub-TC-Happy-Hour.jpg
GEO:44.7638478;-85.6212028
X-APPLE-STRUCTURED-LOCATION;VALUE=URI;X-ADDRESS=The Pub 160 E Front St Traverse City MI 49684;X-APPLE-RADIUS=500;X-TITLE=160 E Front St:geo:-85.6212028,44.7638478
END:VEVENT
BEGIN:VEVENT
DTSTART;TZID=America/New_York:20260304T140000
DTEND;TZID=America/New_York:20260304T170000
DTSTAMP:20260422T150325
CREATED:20250915T203347Z
LAST-MODIFIED:20250915T203347Z
UID:10014465-1772632800-1772643600@enjoywhereyouare.today
SUMMARY:Happy Hour
DESCRIPTION:Monday-Friday from 2-5pm. Half Off all of your favorite drinks. Includes Pub classics or one of 20 tap beers. ENJOY!!!
URL:https://enjoywhereyouare.today/events/happy-hour-6/2026-03-04/
LOCATION:The Pub\, 160 E Front St\, Traverse City\, MI\, 49684
CATEGORIES:*Downtown TC and Traverse City,Daily Specials
ATTACH;FMTTYPE=image/jpeg:https://enjoywhereyouare.today/wp-content/uploads/2025/09/The-Pub-TC-Happy-Hour.jpg
GEO:44.7638478;-85.6212028
X-APPLE-STRUCTURED-LOCATION;VALUE=URI;X-ADDRESS=The Pub 160 E Front St Traverse City MI 49684;X-APPLE-RADIUS=500;X-TITLE=160 E Front St:geo:-85.6212028,44.7638478
END:VEVENT
BEGIN:VEVENT
DTSTART;TZID=America/New_York:20260303T140000
DTEND;TZID=America/New_York:20260303T170000
DTSTAMP:20260422T150325
CREATED:20250915T203347Z
LAST-MODIFIED:20250915T203347Z
UID:10014464-1772546400-1772557200@enjoywhereyouare.today
SUMMARY:Happy Hour
DESCRIPTION:Monday-Friday from 2-5pm. Half Off all of your favorite drinks. Includes Pub classics or one of 20 tap beers. ENJOY!!!
URL:https://enjoywhereyouare.today/events/happy-hour-6/2026-03-03/
LOCATION:The Pub\, 160 E Front St\, Traverse City\, MI\, 49684
CATEGORIES:*Downtown TC and Traverse City,Daily Specials
ATTACH;FMTTYPE=image/jpeg:https://enjoywhereyouare.today/wp-content/uploads/2025/09/The-Pub-TC-Happy-Hour.jpg
GEO:44.7638478;-85.6212028
X-APPLE-STRUCTURED-LOCATION;VALUE=URI;X-ADDRESS=The Pub 160 E Front St Traverse City MI 49684;X-APPLE-RADIUS=500;X-TITLE=160 E Front St:geo:-85.6212028,44.7638478
END:VEVENT
BEGIN:VEVENT
DTSTART;TZID=America/New_York:20260302T140000
DTEND;TZID=America/New_York:20260302T170000
DTSTAMP:20260422T150325
CREATED:20250915T203347Z
LAST-MODIFIED:20250915T203347Z
UID:10014463-1772460000-1772470800@enjoywhereyouare.today
SUMMARY:Happy Hour
DESCRIPTION:Monday-Friday from 2-5pm. Half Off all of your favorite drinks. Includes Pub classics or one of 20 tap beers. ENJOY!!!
URL:https://enjoywhereyouare.today/events/happy-hour-6/2026-03-02/
LOCATION:The Pub\, 160 E Front St\, Traverse City\, MI\, 49684
CATEGORIES:*Downtown TC and Traverse City,Daily Specials
ATTACH;FMTTYPE=image/jpeg:https://enjoywhereyouare.today/wp-content/uploads/2025/09/The-Pub-TC-Happy-Hour.jpg
GEO:44.7638478;-85.6212028
X-APPLE-STRUCTURED-LOCATION;VALUE=URI;X-ADDRESS=The Pub 160 E Front St Traverse City MI 49684;X-APPLE-RADIUS=500;X-TITLE=160 E Front St:geo:-85.6212028,44.7638478
END:VEVENT
BEGIN:VEVENT
DTSTART;TZID=America/New_York:20260227T140000
DTEND;TZID=America/New_York:20260227T170000
DTSTAMP:20260422T150325
CREATED:20250915T203347Z
LAST-MODIFIED:20250915T203347Z
UID:10014462-1772200800-1772211600@enjoywhereyouare.today
SUMMARY:Happy Hour
DESCRIPTION:Monday-Friday from 2-5pm. Half Off all of your favorite drinks. Includes Pub classics or one of 20 tap beers. ENJOY!!!
URL:https://enjoywhereyouare.today/events/happy-hour-6/2026-02-27/
LOCATION:The Pub\, 160 E Front St\, Traverse City\, MI\, 49684
CATEGORIES:*Downtown TC and Traverse City,Daily Specials
ATTACH;FMTTYPE=image/jpeg:https://enjoywhereyouare.today/wp-content/uploads/2025/09/The-Pub-TC-Happy-Hour.jpg
GEO:44.7638478;-85.6212028
X-APPLE-STRUCTURED-LOCATION;VALUE=URI;X-ADDRESS=The Pub 160 E Front St Traverse City MI 49684;X-APPLE-RADIUS=500;X-TITLE=160 E Front St:geo:-85.6212028,44.7638478
END:VEVENT
BEGIN:VEVENT
DTSTART;TZID=America/New_York:20260226T140000
DTEND;TZID=America/New_York:20260226T170000
DTSTAMP:20260422T150325
CREATED:20250915T203347Z
LAST-MODIFIED:20250915T203347Z
UID:10014461-1772114400-1772125200@enjoywhereyouare.today
SUMMARY:Happy Hour
DESCRIPTION:Monday-Friday from 2-5pm. Half Off all of your favorite drinks. Includes Pub classics or one of 20 tap beers. ENJOY!!!
URL:https://enjoywhereyouare.today/events/happy-hour-6/2026-02-26/
LOCATION:The Pub\, 160 E Front St\, Traverse City\, MI\, 49684
CATEGORIES:*Downtown TC and Traverse City,Daily Specials
ATTACH;FMTTYPE=image/jpeg:https://enjoywhereyouare.today/wp-content/uploads/2025/09/The-Pub-TC-Happy-Hour.jpg
GEO:44.7638478;-85.6212028
X-APPLE-STRUCTURED-LOCATION;VALUE=URI;X-ADDRESS=The Pub 160 E Front St Traverse City MI 49684;X-APPLE-RADIUS=500;X-TITLE=160 E Front St:geo:-85.6212028,44.7638478
END:VEVENT
BEGIN:VEVENT
DTSTART;TZID=America/New_York:20260225T140000
DTEND;TZID=America/New_York:20260225T170000
DTSTAMP:20260422T150325
CREATED:20250915T203347Z
LAST-MODIFIED:20250915T203347Z
UID:10014460-1772028000-1772038800@enjoywhereyouare.today
SUMMARY:Happy Hour
DESCRIPTION:Monday-Friday from 2-5pm. Half Off all of your favorite drinks. Includes Pub classics or one of 20 tap beers. ENJOY!!!
URL:https://enjoywhereyouare.today/events/happy-hour-6/2026-02-25/
LOCATION:The Pub\, 160 E Front St\, Traverse City\, MI\, 49684
CATEGORIES:*Downtown TC and Traverse City,Daily Specials
ATTACH;FMTTYPE=image/jpeg:https://enjoywhereyouare.today/wp-content/uploads/2025/09/The-Pub-TC-Happy-Hour.jpg
GEO:44.7638478;-85.6212028
X-APPLE-STRUCTURED-LOCATION;VALUE=URI;X-ADDRESS=The Pub 160 E Front St Traverse City MI 49684;X-APPLE-RADIUS=500;X-TITLE=160 E Front St:geo:-85.6212028,44.7638478
END:VEVENT
BEGIN:VEVENT
DTSTART;TZID=America/New_York:20260224T140000
DTEND;TZID=America/New_York:20260224T170000
DTSTAMP:20260422T150325
CREATED:20250915T203347Z
LAST-MODIFIED:20250915T203347Z
UID:10014459-1771941600-1771952400@enjoywhereyouare.today
SUMMARY:Happy Hour
DESCRIPTION:Monday-Friday from 2-5pm. Half Off all of your favorite drinks. Includes Pub classics or one of 20 tap beers. ENJOY!!!
URL:https://enjoywhereyouare.today/events/happy-hour-6/2026-02-24/
LOCATION:The Pub\, 160 E Front St\, Traverse City\, MI\, 49684
CATEGORIES:*Downtown TC and Traverse City,Daily Specials
ATTACH;FMTTYPE=image/jpeg:https://enjoywhereyouare.today/wp-content/uploads/2025/09/The-Pub-TC-Happy-Hour.jpg
GEO:44.7638478;-85.6212028
X-APPLE-STRUCTURED-LOCATION;VALUE=URI;X-ADDRESS=The Pub 160 E Front St Traverse City MI 49684;X-APPLE-RADIUS=500;X-TITLE=160 E Front St:geo:-85.6212028,44.7638478
END:VEVENT
BEGIN:VEVENT
DTSTART;TZID=America/New_York:20260223T140000
DTEND;TZID=America/New_York:20260223T170000
DTSTAMP:20260422T150325
CREATED:20250915T203347Z
LAST-MODIFIED:20250915T203347Z
UID:10014458-1771855200-1771866000@enjoywhereyouare.today
SUMMARY:Happy Hour
DESCRIPTION:Monday-Friday from 2-5pm. Half Off all of your favorite drinks. Includes Pub classics or one of 20 tap beers. ENJOY!!!
URL:https://enjoywhereyouare.today/events/happy-hour-6/2026-02-23/
LOCATION:The Pub\, 160 E Front St\, Traverse City\, MI\, 49684
CATEGORIES:*Downtown TC and Traverse City,Daily Specials
ATTACH;FMTTYPE=image/jpeg:https://enjoywhereyouare.today/wp-content/uploads/2025/09/The-Pub-TC-Happy-Hour.jpg
GEO:44.7638478;-85.6212028
X-APPLE-STRUCTURED-LOCATION;VALUE=URI;X-ADDRESS=The Pub 160 E Front St Traverse City MI 49684;X-APPLE-RADIUS=500;X-TITLE=160 E Front St:geo:-85.6212028,44.7638478
END:VEVENT
BEGIN:VEVENT
DTSTART;TZID=America/New_York:20260220T140000
DTEND;TZID=America/New_York:20260220T170000
DTSTAMP:20260422T150325
CREATED:20250915T203347Z
LAST-MODIFIED:20250915T203347Z
UID:10014457-1771596000-1771606800@enjoywhereyouare.today
SUMMARY:Happy Hour
DESCRIPTION:Monday-Friday from 2-5pm. Half Off all of your favorite drinks. Includes Pub classics or one of 20 tap beers. ENJOY!!!
URL:https://enjoywhereyouare.today/events/happy-hour-6/2026-02-20/
LOCATION:The Pub\, 160 E Front St\, Traverse City\, MI\, 49684
CATEGORIES:*Downtown TC and Traverse City,Daily Specials
ATTACH;FMTTYPE=image/jpeg:https://enjoywhereyouare.today/wp-content/uploads/2025/09/The-Pub-TC-Happy-Hour.jpg
GEO:44.7638478;-85.6212028
X-APPLE-STRUCTURED-LOCATION;VALUE=URI;X-ADDRESS=The Pub 160 E Front St Traverse City MI 49684;X-APPLE-RADIUS=500;X-TITLE=160 E Front St:geo:-85.6212028,44.7638478
END:VEVENT
BEGIN:VEVENT
DTSTART;TZID=America/New_York:20260219T140000
DTEND;TZID=America/New_York:20260219T170000
DTSTAMP:20260422T150325
CREATED:20250915T203347Z
LAST-MODIFIED:20250915T203347Z
UID:10014456-1771509600-1771520400@enjoywhereyouare.today
SUMMARY:Happy Hour
DESCRIPTION:Monday-Friday from 2-5pm. Half Off all of your favorite drinks. Includes Pub classics or one of 20 tap beers. ENJOY!!!
URL:https://enjoywhereyouare.today/events/happy-hour-6/2026-02-19/
LOCATION:The Pub\, 160 E Front St\, Traverse City\, MI\, 49684
CATEGORIES:*Downtown TC and Traverse City,Daily Specials
ATTACH;FMTTYPE=image/jpeg:https://enjoywhereyouare.today/wp-content/uploads/2025/09/The-Pub-TC-Happy-Hour.jpg
GEO:44.7638478;-85.6212028
X-APPLE-STRUCTURED-LOCATION;VALUE=URI;X-ADDRESS=The Pub 160 E Front St Traverse City MI 49684;X-APPLE-RADIUS=500;X-TITLE=160 E Front St:geo:-85.6212028,44.7638478
END:VEVENT
BEGIN:VEVENT
DTSTART;TZID=America/New_York:20260218T140000
DTEND;TZID=America/New_York:20260218T170000
DTSTAMP:20260422T150325
CREATED:20250915T203347Z
LAST-MODIFIED:20250915T203347Z
UID:10014455-1771423200-1771434000@enjoywhereyouare.today
SUMMARY:Happy Hour
DESCRIPTION:Monday-Friday from 2-5pm. Half Off all of your favorite drinks. Includes Pub classics or one of 20 tap beers. ENJOY!!!
URL:https://enjoywhereyouare.today/events/happy-hour-6/2026-02-18/
LOCATION:The Pub\, 160 E Front St\, Traverse City\, MI\, 49684
CATEGORIES:*Downtown TC and Traverse City,Daily Specials
ATTACH;FMTTYPE=image/jpeg:https://enjoywhereyouare.today/wp-content/uploads/2025/09/The-Pub-TC-Happy-Hour.jpg
GEO:44.7638478;-85.6212028
X-APPLE-STRUCTURED-LOCATION;VALUE=URI;X-ADDRESS=The Pub 160 E Front St Traverse City MI 49684;X-APPLE-RADIUS=500;X-TITLE=160 E Front St:geo:-85.6212028,44.7638478
END:VEVENT
BEGIN:VEVENT
DTSTART;TZID=America/New_York:20260217T140000
DTEND;TZID=America/New_York:20260217T170000
DTSTAMP:20260422T150325
CREATED:20250915T203347Z
LAST-MODIFIED:20250915T203347Z
UID:10014454-1771336800-1771347600@enjoywhereyouare.today
SUMMARY:Happy Hour
DESCRIPTION:Monday-Friday from 2-5pm. Half Off all of your favorite drinks. Includes Pub classics or one of 20 tap beers. ENJOY!!!
URL:https://enjoywhereyouare.today/events/happy-hour-6/2026-02-17/
LOCATION:The Pub\, 160 E Front St\, Traverse City\, MI\, 49684
CATEGORIES:*Downtown TC and Traverse City,Daily Specials
ATTACH;FMTTYPE=image/jpeg:https://enjoywhereyouare.today/wp-content/uploads/2025/09/The-Pub-TC-Happy-Hour.jpg
GEO:44.7638478;-85.6212028
X-APPLE-STRUCTURED-LOCATION;VALUE=URI;X-ADDRESS=The Pub 160 E Front St Traverse City MI 49684;X-APPLE-RADIUS=500;X-TITLE=160 E Front St:geo:-85.6212028,44.7638478
END:VEVENT
BEGIN:VEVENT
DTSTART;TZID=America/New_York:20260216T140000
DTEND;TZID=America/New_York:20260216T170000
DTSTAMP:20260422T150325
CREATED:20250915T203347Z
LAST-MODIFIED:20250915T203347Z
UID:10014453-1771250400-1771261200@enjoywhereyouare.today
SUMMARY:Happy Hour
DESCRIPTION:Monday-Friday from 2-5pm. Half Off all of your favorite drinks. Includes Pub classics or one of 20 tap beers. ENJOY!!!
URL:https://enjoywhereyouare.today/events/happy-hour-6/2026-02-16/
LOCATION:The Pub\, 160 E Front St\, Traverse City\, MI\, 49684
CATEGORIES:*Downtown TC and Traverse City,Daily Specials
ATTACH;FMTTYPE=image/jpeg:https://enjoywhereyouare.today/wp-content/uploads/2025/09/The-Pub-TC-Happy-Hour.jpg
GEO:44.7638478;-85.6212028
X-APPLE-STRUCTURED-LOCATION;VALUE=URI;X-ADDRESS=The Pub 160 E Front St Traverse City MI 49684;X-APPLE-RADIUS=500;X-TITLE=160 E Front St:geo:-85.6212028,44.7638478
END:VEVENT
BEGIN:VEVENT
DTSTART;TZID=America/New_York:20260213T140000
DTEND;TZID=America/New_York:20260213T170000
DTSTAMP:20260422T150325
CREATED:20250915T203347Z
LAST-MODIFIED:20250915T203347Z
UID:10014452-1770991200-1771002000@enjoywhereyouare.today
SUMMARY:Happy Hour
DESCRIPTION:Monday-Friday from 2-5pm. Half Off all of your favorite drinks. Includes Pub classics or one of 20 tap beers. ENJOY!!!
URL:https://enjoywhereyouare.today/events/happy-hour-6/2026-02-13/
LOCATION:The Pub\, 160 E Front St\, Traverse City\, MI\, 49684
CATEGORIES:*Downtown TC and Traverse City,Daily Specials
ATTACH;FMTTYPE=image/jpeg:https://enjoywhereyouare.today/wp-content/uploads/2025/09/The-Pub-TC-Happy-Hour.jpg
GEO:44.7638478;-85.6212028
X-APPLE-STRUCTURED-LOCATION;VALUE=URI;X-ADDRESS=The Pub 160 E Front St Traverse City MI 49684;X-APPLE-RADIUS=500;X-TITLE=160 E Front St:geo:-85.6212028,44.7638478
END:VEVENT
BEGIN:VEVENT
DTSTART;TZID=America/New_York:20260212T140000
DTEND;TZID=America/New_York:20260212T170000
DTSTAMP:20260422T150325
CREATED:20250915T203347Z
LAST-MODIFIED:20250915T203347Z
UID:10014451-1770904800-1770915600@enjoywhereyouare.today
SUMMARY:Happy Hour
DESCRIPTION:Monday-Friday from 2-5pm. Half Off all of your favorite drinks. Includes Pub classics or one of 20 tap beers. ENJOY!!!
URL:https://enjoywhereyouare.today/events/happy-hour-6/2026-02-12/
LOCATION:The Pub\, 160 E Front St\, Traverse City\, MI\, 49684
CATEGORIES:*Downtown TC and Traverse City,Daily Specials
ATTACH;FMTTYPE=image/jpeg:https://enjoywhereyouare.today/wp-content/uploads/2025/09/The-Pub-TC-Happy-Hour.jpg
GEO:44.7638478;-85.6212028
X-APPLE-STRUCTURED-LOCATION;VALUE=URI;X-ADDRESS=The Pub 160 E Front St Traverse City MI 49684;X-APPLE-RADIUS=500;X-TITLE=160 E Front St:geo:-85.6212028,44.7638478
END:VEVENT
BEGIN:VEVENT
DTSTART;TZID=America/New_York:20260211T140000
DTEND;TZID=America/New_York:20260211T170000
DTSTAMP:20260422T150325
CREATED:20250915T203347Z
LAST-MODIFIED:20250915T203347Z
UID:10014450-1770818400-1770829200@enjoywhereyouare.today
SUMMARY:Happy Hour
DESCRIPTION:Monday-Friday from 2-5pm. Half Off all of your favorite drinks. Includes Pub classics or one of 20 tap beers. ENJOY!!!
URL:https://enjoywhereyouare.today/events/happy-hour-6/2026-02-11/
LOCATION:The Pub\, 160 E Front St\, Traverse City\, MI\, 49684
CATEGORIES:*Downtown TC and Traverse City,Daily Specials
ATTACH;FMTTYPE=image/jpeg:https://enjoywhereyouare.today/wp-content/uploads/2025/09/The-Pub-TC-Happy-Hour.jpg
GEO:44.7638478;-85.6212028
X-APPLE-STRUCTURED-LOCATION;VALUE=URI;X-ADDRESS=The Pub 160 E Front St Traverse City MI 49684;X-APPLE-RADIUS=500;X-TITLE=160 E Front St:geo:-85.6212028,44.7638478
END:VEVENT
END:VCALENDAR