BEGIN:VCALENDAR
VERSION:2.0
PRODID:-//Enjoy Where You Are - ECPv6.5.2//NONSGML v1.0//EN
CALSCALE:GREGORIAN
METHOD:PUBLISH
X-ORIGINAL-URL:https://enjoywhereyouare.today
X-WR-CALDESC:Events for Enjoy Where You Are
REFRESH-INTERVAL;VALUE=DURATION:PT1H
X-Robots-Tag:noindex
X-PUBLISHED-TTL:PT1H
BEGIN:VTIMEZONE
TZID:America/New_York
BEGIN:DAYLIGHT
TZOFFSETFROM:-0500
TZOFFSETTO:-0400
TZNAME:EDT
DTSTART:20250309T070000
END:DAYLIGHT
BEGIN:STANDARD
TZOFFSETFROM:-0400
TZOFFSETTO:-0500
TZNAME:EST
DTSTART:20251102T060000
END:STANDARD
END:VTIMEZONE
BEGIN:VEVENT
DTSTART;TZID=America/New_York:20250618T190000
DTEND;TZID=America/New_York:20250618T220000
DTSTAMP:20260424T234116
CREATED:20250609T150456Z
LAST-MODIFIED:20250611T135302Z
UID:10014002-1750273200-1750284000@enjoywhereyouare.today
SUMMARY:Zeke Clemons
DESCRIPTION:
URL:https://enjoywhereyouare.today/events/zeke-clemons/2025-06-18/
LOCATION:The Pub\, 160 E Front St\, Traverse City\, MI\, 49684
CATEGORIES:Music
ATTACH;FMTTYPE=image/jpeg:https://enjoywhereyouare.today/wp-content/uploads/2025/06/The-Pub-Zeke-Clemons.jpg
GEO:44.7638478;-85.6212028
X-APPLE-STRUCTURED-LOCATION;VALUE=URI;X-ADDRESS=The Pub 160 E Front St Traverse City MI 49684;X-APPLE-RADIUS=500;X-TITLE=160 E Front St:geo:-85.6212028,44.7638478
END:VEVENT
BEGIN:VEVENT
DTSTART;TZID=America/New_York:20250618T180000
DTEND;TZID=America/New_York:20250618T233000
DTSTAMP:20260424T234116
CREATED:20250609T145852Z
LAST-MODIFIED:20250611T135302Z
UID:10013971-1750269600-1750289400@enjoywhereyouare.today
SUMMARY:HALF OFF Pitchers!
DESCRIPTION:Every Wednesday 6pm – Midnight. Music by Zeke Clemons 7-10pm
URL:https://enjoywhereyouare.today/events/half-off-pitchers/2025-06-18/
LOCATION:The Pub\, 160 E Front St\, Traverse City\, MI\, 49684
CATEGORIES:*Downtown TC and Traverse City,Daily Specials
ATTACH;FMTTYPE=image/jpeg:https://enjoywhereyouare.today/wp-content/uploads/2025/06/The-Pub-half-off-pitchers.jpg
GEO:44.7638478;-85.6212028
X-APPLE-STRUCTURED-LOCATION;VALUE=URI;X-ADDRESS=The Pub 160 E Front St Traverse City MI 49684;X-APPLE-RADIUS=500;X-TITLE=160 E Front St:geo:-85.6212028,44.7638478
END:VEVENT
BEGIN:VEVENT
DTSTART;TZID=America/New_York:20250613T170000
DTEND;TZID=America/New_York:20250613T200000
DTSTAMP:20260424T234116
CREATED:20240917T132515Z
LAST-MODIFIED:20260106T193714Z
UID:10013909-1749834000-1749844800@enjoywhereyouare.today
SUMMARY:All-You-Can-Eat FISH FRY
DESCRIPTION:
URL:https://enjoywhereyouare.today/events/fish-fry-fridays/2025-06-13/
LOCATION:The Pub\, 160 E Front St\, Traverse City\, MI\, 49684
CATEGORIES:*Downtown TC and Traverse City,Daily Specials
ATTACH;FMTTYPE=image/jpeg:https://enjoywhereyouare.today/wp-content/uploads/2024/09/The-Pub-Fish-Fry-event.jpg
GEO:44.7638478;-85.6212028
X-APPLE-STRUCTURED-LOCATION;VALUE=URI;X-ADDRESS=The Pub 160 E Front St Traverse City MI 49684;X-APPLE-RADIUS=500;X-TITLE=160 E Front St:geo:-85.6212028,44.7638478
END:VEVENT
BEGIN:VEVENT
DTSTART;TZID=America/New_York:20250612T193000
DTEND;TZID=America/New_York:20250612T223000
DTSTAMP:20260424T234116
CREATED:20250609T143445Z
LAST-MODIFIED:20260106T205541Z
UID:10015323-1749756600-1749767400@enjoywhereyouare.today
SUMMARY:Music Bingo
DESCRIPTION:FREE TO PLAY!!! \n \n 
URL:https://enjoywhereyouare.today/events/music-bingo/2025-06-12/
LOCATION:The Pub\, 160 E Front St\, Traverse City\, MI\, 49684
CATEGORIES:*Downtown TC and Traverse City,Bar Games & Date Nights,The Parlor The Pub North Bar
ATTACH;FMTTYPE=image/jpeg:https://enjoywhereyouare.today/wp-content/uploads/2025/06/The-Pub-Music-Bingo-1.jpg
GEO:44.7638478;-85.6212028
X-APPLE-STRUCTURED-LOCATION;VALUE=URI;X-ADDRESS=The Pub 160 E Front St Traverse City MI 49684;X-APPLE-RADIUS=500;X-TITLE=160 E Front St:geo:-85.6212028,44.7638478
END:VEVENT
BEGIN:VEVENT
DTSTART;TZID=America/New_York:20250611T190000
DTEND;TZID=America/New_York:20250611T220000
DTSTAMP:20260424T234116
CREATED:20250609T150456Z
LAST-MODIFIED:20250611T135302Z
UID:10014001-1749668400-1749679200@enjoywhereyouare.today
SUMMARY:Zeke Clemons
DESCRIPTION:
URL:https://enjoywhereyouare.today/events/zeke-clemons/2025-06-11/
LOCATION:The Pub\, 160 E Front St\, Traverse City\, MI\, 49684
CATEGORIES:Music
ATTACH;FMTTYPE=image/jpeg:https://enjoywhereyouare.today/wp-content/uploads/2025/06/The-Pub-Zeke-Clemons.jpg
GEO:44.7638478;-85.6212028
X-APPLE-STRUCTURED-LOCATION;VALUE=URI;X-ADDRESS=The Pub 160 E Front St Traverse City MI 49684;X-APPLE-RADIUS=500;X-TITLE=160 E Front St:geo:-85.6212028,44.7638478
END:VEVENT
BEGIN:VEVENT
DTSTART;TZID=America/New_York:20250611T180000
DTEND;TZID=America/New_York:20250611T233000
DTSTAMP:20260424T234116
CREATED:20250609T145852Z
LAST-MODIFIED:20250611T135302Z
UID:10013970-1749664800-1749684600@enjoywhereyouare.today
SUMMARY:HALF OFF Pitchers!
DESCRIPTION:Every Wednesday 6pm – Midnight. Music by Zeke Clemons 7-10pm
URL:https://enjoywhereyouare.today/events/half-off-pitchers/2025-06-11/
LOCATION:The Pub\, 160 E Front St\, Traverse City\, MI\, 49684
CATEGORIES:*Downtown TC and Traverse City,Daily Specials
ATTACH;FMTTYPE=image/jpeg:https://enjoywhereyouare.today/wp-content/uploads/2025/06/The-Pub-half-off-pitchers.jpg
GEO:44.7638478;-85.6212028
X-APPLE-STRUCTURED-LOCATION;VALUE=URI;X-ADDRESS=The Pub 160 E Front St Traverse City MI 49684;X-APPLE-RADIUS=500;X-TITLE=160 E Front St:geo:-85.6212028,44.7638478
END:VEVENT
BEGIN:VEVENT
DTSTART;TZID=America/New_York:20250606T170000
DTEND;TZID=America/New_York:20250606T200000
DTSTAMP:20260424T234116
CREATED:20240917T132515Z
LAST-MODIFIED:20260106T193714Z
UID:10013908-1749229200-1749240000@enjoywhereyouare.today
SUMMARY:All-You-Can-Eat FISH FRY
DESCRIPTION:
URL:https://enjoywhereyouare.today/events/fish-fry-fridays/2025-06-06/
LOCATION:The Pub\, 160 E Front St\, Traverse City\, MI\, 49684
CATEGORIES:*Downtown TC and Traverse City,Daily Specials
ATTACH;FMTTYPE=image/jpeg:https://enjoywhereyouare.today/wp-content/uploads/2024/09/The-Pub-Fish-Fry-event.jpg
GEO:44.7638478;-85.6212028
X-APPLE-STRUCTURED-LOCATION;VALUE=URI;X-ADDRESS=The Pub 160 E Front St Traverse City MI 49684;X-APPLE-RADIUS=500;X-TITLE=160 E Front St:geo:-85.6212028,44.7638478
END:VEVENT
BEGIN:VEVENT
DTSTART;TZID=America/New_York:20250605T193000
DTEND;TZID=America/New_York:20250605T223000
DTSTAMP:20260424T234116
CREATED:20250609T143445Z
LAST-MODIFIED:20260106T205541Z
UID:10013938-1749151800-1749162600@enjoywhereyouare.today
SUMMARY:Music Bingo
DESCRIPTION:FREE TO PLAY!!! \n \n 
URL:https://enjoywhereyouare.today/events/music-bingo/2025-06-05/
LOCATION:The Pub\, 160 E Front St\, Traverse City\, MI\, 49684
CATEGORIES:*Downtown TC and Traverse City,Bar Games & Date Nights,The Parlor The Pub North Bar
ATTACH;FMTTYPE=image/jpeg:https://enjoywhereyouare.today/wp-content/uploads/2025/06/The-Pub-Music-Bingo-1.jpg
GEO:44.7638478;-85.6212028
X-APPLE-STRUCTURED-LOCATION;VALUE=URI;X-ADDRESS=The Pub 160 E Front St Traverse City MI 49684;X-APPLE-RADIUS=500;X-TITLE=160 E Front St:geo:-85.6212028,44.7638478
END:VEVENT
BEGIN:VEVENT
DTSTART;TZID=America/New_York:20250604T190000
DTEND;TZID=America/New_York:20250604T220000
DTSTAMP:20260424T234116
CREATED:20250609T150456Z
LAST-MODIFIED:20250611T135302Z
UID:10014000-1749063600-1749074400@enjoywhereyouare.today
SUMMARY:Zeke Clemons
DESCRIPTION:
URL:https://enjoywhereyouare.today/events/zeke-clemons/2025-06-04/
LOCATION:The Pub\, 160 E Front St\, Traverse City\, MI\, 49684
CATEGORIES:Music
ATTACH;FMTTYPE=image/jpeg:https://enjoywhereyouare.today/wp-content/uploads/2025/06/The-Pub-Zeke-Clemons.jpg
GEO:44.7638478;-85.6212028
X-APPLE-STRUCTURED-LOCATION;VALUE=URI;X-ADDRESS=The Pub 160 E Front St Traverse City MI 49684;X-APPLE-RADIUS=500;X-TITLE=160 E Front St:geo:-85.6212028,44.7638478
END:VEVENT
BEGIN:VEVENT
DTSTART;TZID=America/New_York:20250604T180000
DTEND;TZID=America/New_York:20250604T233000
DTSTAMP:20260424T234116
CREATED:20250609T145852Z
LAST-MODIFIED:20250611T135302Z
UID:10013969-1749060000-1749079800@enjoywhereyouare.today
SUMMARY:HALF OFF Pitchers!
DESCRIPTION:Every Wednesday 6pm – Midnight. Music by Zeke Clemons 7-10pm
URL:https://enjoywhereyouare.today/events/half-off-pitchers/2025-06-04/
LOCATION:The Pub\, 160 E Front St\, Traverse City\, MI\, 49684
CATEGORIES:*Downtown TC and Traverse City,Daily Specials
ATTACH;FMTTYPE=image/jpeg:https://enjoywhereyouare.today/wp-content/uploads/2025/06/The-Pub-half-off-pitchers.jpg
GEO:44.7638478;-85.6212028
X-APPLE-STRUCTURED-LOCATION;VALUE=URI;X-ADDRESS=The Pub 160 E Front St Traverse City MI 49684;X-APPLE-RADIUS=500;X-TITLE=160 E Front St:geo:-85.6212028,44.7638478
END:VEVENT
BEGIN:VEVENT
DTSTART;TZID=America/New_York:20250530T170000
DTEND;TZID=America/New_York:20250530T200000
DTSTAMP:20260424T234116
CREATED:20240917T132515Z
LAST-MODIFIED:20260106T193714Z
UID:10013907-1748624400-1748635200@enjoywhereyouare.today
SUMMARY:All-You-Can-Eat FISH FRY
DESCRIPTION:
URL:https://enjoywhereyouare.today/events/fish-fry-fridays/2025-05-30/
LOCATION:The Pub\, 160 E Front St\, Traverse City\, MI\, 49684
CATEGORIES:*Downtown TC and Traverse City,Daily Specials
ATTACH;FMTTYPE=image/jpeg:https://enjoywhereyouare.today/wp-content/uploads/2024/09/The-Pub-Fish-Fry-event.jpg
GEO:44.7638478;-85.6212028
X-APPLE-STRUCTURED-LOCATION;VALUE=URI;X-ADDRESS=The Pub 160 E Front St Traverse City MI 49684;X-APPLE-RADIUS=500;X-TITLE=160 E Front St:geo:-85.6212028,44.7638478
END:VEVENT
BEGIN:VEVENT
DTSTART;TZID=America/New_York:20250523T170000
DTEND;TZID=America/New_York:20250523T200000
DTSTAMP:20260424T234117
CREATED:20240917T132515Z
LAST-MODIFIED:20260106T193714Z
UID:10013906-1748019600-1748030400@enjoywhereyouare.today
SUMMARY:All-You-Can-Eat FISH FRY
DESCRIPTION:
URL:https://enjoywhereyouare.today/events/fish-fry-fridays/2025-05-23/
LOCATION:The Pub\, 160 E Front St\, Traverse City\, MI\, 49684
CATEGORIES:*Downtown TC and Traverse City,Daily Specials
ATTACH;FMTTYPE=image/jpeg:https://enjoywhereyouare.today/wp-content/uploads/2024/09/The-Pub-Fish-Fry-event.jpg
GEO:44.7638478;-85.6212028
X-APPLE-STRUCTURED-LOCATION;VALUE=URI;X-ADDRESS=The Pub 160 E Front St Traverse City MI 49684;X-APPLE-RADIUS=500;X-TITLE=160 E Front St:geo:-85.6212028,44.7638478
END:VEVENT
BEGIN:VEVENT
DTSTART;TZID=America/New_York:20250516T170000
DTEND;TZID=America/New_York:20250516T200000
DTSTAMP:20260424T234117
CREATED:20240917T132515Z
LAST-MODIFIED:20260106T193714Z
UID:10013905-1747414800-1747425600@enjoywhereyouare.today
SUMMARY:All-You-Can-Eat FISH FRY
DESCRIPTION:
URL:https://enjoywhereyouare.today/events/fish-fry-fridays/2025-05-16/
LOCATION:The Pub\, 160 E Front St\, Traverse City\, MI\, 49684
CATEGORIES:*Downtown TC and Traverse City,Daily Specials
ATTACH;FMTTYPE=image/jpeg:https://enjoywhereyouare.today/wp-content/uploads/2024/09/The-Pub-Fish-Fry-event.jpg
GEO:44.7638478;-85.6212028
X-APPLE-STRUCTURED-LOCATION;VALUE=URI;X-ADDRESS=The Pub 160 E Front St Traverse City MI 49684;X-APPLE-RADIUS=500;X-TITLE=160 E Front St:geo:-85.6212028,44.7638478
END:VEVENT
BEGIN:VEVENT
DTSTART;TZID=America/New_York:20250516T120000
DTEND;TZID=America/New_York:20250516T160000
DTSTAMP:20260424T234117
CREATED:20240917T133154Z
LAST-MODIFIED:20240917T133154Z
UID:10007511-1747396800-1747411200@enjoywhereyouare.today
SUMMARY:Happy Hour
DESCRIPTION:
URL:https://enjoywhereyouare.today/events/happy-hour-3/2025-05-16/
LOCATION:The Pub\, 160 E Front St\, Traverse City\, MI\, 49684
CATEGORIES:*Downtown TC and Traverse City,Daily Specials
ATTACH;FMTTYPE=image/jpeg:https://enjoywhereyouare.today/wp-content/uploads/2024/09/Happy-Hour-The-Pub-TC.jpg
GEO:44.7638478;-85.6212028
X-APPLE-STRUCTURED-LOCATION;VALUE=URI;X-ADDRESS=The Pub 160 E Front St Traverse City MI 49684;X-APPLE-RADIUS=500;X-TITLE=160 E Front St:geo:-85.6212028,44.7638478
END:VEVENT
BEGIN:VEVENT
DTSTART;TZID=America/New_York:20250515T120000
DTEND;TZID=America/New_York:20250515T160000
DTSTAMP:20260424T234117
CREATED:20240917T133154Z
LAST-MODIFIED:20240917T133154Z
UID:10007510-1747310400-1747324800@enjoywhereyouare.today
SUMMARY:Happy Hour
DESCRIPTION:
URL:https://enjoywhereyouare.today/events/happy-hour-3/2025-05-15/
LOCATION:The Pub\, 160 E Front St\, Traverse City\, MI\, 49684
CATEGORIES:*Downtown TC and Traverse City,Daily Specials
ATTACH;FMTTYPE=image/jpeg:https://enjoywhereyouare.today/wp-content/uploads/2024/09/Happy-Hour-The-Pub-TC.jpg
GEO:44.7638478;-85.6212028
X-APPLE-STRUCTURED-LOCATION;VALUE=URI;X-ADDRESS=The Pub 160 E Front St Traverse City MI 49684;X-APPLE-RADIUS=500;X-TITLE=160 E Front St:geo:-85.6212028,44.7638478
END:VEVENT
BEGIN:VEVENT
DTSTART;TZID=America/New_York:20250514T120000
DTEND;TZID=America/New_York:20250514T160000
DTSTAMP:20260424T234117
CREATED:20240917T133154Z
LAST-MODIFIED:20240917T133154Z
UID:10007509-1747224000-1747238400@enjoywhereyouare.today
SUMMARY:Happy Hour
DESCRIPTION:
URL:https://enjoywhereyouare.today/events/happy-hour-3/2025-05-14/
LOCATION:The Pub\, 160 E Front St\, Traverse City\, MI\, 49684
CATEGORIES:*Downtown TC and Traverse City,Daily Specials
ATTACH;FMTTYPE=image/jpeg:https://enjoywhereyouare.today/wp-content/uploads/2024/09/Happy-Hour-The-Pub-TC.jpg
GEO:44.7638478;-85.6212028
X-APPLE-STRUCTURED-LOCATION;VALUE=URI;X-ADDRESS=The Pub 160 E Front St Traverse City MI 49684;X-APPLE-RADIUS=500;X-TITLE=160 E Front St:geo:-85.6212028,44.7638478
END:VEVENT
BEGIN:VEVENT
DTSTART;TZID=America/New_York:20250513T120000
DTEND;TZID=America/New_York:20250513T160000
DTSTAMP:20260424T234117
CREATED:20240917T133154Z
LAST-MODIFIED:20240917T133154Z
UID:10007508-1747137600-1747152000@enjoywhereyouare.today
SUMMARY:Happy Hour
DESCRIPTION:
URL:https://enjoywhereyouare.today/events/happy-hour-3/2025-05-13/
LOCATION:The Pub\, 160 E Front St\, Traverse City\, MI\, 49684
CATEGORIES:*Downtown TC and Traverse City,Daily Specials
ATTACH;FMTTYPE=image/jpeg:https://enjoywhereyouare.today/wp-content/uploads/2024/09/Happy-Hour-The-Pub-TC.jpg
GEO:44.7638478;-85.6212028
X-APPLE-STRUCTURED-LOCATION;VALUE=URI;X-ADDRESS=The Pub 160 E Front St Traverse City MI 49684;X-APPLE-RADIUS=500;X-TITLE=160 E Front St:geo:-85.6212028,44.7638478
END:VEVENT
BEGIN:VEVENT
DTSTART;TZID=America/New_York:20250512T120000
DTEND;TZID=America/New_York:20250512T160000
DTSTAMP:20260424T234117
CREATED:20240917T133154Z
LAST-MODIFIED:20240917T133154Z
UID:10007507-1747051200-1747065600@enjoywhereyouare.today
SUMMARY:Happy Hour
DESCRIPTION:
URL:https://enjoywhereyouare.today/events/happy-hour-3/2025-05-12/
LOCATION:The Pub\, 160 E Front St\, Traverse City\, MI\, 49684
CATEGORIES:*Downtown TC and Traverse City,Daily Specials
ATTACH;FMTTYPE=image/jpeg:https://enjoywhereyouare.today/wp-content/uploads/2024/09/Happy-Hour-The-Pub-TC.jpg
GEO:44.7638478;-85.6212028
X-APPLE-STRUCTURED-LOCATION;VALUE=URI;X-ADDRESS=The Pub 160 E Front St Traverse City MI 49684;X-APPLE-RADIUS=500;X-TITLE=160 E Front St:geo:-85.6212028,44.7638478
END:VEVENT
BEGIN:VEVENT
DTSTART;TZID=America/New_York:20250509T170000
DTEND;TZID=America/New_York:20250509T200000
DTSTAMP:20260424T234117
CREATED:20240917T132515Z
LAST-MODIFIED:20260106T193714Z
UID:10013904-1746810000-1746820800@enjoywhereyouare.today
SUMMARY:All-You-Can-Eat FISH FRY
DESCRIPTION:
URL:https://enjoywhereyouare.today/events/fish-fry-fridays/2025-05-09/
LOCATION:The Pub\, 160 E Front St\, Traverse City\, MI\, 49684
CATEGORIES:*Downtown TC and Traverse City,Daily Specials
ATTACH;FMTTYPE=image/jpeg:https://enjoywhereyouare.today/wp-content/uploads/2024/09/The-Pub-Fish-Fry-event.jpg
GEO:44.7638478;-85.6212028
X-APPLE-STRUCTURED-LOCATION;VALUE=URI;X-ADDRESS=The Pub 160 E Front St Traverse City MI 49684;X-APPLE-RADIUS=500;X-TITLE=160 E Front St:geo:-85.6212028,44.7638478
END:VEVENT
BEGIN:VEVENT
DTSTART;TZID=America/New_York:20250509T120000
DTEND;TZID=America/New_York:20250509T160000
DTSTAMP:20260424T234117
CREATED:20240917T133154Z
LAST-MODIFIED:20240917T133154Z
UID:10007506-1746792000-1746806400@enjoywhereyouare.today
SUMMARY:Happy Hour
DESCRIPTION:
URL:https://enjoywhereyouare.today/events/happy-hour-3/2025-05-09/
LOCATION:The Pub\, 160 E Front St\, Traverse City\, MI\, 49684
CATEGORIES:*Downtown TC and Traverse City,Daily Specials
ATTACH;FMTTYPE=image/jpeg:https://enjoywhereyouare.today/wp-content/uploads/2024/09/Happy-Hour-The-Pub-TC.jpg
GEO:44.7638478;-85.6212028
X-APPLE-STRUCTURED-LOCATION;VALUE=URI;X-ADDRESS=The Pub 160 E Front St Traverse City MI 49684;X-APPLE-RADIUS=500;X-TITLE=160 E Front St:geo:-85.6212028,44.7638478
END:VEVENT
BEGIN:VEVENT
DTSTART;TZID=America/New_York:20250508T120000
DTEND;TZID=America/New_York:20250508T160000
DTSTAMP:20260424T234117
CREATED:20240917T133154Z
LAST-MODIFIED:20240917T133154Z
UID:10007505-1746705600-1746720000@enjoywhereyouare.today
SUMMARY:Happy Hour
DESCRIPTION:
URL:https://enjoywhereyouare.today/events/happy-hour-3/2025-05-08/
LOCATION:The Pub\, 160 E Front St\, Traverse City\, MI\, 49684
CATEGORIES:*Downtown TC and Traverse City,Daily Specials
ATTACH;FMTTYPE=image/jpeg:https://enjoywhereyouare.today/wp-content/uploads/2024/09/Happy-Hour-The-Pub-TC.jpg
GEO:44.7638478;-85.6212028
X-APPLE-STRUCTURED-LOCATION;VALUE=URI;X-ADDRESS=The Pub 160 E Front St Traverse City MI 49684;X-APPLE-RADIUS=500;X-TITLE=160 E Front St:geo:-85.6212028,44.7638478
END:VEVENT
BEGIN:VEVENT
DTSTART;TZID=America/New_York:20250507T120000
DTEND;TZID=America/New_York:20250507T160000
DTSTAMP:20260424T234117
CREATED:20240917T133154Z
LAST-MODIFIED:20240917T133154Z
UID:10007504-1746619200-1746633600@enjoywhereyouare.today
SUMMARY:Happy Hour
DESCRIPTION:
URL:https://enjoywhereyouare.today/events/happy-hour-3/2025-05-07/
LOCATION:The Pub\, 160 E Front St\, Traverse City\, MI\, 49684
CATEGORIES:*Downtown TC and Traverse City,Daily Specials
ATTACH;FMTTYPE=image/jpeg:https://enjoywhereyouare.today/wp-content/uploads/2024/09/Happy-Hour-The-Pub-TC.jpg
GEO:44.7638478;-85.6212028
X-APPLE-STRUCTURED-LOCATION;VALUE=URI;X-ADDRESS=The Pub 160 E Front St Traverse City MI 49684;X-APPLE-RADIUS=500;X-TITLE=160 E Front St:geo:-85.6212028,44.7638478
END:VEVENT
BEGIN:VEVENT
DTSTART;TZID=America/New_York:20250506T120000
DTEND;TZID=America/New_York:20250506T160000
DTSTAMP:20260424T234117
CREATED:20240917T133154Z
LAST-MODIFIED:20240917T133154Z
UID:10007503-1746532800-1746547200@enjoywhereyouare.today
SUMMARY:Happy Hour
DESCRIPTION:
URL:https://enjoywhereyouare.today/events/happy-hour-3/2025-05-06/
LOCATION:The Pub\, 160 E Front St\, Traverse City\, MI\, 49684
CATEGORIES:*Downtown TC and Traverse City,Daily Specials
ATTACH;FMTTYPE=image/jpeg:https://enjoywhereyouare.today/wp-content/uploads/2024/09/Happy-Hour-The-Pub-TC.jpg
GEO:44.7638478;-85.6212028
X-APPLE-STRUCTURED-LOCATION;VALUE=URI;X-ADDRESS=The Pub 160 E Front St Traverse City MI 49684;X-APPLE-RADIUS=500;X-TITLE=160 E Front St:geo:-85.6212028,44.7638478
END:VEVENT
BEGIN:VEVENT
DTSTART;TZID=America/New_York:20250505T120000
DTEND;TZID=America/New_York:20250505T160000
DTSTAMP:20260424T234117
CREATED:20240917T133154Z
LAST-MODIFIED:20240917T133154Z
UID:10007502-1746446400-1746460800@enjoywhereyouare.today
SUMMARY:Happy Hour
DESCRIPTION:
URL:https://enjoywhereyouare.today/events/happy-hour-3/2025-05-05/
LOCATION:The Pub\, 160 E Front St\, Traverse City\, MI\, 49684
CATEGORIES:*Downtown TC and Traverse City,Daily Specials
ATTACH;FMTTYPE=image/jpeg:https://enjoywhereyouare.today/wp-content/uploads/2024/09/Happy-Hour-The-Pub-TC.jpg
GEO:44.7638478;-85.6212028
X-APPLE-STRUCTURED-LOCATION;VALUE=URI;X-ADDRESS=The Pub 160 E Front St Traverse City MI 49684;X-APPLE-RADIUS=500;X-TITLE=160 E Front St:geo:-85.6212028,44.7638478
END:VEVENT
BEGIN:VEVENT
DTSTART;TZID=America/New_York:20250502T170000
DTEND;TZID=America/New_York:20250502T200000
DTSTAMP:20260424T234117
CREATED:20240917T132515Z
LAST-MODIFIED:20260106T193714Z
UID:10013903-1746205200-1746216000@enjoywhereyouare.today
SUMMARY:All-You-Can-Eat FISH FRY
DESCRIPTION:
URL:https://enjoywhereyouare.today/events/fish-fry-fridays/2025-05-02/
LOCATION:The Pub\, 160 E Front St\, Traverse City\, MI\, 49684
CATEGORIES:*Downtown TC and Traverse City,Daily Specials
ATTACH;FMTTYPE=image/jpeg:https://enjoywhereyouare.today/wp-content/uploads/2024/09/The-Pub-Fish-Fry-event.jpg
GEO:44.7638478;-85.6212028
X-APPLE-STRUCTURED-LOCATION;VALUE=URI;X-ADDRESS=The Pub 160 E Front St Traverse City MI 49684;X-APPLE-RADIUS=500;X-TITLE=160 E Front St:geo:-85.6212028,44.7638478
END:VEVENT
BEGIN:VEVENT
DTSTART;TZID=America/New_York:20250502T120000
DTEND;TZID=America/New_York:20250502T160000
DTSTAMP:20260424T234117
CREATED:20240917T133154Z
LAST-MODIFIED:20240917T133154Z
UID:10007501-1746187200-1746201600@enjoywhereyouare.today
SUMMARY:Happy Hour
DESCRIPTION:
URL:https://enjoywhereyouare.today/events/happy-hour-3/2025-05-02/
LOCATION:The Pub\, 160 E Front St\, Traverse City\, MI\, 49684
CATEGORIES:*Downtown TC and Traverse City,Daily Specials
ATTACH;FMTTYPE=image/jpeg:https://enjoywhereyouare.today/wp-content/uploads/2024/09/Happy-Hour-The-Pub-TC.jpg
GEO:44.7638478;-85.6212028
X-APPLE-STRUCTURED-LOCATION;VALUE=URI;X-ADDRESS=The Pub 160 E Front St Traverse City MI 49684;X-APPLE-RADIUS=500;X-TITLE=160 E Front St:geo:-85.6212028,44.7638478
END:VEVENT
BEGIN:VEVENT
DTSTART;TZID=America/New_York:20250501T120000
DTEND;TZID=America/New_York:20250501T160000
DTSTAMP:20260424T234117
CREATED:20240917T133154Z
LAST-MODIFIED:20240917T133154Z
UID:10007500-1746100800-1746115200@enjoywhereyouare.today
SUMMARY:Happy Hour
DESCRIPTION:
URL:https://enjoywhereyouare.today/events/happy-hour-3/2025-05-01/
LOCATION:The Pub\, 160 E Front St\, Traverse City\, MI\, 49684
CATEGORIES:*Downtown TC and Traverse City,Daily Specials
ATTACH;FMTTYPE=image/jpeg:https://enjoywhereyouare.today/wp-content/uploads/2024/09/Happy-Hour-The-Pub-TC.jpg
GEO:44.7638478;-85.6212028
X-APPLE-STRUCTURED-LOCATION;VALUE=URI;X-ADDRESS=The Pub 160 E Front St Traverse City MI 49684;X-APPLE-RADIUS=500;X-TITLE=160 E Front St:geo:-85.6212028,44.7638478
END:VEVENT
BEGIN:VEVENT
DTSTART;TZID=America/New_York:20250430T120000
DTEND;TZID=America/New_York:20250430T160000
DTSTAMP:20260424T234117
CREATED:20240917T133154Z
LAST-MODIFIED:20240917T133154Z
UID:10007499-1746014400-1746028800@enjoywhereyouare.today
SUMMARY:Happy Hour
DESCRIPTION:
URL:https://enjoywhereyouare.today/events/happy-hour-3/2025-04-30/
LOCATION:The Pub\, 160 E Front St\, Traverse City\, MI\, 49684
CATEGORIES:*Downtown TC and Traverse City,Daily Specials
ATTACH;FMTTYPE=image/jpeg:https://enjoywhereyouare.today/wp-content/uploads/2024/09/Happy-Hour-The-Pub-TC.jpg
GEO:44.7638478;-85.6212028
X-APPLE-STRUCTURED-LOCATION;VALUE=URI;X-ADDRESS=The Pub 160 E Front St Traverse City MI 49684;X-APPLE-RADIUS=500;X-TITLE=160 E Front St:geo:-85.6212028,44.7638478
END:VEVENT
BEGIN:VEVENT
DTSTART;TZID=America/New_York:20250429T120000
DTEND;TZID=America/New_York:20250429T160000
DTSTAMP:20260424T234117
CREATED:20240917T133154Z
LAST-MODIFIED:20240917T133154Z
UID:10007498-1745928000-1745942400@enjoywhereyouare.today
SUMMARY:Happy Hour
DESCRIPTION:
URL:https://enjoywhereyouare.today/events/happy-hour-3/2025-04-29/
LOCATION:The Pub\, 160 E Front St\, Traverse City\, MI\, 49684
CATEGORIES:*Downtown TC and Traverse City,Daily Specials
ATTACH;FMTTYPE=image/jpeg:https://enjoywhereyouare.today/wp-content/uploads/2024/09/Happy-Hour-The-Pub-TC.jpg
GEO:44.7638478;-85.6212028
X-APPLE-STRUCTURED-LOCATION;VALUE=URI;X-ADDRESS=The Pub 160 E Front St Traverse City MI 49684;X-APPLE-RADIUS=500;X-TITLE=160 E Front St:geo:-85.6212028,44.7638478
END:VEVENT
BEGIN:VEVENT
DTSTART;TZID=America/New_York:20250428T120000
DTEND;TZID=America/New_York:20250428T160000
DTSTAMP:20260424T234117
CREATED:20240917T133154Z
LAST-MODIFIED:20240917T133154Z
UID:10007497-1745841600-1745856000@enjoywhereyouare.today
SUMMARY:Happy Hour
DESCRIPTION:
URL:https://enjoywhereyouare.today/events/happy-hour-3/2025-04-28/
LOCATION:The Pub\, 160 E Front St\, Traverse City\, MI\, 49684
CATEGORIES:*Downtown TC and Traverse City,Daily Specials
ATTACH;FMTTYPE=image/jpeg:https://enjoywhereyouare.today/wp-content/uploads/2024/09/Happy-Hour-The-Pub-TC.jpg
GEO:44.7638478;-85.6212028
X-APPLE-STRUCTURED-LOCATION;VALUE=URI;X-ADDRESS=The Pub 160 E Front St Traverse City MI 49684;X-APPLE-RADIUS=500;X-TITLE=160 E Front St:geo:-85.6212028,44.7638478
END:VEVENT
END:VCALENDAR