BEGIN:VCALENDAR
VERSION:2.0
PRODID:-//Enjoy Where You Are - ECPv6.5.2//NONSGML v1.0//EN
CALSCALE:GREGORIAN
METHOD:PUBLISH
X-ORIGINAL-URL:https://enjoywhereyouare.today
X-WR-CALDESC:Events for Enjoy Where You Are
REFRESH-INTERVAL;VALUE=DURATION:PT1H
X-Robots-Tag:noindex
X-PUBLISHED-TTL:PT1H
BEGIN:VTIMEZONE
TZID:America/New_York
BEGIN:DAYLIGHT
TZOFFSETFROM:-0500
TZOFFSETTO:-0400
TZNAME:EDT
DTSTART:20250309T070000
END:DAYLIGHT
BEGIN:STANDARD
TZOFFSETFROM:-0400
TZOFFSETTO:-0500
TZNAME:EST
DTSTART:20251102T060000
END:STANDARD
END:VTIMEZONE
BEGIN:VEVENT
DTSTART;TZID=America/New_York:20251022T180000
DTEND;TZID=America/New_York:20251022T233000
DTSTAMP:20260424T162132
CREATED:20250609T145852Z
LAST-MODIFIED:20250611T135302Z
UID:10013989-1761156000-1761175800@enjoywhereyouare.today
SUMMARY:HALF OFF Pitchers!
DESCRIPTION:Every Wednesday 6pm – Midnight. Music by Zeke Clemons 7-10pm
URL:https://enjoywhereyouare.today/events/half-off-pitchers/2025-10-22/
LOCATION:The Pub\, 160 E Front St\, Traverse City\, MI\, 49684
CATEGORIES:*Downtown TC and Traverse City,Daily Specials
ATTACH;FMTTYPE=image/jpeg:https://enjoywhereyouare.today/wp-content/uploads/2025/06/The-Pub-half-off-pitchers.jpg
GEO:44.7638478;-85.6212028
X-APPLE-STRUCTURED-LOCATION;VALUE=URI;X-ADDRESS=The Pub 160 E Front St Traverse City MI 49684;X-APPLE-RADIUS=500;X-TITLE=160 E Front St:geo:-85.6212028,44.7638478
END:VEVENT
BEGIN:VEVENT
DTSTART;TZID=America/New_York:20251022T140000
DTEND;TZID=America/New_York:20251022T170000
DTSTAMP:20260424T162132
CREATED:20250915T203347Z
LAST-MODIFIED:20250915T203347Z
UID:10014370-1761141600-1761152400@enjoywhereyouare.today
SUMMARY:Happy Hour
DESCRIPTION:Monday-Friday from 2-5pm. Half Off all of your favorite drinks. Includes Pub classics or one of 20 tap beers. ENJOY!!!
URL:https://enjoywhereyouare.today/events/happy-hour-6/2025-10-22/
LOCATION:The Pub\, 160 E Front St\, Traverse City\, MI\, 49684
CATEGORIES:*Downtown TC and Traverse City,Daily Specials
ATTACH;FMTTYPE=image/jpeg:https://enjoywhereyouare.today/wp-content/uploads/2025/09/The-Pub-TC-Happy-Hour.jpg
GEO:44.7638478;-85.6212028
X-APPLE-STRUCTURED-LOCATION;VALUE=URI;X-ADDRESS=The Pub 160 E Front St Traverse City MI 49684;X-APPLE-RADIUS=500;X-TITLE=160 E Front St:geo:-85.6212028,44.7638478
END:VEVENT
BEGIN:VEVENT
DTSTART;TZID=America/New_York:20251021T140000
DTEND;TZID=America/New_York:20251021T170000
DTSTAMP:20260424T162132
CREATED:20250915T203347Z
LAST-MODIFIED:20250915T203347Z
UID:10014369-1761055200-1761066000@enjoywhereyouare.today
SUMMARY:Happy Hour
DESCRIPTION:Monday-Friday from 2-5pm. Half Off all of your favorite drinks. Includes Pub classics or one of 20 tap beers. ENJOY!!!
URL:https://enjoywhereyouare.today/events/happy-hour-6/2025-10-21/
LOCATION:The Pub\, 160 E Front St\, Traverse City\, MI\, 49684
CATEGORIES:*Downtown TC and Traverse City,Daily Specials
ATTACH;FMTTYPE=image/jpeg:https://enjoywhereyouare.today/wp-content/uploads/2025/09/The-Pub-TC-Happy-Hour.jpg
GEO:44.7638478;-85.6212028
X-APPLE-STRUCTURED-LOCATION;VALUE=URI;X-ADDRESS=The Pub 160 E Front St Traverse City MI 49684;X-APPLE-RADIUS=500;X-TITLE=160 E Front St:geo:-85.6212028,44.7638478
END:VEVENT
BEGIN:VEVENT
DTSTART;TZID=America/New_York:20251020T140000
DTEND;TZID=America/New_York:20251020T170000
DTSTAMP:20260424T162132
CREATED:20250915T203347Z
LAST-MODIFIED:20250915T203347Z
UID:10014368-1760968800-1760979600@enjoywhereyouare.today
SUMMARY:Happy Hour
DESCRIPTION:Monday-Friday from 2-5pm. Half Off all of your favorite drinks. Includes Pub classics or one of 20 tap beers. ENJOY!!!
URL:https://enjoywhereyouare.today/events/happy-hour-6/2025-10-20/
LOCATION:The Pub\, 160 E Front St\, Traverse City\, MI\, 49684
CATEGORIES:*Downtown TC and Traverse City,Daily Specials
ATTACH;FMTTYPE=image/jpeg:https://enjoywhereyouare.today/wp-content/uploads/2025/09/The-Pub-TC-Happy-Hour.jpg
GEO:44.7638478;-85.6212028
X-APPLE-STRUCTURED-LOCATION;VALUE=URI;X-ADDRESS=The Pub 160 E Front St Traverse City MI 49684;X-APPLE-RADIUS=500;X-TITLE=160 E Front St:geo:-85.6212028,44.7638478
END:VEVENT
BEGIN:VEVENT
DTSTART;TZID=America/New_York:20251017T170000
DTEND;TZID=America/New_York:20251017T200000
DTSTAMP:20260424T162132
CREATED:20240917T132515Z
LAST-MODIFIED:20260106T193714Z
UID:10013927-1760720400-1760731200@enjoywhereyouare.today
SUMMARY:All-You-Can-Eat FISH FRY
DESCRIPTION:
URL:https://enjoywhereyouare.today/events/fish-fry-fridays/2025-10-17/
LOCATION:The Pub\, 160 E Front St\, Traverse City\, MI\, 49684
CATEGORIES:*Downtown TC and Traverse City,Daily Specials
ATTACH;FMTTYPE=image/jpeg:https://enjoywhereyouare.today/wp-content/uploads/2024/09/The-Pub-Fish-Fry-event.jpg
GEO:44.7638478;-85.6212028
X-APPLE-STRUCTURED-LOCATION;VALUE=URI;X-ADDRESS=The Pub 160 E Front St Traverse City MI 49684;X-APPLE-RADIUS=500;X-TITLE=160 E Front St:geo:-85.6212028,44.7638478
END:VEVENT
BEGIN:VEVENT
DTSTART;TZID=America/New_York:20251017T140000
DTEND;TZID=America/New_York:20251017T170000
DTSTAMP:20260424T162132
CREATED:20250915T203347Z
LAST-MODIFIED:20250915T203347Z
UID:10014367-1760709600-1760720400@enjoywhereyouare.today
SUMMARY:Happy Hour
DESCRIPTION:Monday-Friday from 2-5pm. Half Off all of your favorite drinks. Includes Pub classics or one of 20 tap beers. ENJOY!!!
URL:https://enjoywhereyouare.today/events/happy-hour-6/2025-10-17/
LOCATION:The Pub\, 160 E Front St\, Traverse City\, MI\, 49684
CATEGORIES:*Downtown TC and Traverse City,Daily Specials
ATTACH;FMTTYPE=image/jpeg:https://enjoywhereyouare.today/wp-content/uploads/2025/09/The-Pub-TC-Happy-Hour.jpg
GEO:44.7638478;-85.6212028
X-APPLE-STRUCTURED-LOCATION;VALUE=URI;X-ADDRESS=The Pub 160 E Front St Traverse City MI 49684;X-APPLE-RADIUS=500;X-TITLE=160 E Front St:geo:-85.6212028,44.7638478
END:VEVENT
BEGIN:VEVENT
DTSTART;TZID=America/New_York:20251016T193000
DTEND;TZID=America/New_York:20251016T223000
DTSTAMP:20260424T162132
CREATED:20250609T143445Z
LAST-MODIFIED:20260106T205541Z
UID:10015341-1760643000-1760653800@enjoywhereyouare.today
SUMMARY:Music Bingo
DESCRIPTION:FREE TO PLAY!!! \n \n 
URL:https://enjoywhereyouare.today/events/music-bingo/2025-10-16/
LOCATION:The Pub\, 160 E Front St\, Traverse City\, MI\, 49684
CATEGORIES:*Downtown TC and Traverse City,Bar Games & Date Nights,The Parlor The Pub North Bar
ATTACH;FMTTYPE=image/jpeg:https://enjoywhereyouare.today/wp-content/uploads/2025/06/The-Pub-Music-Bingo-1.jpg
GEO:44.7638478;-85.6212028
X-APPLE-STRUCTURED-LOCATION;VALUE=URI;X-ADDRESS=The Pub 160 E Front St Traverse City MI 49684;X-APPLE-RADIUS=500;X-TITLE=160 E Front St:geo:-85.6212028,44.7638478
END:VEVENT
BEGIN:VEVENT
DTSTART;TZID=America/New_York:20251016T140000
DTEND;TZID=America/New_York:20251016T170000
DTSTAMP:20260424T162132
CREATED:20250915T203347Z
LAST-MODIFIED:20250915T203347Z
UID:10014366-1760623200-1760634000@enjoywhereyouare.today
SUMMARY:Happy Hour
DESCRIPTION:Monday-Friday from 2-5pm. Half Off all of your favorite drinks. Includes Pub classics or one of 20 tap beers. ENJOY!!!
URL:https://enjoywhereyouare.today/events/happy-hour-6/2025-10-16/
LOCATION:The Pub\, 160 E Front St\, Traverse City\, MI\, 49684
CATEGORIES:*Downtown TC and Traverse City,Daily Specials
ATTACH;FMTTYPE=image/jpeg:https://enjoywhereyouare.today/wp-content/uploads/2025/09/The-Pub-TC-Happy-Hour.jpg
GEO:44.7638478;-85.6212028
X-APPLE-STRUCTURED-LOCATION;VALUE=URI;X-ADDRESS=The Pub 160 E Front St Traverse City MI 49684;X-APPLE-RADIUS=500;X-TITLE=160 E Front St:geo:-85.6212028,44.7638478
END:VEVENT
BEGIN:VEVENT
DTSTART;TZID=America/New_York:20251015T190000
DTEND;TZID=America/New_York:20251015T220000
DTSTAMP:20260424T162132
CREATED:20250609T150456Z
LAST-MODIFIED:20250611T135302Z
UID:10014019-1760554800-1760565600@enjoywhereyouare.today
SUMMARY:Zeke Clemons
DESCRIPTION:
URL:https://enjoywhereyouare.today/events/zeke-clemons/2025-10-15/
LOCATION:The Pub\, 160 E Front St\, Traverse City\, MI\, 49684
CATEGORIES:Music
ATTACH;FMTTYPE=image/jpeg:https://enjoywhereyouare.today/wp-content/uploads/2025/06/The-Pub-Zeke-Clemons.jpg
GEO:44.7638478;-85.6212028
X-APPLE-STRUCTURED-LOCATION;VALUE=URI;X-ADDRESS=The Pub 160 E Front St Traverse City MI 49684;X-APPLE-RADIUS=500;X-TITLE=160 E Front St:geo:-85.6212028,44.7638478
END:VEVENT
BEGIN:VEVENT
DTSTART;TZID=America/New_York:20251015T180000
DTEND;TZID=America/New_York:20251015T233000
DTSTAMP:20260424T162132
CREATED:20250609T145852Z
LAST-MODIFIED:20250611T135302Z
UID:10013988-1760551200-1760571000@enjoywhereyouare.today
SUMMARY:HALF OFF Pitchers!
DESCRIPTION:Every Wednesday 6pm – Midnight. Music by Zeke Clemons 7-10pm
URL:https://enjoywhereyouare.today/events/half-off-pitchers/2025-10-15/
LOCATION:The Pub\, 160 E Front St\, Traverse City\, MI\, 49684
CATEGORIES:*Downtown TC and Traverse City,Daily Specials
ATTACH;FMTTYPE=image/jpeg:https://enjoywhereyouare.today/wp-content/uploads/2025/06/The-Pub-half-off-pitchers.jpg
GEO:44.7638478;-85.6212028
X-APPLE-STRUCTURED-LOCATION;VALUE=URI;X-ADDRESS=The Pub 160 E Front St Traverse City MI 49684;X-APPLE-RADIUS=500;X-TITLE=160 E Front St:geo:-85.6212028,44.7638478
END:VEVENT
BEGIN:VEVENT
DTSTART;TZID=America/New_York:20251015T140000
DTEND;TZID=America/New_York:20251015T170000
DTSTAMP:20260424T162132
CREATED:20250915T203347Z
LAST-MODIFIED:20250915T203347Z
UID:10014365-1760536800-1760547600@enjoywhereyouare.today
SUMMARY:Happy Hour
DESCRIPTION:Monday-Friday from 2-5pm. Half Off all of your favorite drinks. Includes Pub classics or one of 20 tap beers. ENJOY!!!
URL:https://enjoywhereyouare.today/events/happy-hour-6/2025-10-15/
LOCATION:The Pub\, 160 E Front St\, Traverse City\, MI\, 49684
CATEGORIES:*Downtown TC and Traverse City,Daily Specials
ATTACH;FMTTYPE=image/jpeg:https://enjoywhereyouare.today/wp-content/uploads/2025/09/The-Pub-TC-Happy-Hour.jpg
GEO:44.7638478;-85.6212028
X-APPLE-STRUCTURED-LOCATION;VALUE=URI;X-ADDRESS=The Pub 160 E Front St Traverse City MI 49684;X-APPLE-RADIUS=500;X-TITLE=160 E Front St:geo:-85.6212028,44.7638478
END:VEVENT
BEGIN:VEVENT
DTSTART;TZID=America/New_York:20251014T140000
DTEND;TZID=America/New_York:20251014T170000
DTSTAMP:20260424T162132
CREATED:20250915T203347Z
LAST-MODIFIED:20250915T203347Z
UID:10014364-1760450400-1760461200@enjoywhereyouare.today
SUMMARY:Happy Hour
DESCRIPTION:Monday-Friday from 2-5pm. Half Off all of your favorite drinks. Includes Pub classics or one of 20 tap beers. ENJOY!!!
URL:https://enjoywhereyouare.today/events/happy-hour-6/2025-10-14/
LOCATION:The Pub\, 160 E Front St\, Traverse City\, MI\, 49684
CATEGORIES:*Downtown TC and Traverse City,Daily Specials
ATTACH;FMTTYPE=image/jpeg:https://enjoywhereyouare.today/wp-content/uploads/2025/09/The-Pub-TC-Happy-Hour.jpg
GEO:44.7638478;-85.6212028
X-APPLE-STRUCTURED-LOCATION;VALUE=URI;X-ADDRESS=The Pub 160 E Front St Traverse City MI 49684;X-APPLE-RADIUS=500;X-TITLE=160 E Front St:geo:-85.6212028,44.7638478
END:VEVENT
BEGIN:VEVENT
DTSTART;TZID=America/New_York:20251013T140000
DTEND;TZID=America/New_York:20251013T170000
DTSTAMP:20260424T162132
CREATED:20250915T203347Z
LAST-MODIFIED:20250915T203347Z
UID:10014363-1760364000-1760374800@enjoywhereyouare.today
SUMMARY:Happy Hour
DESCRIPTION:Monday-Friday from 2-5pm. Half Off all of your favorite drinks. Includes Pub classics or one of 20 tap beers. ENJOY!!!
URL:https://enjoywhereyouare.today/events/happy-hour-6/2025-10-13/
LOCATION:The Pub\, 160 E Front St\, Traverse City\, MI\, 49684
CATEGORIES:*Downtown TC and Traverse City,Daily Specials
ATTACH;FMTTYPE=image/jpeg:https://enjoywhereyouare.today/wp-content/uploads/2025/09/The-Pub-TC-Happy-Hour.jpg
GEO:44.7638478;-85.6212028
X-APPLE-STRUCTURED-LOCATION;VALUE=URI;X-ADDRESS=The Pub 160 E Front St Traverse City MI 49684;X-APPLE-RADIUS=500;X-TITLE=160 E Front St:geo:-85.6212028,44.7638478
END:VEVENT
BEGIN:VEVENT
DTSTART;TZID=America/New_York:20251010T170000
DTEND;TZID=America/New_York:20251010T200000
DTSTAMP:20260424T162132
CREATED:20240917T132515Z
LAST-MODIFIED:20260106T193714Z
UID:10013926-1760115600-1760126400@enjoywhereyouare.today
SUMMARY:All-You-Can-Eat FISH FRY
DESCRIPTION:
URL:https://enjoywhereyouare.today/events/fish-fry-fridays/2025-10-10/
LOCATION:The Pub\, 160 E Front St\, Traverse City\, MI\, 49684
CATEGORIES:*Downtown TC and Traverse City,Daily Specials
ATTACH;FMTTYPE=image/jpeg:https://enjoywhereyouare.today/wp-content/uploads/2024/09/The-Pub-Fish-Fry-event.jpg
GEO:44.7638478;-85.6212028
X-APPLE-STRUCTURED-LOCATION;VALUE=URI;X-ADDRESS=The Pub 160 E Front St Traverse City MI 49684;X-APPLE-RADIUS=500;X-TITLE=160 E Front St:geo:-85.6212028,44.7638478
END:VEVENT
BEGIN:VEVENT
DTSTART;TZID=America/New_York:20251010T140000
DTEND;TZID=America/New_York:20251010T170000
DTSTAMP:20260424T162132
CREATED:20250915T203347Z
LAST-MODIFIED:20250915T203347Z
UID:10014362-1760104800-1760115600@enjoywhereyouare.today
SUMMARY:Happy Hour
DESCRIPTION:Monday-Friday from 2-5pm. Half Off all of your favorite drinks. Includes Pub classics or one of 20 tap beers. ENJOY!!!
URL:https://enjoywhereyouare.today/events/happy-hour-6/2025-10-10/
LOCATION:The Pub\, 160 E Front St\, Traverse City\, MI\, 49684
CATEGORIES:*Downtown TC and Traverse City,Daily Specials
ATTACH;FMTTYPE=image/jpeg:https://enjoywhereyouare.today/wp-content/uploads/2025/09/The-Pub-TC-Happy-Hour.jpg
GEO:44.7638478;-85.6212028
X-APPLE-STRUCTURED-LOCATION;VALUE=URI;X-ADDRESS=The Pub 160 E Front St Traverse City MI 49684;X-APPLE-RADIUS=500;X-TITLE=160 E Front St:geo:-85.6212028,44.7638478
END:VEVENT
BEGIN:VEVENT
DTSTART;TZID=America/New_York:20251009T193000
DTEND;TZID=America/New_York:20251009T223000
DTSTAMP:20260424T162132
CREATED:20250609T143445Z
LAST-MODIFIED:20260106T205541Z
UID:10015340-1760038200-1760049000@enjoywhereyouare.today
SUMMARY:Music Bingo
DESCRIPTION:FREE TO PLAY!!! \n \n 
URL:https://enjoywhereyouare.today/events/music-bingo/2025-10-09/
LOCATION:The Pub\, 160 E Front St\, Traverse City\, MI\, 49684
CATEGORIES:*Downtown TC and Traverse City,Bar Games & Date Nights,The Parlor The Pub North Bar
ATTACH;FMTTYPE=image/jpeg:https://enjoywhereyouare.today/wp-content/uploads/2025/06/The-Pub-Music-Bingo-1.jpg
GEO:44.7638478;-85.6212028
X-APPLE-STRUCTURED-LOCATION;VALUE=URI;X-ADDRESS=The Pub 160 E Front St Traverse City MI 49684;X-APPLE-RADIUS=500;X-TITLE=160 E Front St:geo:-85.6212028,44.7638478
END:VEVENT
BEGIN:VEVENT
DTSTART;TZID=America/New_York:20251009T140000
DTEND;TZID=America/New_York:20251009T170000
DTSTAMP:20260424T162132
CREATED:20250915T203347Z
LAST-MODIFIED:20250915T203347Z
UID:10014361-1760018400-1760029200@enjoywhereyouare.today
SUMMARY:Happy Hour
DESCRIPTION:Monday-Friday from 2-5pm. Half Off all of your favorite drinks. Includes Pub classics or one of 20 tap beers. ENJOY!!!
URL:https://enjoywhereyouare.today/events/happy-hour-6/2025-10-09/
LOCATION:The Pub\, 160 E Front St\, Traverse City\, MI\, 49684
CATEGORIES:*Downtown TC and Traverse City,Daily Specials
ATTACH;FMTTYPE=image/jpeg:https://enjoywhereyouare.today/wp-content/uploads/2025/09/The-Pub-TC-Happy-Hour.jpg
GEO:44.7638478;-85.6212028
X-APPLE-STRUCTURED-LOCATION;VALUE=URI;X-ADDRESS=The Pub 160 E Front St Traverse City MI 49684;X-APPLE-RADIUS=500;X-TITLE=160 E Front St:geo:-85.6212028,44.7638478
END:VEVENT
BEGIN:VEVENT
DTSTART;TZID=America/New_York:20251008T190000
DTEND;TZID=America/New_York:20251008T220000
DTSTAMP:20260424T162132
CREATED:20250609T150456Z
LAST-MODIFIED:20250611T135302Z
UID:10014018-1759950000-1759960800@enjoywhereyouare.today
SUMMARY:Zeke Clemons
DESCRIPTION:
URL:https://enjoywhereyouare.today/events/zeke-clemons/2025-10-08/
LOCATION:The Pub\, 160 E Front St\, Traverse City\, MI\, 49684
CATEGORIES:Music
ATTACH;FMTTYPE=image/jpeg:https://enjoywhereyouare.today/wp-content/uploads/2025/06/The-Pub-Zeke-Clemons.jpg
GEO:44.7638478;-85.6212028
X-APPLE-STRUCTURED-LOCATION;VALUE=URI;X-ADDRESS=The Pub 160 E Front St Traverse City MI 49684;X-APPLE-RADIUS=500;X-TITLE=160 E Front St:geo:-85.6212028,44.7638478
END:VEVENT
BEGIN:VEVENT
DTSTART;TZID=America/New_York:20251008T180000
DTEND;TZID=America/New_York:20251008T233000
DTSTAMP:20260424T162132
CREATED:20250609T145852Z
LAST-MODIFIED:20250611T135302Z
UID:10013987-1759946400-1759966200@enjoywhereyouare.today
SUMMARY:HALF OFF Pitchers!
DESCRIPTION:Every Wednesday 6pm – Midnight. Music by Zeke Clemons 7-10pm
URL:https://enjoywhereyouare.today/events/half-off-pitchers/2025-10-08/
LOCATION:The Pub\, 160 E Front St\, Traverse City\, MI\, 49684
CATEGORIES:*Downtown TC and Traverse City,Daily Specials
ATTACH;FMTTYPE=image/jpeg:https://enjoywhereyouare.today/wp-content/uploads/2025/06/The-Pub-half-off-pitchers.jpg
GEO:44.7638478;-85.6212028
X-APPLE-STRUCTURED-LOCATION;VALUE=URI;X-ADDRESS=The Pub 160 E Front St Traverse City MI 49684;X-APPLE-RADIUS=500;X-TITLE=160 E Front St:geo:-85.6212028,44.7638478
END:VEVENT
BEGIN:VEVENT
DTSTART;TZID=America/New_York:20251008T140000
DTEND;TZID=America/New_York:20251008T170000
DTSTAMP:20260424T162132
CREATED:20250915T203347Z
LAST-MODIFIED:20250915T203347Z
UID:10014360-1759932000-1759942800@enjoywhereyouare.today
SUMMARY:Happy Hour
DESCRIPTION:Monday-Friday from 2-5pm. Half Off all of your favorite drinks. Includes Pub classics or one of 20 tap beers. ENJOY!!!
URL:https://enjoywhereyouare.today/events/happy-hour-6/2025-10-08/
LOCATION:The Pub\, 160 E Front St\, Traverse City\, MI\, 49684
CATEGORIES:*Downtown TC and Traverse City,Daily Specials
ATTACH;FMTTYPE=image/jpeg:https://enjoywhereyouare.today/wp-content/uploads/2025/09/The-Pub-TC-Happy-Hour.jpg
GEO:44.7638478;-85.6212028
X-APPLE-STRUCTURED-LOCATION;VALUE=URI;X-ADDRESS=The Pub 160 E Front St Traverse City MI 49684;X-APPLE-RADIUS=500;X-TITLE=160 E Front St:geo:-85.6212028,44.7638478
END:VEVENT
BEGIN:VEVENT
DTSTART;TZID=America/New_York:20251007T140000
DTEND;TZID=America/New_York:20251007T170000
DTSTAMP:20260424T162132
CREATED:20250915T203347Z
LAST-MODIFIED:20250915T203347Z
UID:10014359-1759845600-1759856400@enjoywhereyouare.today
SUMMARY:Happy Hour
DESCRIPTION:Monday-Friday from 2-5pm. Half Off all of your favorite drinks. Includes Pub classics or one of 20 tap beers. ENJOY!!!
URL:https://enjoywhereyouare.today/events/happy-hour-6/2025-10-07/
LOCATION:The Pub\, 160 E Front St\, Traverse City\, MI\, 49684
CATEGORIES:*Downtown TC and Traverse City,Daily Specials
ATTACH;FMTTYPE=image/jpeg:https://enjoywhereyouare.today/wp-content/uploads/2025/09/The-Pub-TC-Happy-Hour.jpg
GEO:44.7638478;-85.6212028
X-APPLE-STRUCTURED-LOCATION;VALUE=URI;X-ADDRESS=The Pub 160 E Front St Traverse City MI 49684;X-APPLE-RADIUS=500;X-TITLE=160 E Front St:geo:-85.6212028,44.7638478
END:VEVENT
BEGIN:VEVENT
DTSTART;TZID=America/New_York:20251006T140000
DTEND;TZID=America/New_York:20251006T170000
DTSTAMP:20260424T162132
CREATED:20250915T203347Z
LAST-MODIFIED:20250915T203347Z
UID:10014358-1759759200-1759770000@enjoywhereyouare.today
SUMMARY:Happy Hour
DESCRIPTION:Monday-Friday from 2-5pm. Half Off all of your favorite drinks. Includes Pub classics or one of 20 tap beers. ENJOY!!!
URL:https://enjoywhereyouare.today/events/happy-hour-6/2025-10-06/
LOCATION:The Pub\, 160 E Front St\, Traverse City\, MI\, 49684
CATEGORIES:*Downtown TC and Traverse City,Daily Specials
ATTACH;FMTTYPE=image/jpeg:https://enjoywhereyouare.today/wp-content/uploads/2025/09/The-Pub-TC-Happy-Hour.jpg
GEO:44.7638478;-85.6212028
X-APPLE-STRUCTURED-LOCATION;VALUE=URI;X-ADDRESS=The Pub 160 E Front St Traverse City MI 49684;X-APPLE-RADIUS=500;X-TITLE=160 E Front St:geo:-85.6212028,44.7638478
END:VEVENT
BEGIN:VEVENT
DTSTART;TZID=America/New_York:20251003T170000
DTEND;TZID=America/New_York:20251003T200000
DTSTAMP:20260424T162132
CREATED:20240917T132515Z
LAST-MODIFIED:20260106T193714Z
UID:10013925-1759510800-1759521600@enjoywhereyouare.today
SUMMARY:All-You-Can-Eat FISH FRY
DESCRIPTION:
URL:https://enjoywhereyouare.today/events/fish-fry-fridays/2025-10-03/
LOCATION:The Pub\, 160 E Front St\, Traverse City\, MI\, 49684
CATEGORIES:*Downtown TC and Traverse City,Daily Specials
ATTACH;FMTTYPE=image/jpeg:https://enjoywhereyouare.today/wp-content/uploads/2024/09/The-Pub-Fish-Fry-event.jpg
GEO:44.7638478;-85.6212028
X-APPLE-STRUCTURED-LOCATION;VALUE=URI;X-ADDRESS=The Pub 160 E Front St Traverse City MI 49684;X-APPLE-RADIUS=500;X-TITLE=160 E Front St:geo:-85.6212028,44.7638478
END:VEVENT
BEGIN:VEVENT
DTSTART;TZID=America/New_York:20251003T140000
DTEND;TZID=America/New_York:20251003T170000
DTSTAMP:20260424T162132
CREATED:20250915T203347Z
LAST-MODIFIED:20250915T203347Z
UID:10014357-1759500000-1759510800@enjoywhereyouare.today
SUMMARY:Happy Hour
DESCRIPTION:Monday-Friday from 2-5pm. Half Off all of your favorite drinks. Includes Pub classics or one of 20 tap beers. ENJOY!!!
URL:https://enjoywhereyouare.today/events/happy-hour-6/2025-10-03/
LOCATION:The Pub\, 160 E Front St\, Traverse City\, MI\, 49684
CATEGORIES:*Downtown TC and Traverse City,Daily Specials
ATTACH;FMTTYPE=image/jpeg:https://enjoywhereyouare.today/wp-content/uploads/2025/09/The-Pub-TC-Happy-Hour.jpg
GEO:44.7638478;-85.6212028
X-APPLE-STRUCTURED-LOCATION;VALUE=URI;X-ADDRESS=The Pub 160 E Front St Traverse City MI 49684;X-APPLE-RADIUS=500;X-TITLE=160 E Front St:geo:-85.6212028,44.7638478
END:VEVENT
BEGIN:VEVENT
DTSTART;TZID=America/New_York:20251002T193000
DTEND;TZID=America/New_York:20251002T223000
DTSTAMP:20260424T162132
CREATED:20250609T143445Z
LAST-MODIFIED:20260106T205541Z
UID:10015339-1759433400-1759444200@enjoywhereyouare.today
SUMMARY:Music Bingo
DESCRIPTION:FREE TO PLAY!!! \n \n 
URL:https://enjoywhereyouare.today/events/music-bingo/2025-10-02/
LOCATION:The Pub\, 160 E Front St\, Traverse City\, MI\, 49684
CATEGORIES:*Downtown TC and Traverse City,Bar Games & Date Nights,The Parlor The Pub North Bar
ATTACH;FMTTYPE=image/jpeg:https://enjoywhereyouare.today/wp-content/uploads/2025/06/The-Pub-Music-Bingo-1.jpg
GEO:44.7638478;-85.6212028
X-APPLE-STRUCTURED-LOCATION;VALUE=URI;X-ADDRESS=The Pub 160 E Front St Traverse City MI 49684;X-APPLE-RADIUS=500;X-TITLE=160 E Front St:geo:-85.6212028,44.7638478
END:VEVENT
BEGIN:VEVENT
DTSTART;TZID=America/New_York:20251002T140000
DTEND;TZID=America/New_York:20251002T170000
DTSTAMP:20260424T162132
CREATED:20250915T203347Z
LAST-MODIFIED:20250915T203347Z
UID:10014356-1759413600-1759424400@enjoywhereyouare.today
SUMMARY:Happy Hour
DESCRIPTION:Monday-Friday from 2-5pm. Half Off all of your favorite drinks. Includes Pub classics or one of 20 tap beers. ENJOY!!!
URL:https://enjoywhereyouare.today/events/happy-hour-6/2025-10-02/
LOCATION:The Pub\, 160 E Front St\, Traverse City\, MI\, 49684
CATEGORIES:*Downtown TC and Traverse City,Daily Specials
ATTACH;FMTTYPE=image/jpeg:https://enjoywhereyouare.today/wp-content/uploads/2025/09/The-Pub-TC-Happy-Hour.jpg
GEO:44.7638478;-85.6212028
X-APPLE-STRUCTURED-LOCATION;VALUE=URI;X-ADDRESS=The Pub 160 E Front St Traverse City MI 49684;X-APPLE-RADIUS=500;X-TITLE=160 E Front St:geo:-85.6212028,44.7638478
END:VEVENT
BEGIN:VEVENT
DTSTART;TZID=America/New_York:20251001T190000
DTEND;TZID=America/New_York:20251001T220000
DTSTAMP:20260424T162132
CREATED:20250609T150456Z
LAST-MODIFIED:20250611T135302Z
UID:10014017-1759345200-1759356000@enjoywhereyouare.today
SUMMARY:Zeke Clemons
DESCRIPTION:
URL:https://enjoywhereyouare.today/events/zeke-clemons/2025-10-01/
LOCATION:The Pub\, 160 E Front St\, Traverse City\, MI\, 49684
CATEGORIES:Music
ATTACH;FMTTYPE=image/jpeg:https://enjoywhereyouare.today/wp-content/uploads/2025/06/The-Pub-Zeke-Clemons.jpg
GEO:44.7638478;-85.6212028
X-APPLE-STRUCTURED-LOCATION;VALUE=URI;X-ADDRESS=The Pub 160 E Front St Traverse City MI 49684;X-APPLE-RADIUS=500;X-TITLE=160 E Front St:geo:-85.6212028,44.7638478
END:VEVENT
BEGIN:VEVENT
DTSTART;TZID=America/New_York:20251001T180000
DTEND;TZID=America/New_York:20251001T233000
DTSTAMP:20260424T162132
CREATED:20250609T145852Z
LAST-MODIFIED:20250611T135302Z
UID:10013986-1759341600-1759361400@enjoywhereyouare.today
SUMMARY:HALF OFF Pitchers!
DESCRIPTION:Every Wednesday 6pm – Midnight. Music by Zeke Clemons 7-10pm
URL:https://enjoywhereyouare.today/events/half-off-pitchers/2025-10-01/
LOCATION:The Pub\, 160 E Front St\, Traverse City\, MI\, 49684
CATEGORIES:*Downtown TC and Traverse City,Daily Specials
ATTACH;FMTTYPE=image/jpeg:https://enjoywhereyouare.today/wp-content/uploads/2025/06/The-Pub-half-off-pitchers.jpg
GEO:44.7638478;-85.6212028
X-APPLE-STRUCTURED-LOCATION;VALUE=URI;X-ADDRESS=The Pub 160 E Front St Traverse City MI 49684;X-APPLE-RADIUS=500;X-TITLE=160 E Front St:geo:-85.6212028,44.7638478
END:VEVENT
BEGIN:VEVENT
DTSTART;TZID=America/New_York:20251001T140000
DTEND;TZID=America/New_York:20251001T170000
DTSTAMP:20260424T162132
CREATED:20250915T203347Z
LAST-MODIFIED:20250915T203347Z
UID:10014355-1759327200-1759338000@enjoywhereyouare.today
SUMMARY:Happy Hour
DESCRIPTION:Monday-Friday from 2-5pm. Half Off all of your favorite drinks. Includes Pub classics or one of 20 tap beers. ENJOY!!!
URL:https://enjoywhereyouare.today/events/happy-hour-6/2025-10-01/
LOCATION:The Pub\, 160 E Front St\, Traverse City\, MI\, 49684
CATEGORIES:*Downtown TC and Traverse City,Daily Specials
ATTACH;FMTTYPE=image/jpeg:https://enjoywhereyouare.today/wp-content/uploads/2025/09/The-Pub-TC-Happy-Hour.jpg
GEO:44.7638478;-85.6212028
X-APPLE-STRUCTURED-LOCATION;VALUE=URI;X-ADDRESS=The Pub 160 E Front St Traverse City MI 49684;X-APPLE-RADIUS=500;X-TITLE=160 E Front St:geo:-85.6212028,44.7638478
END:VEVENT
BEGIN:VEVENT
DTSTART;TZID=America/New_York:20250930T140000
DTEND;TZID=America/New_York:20250930T170000
DTSTAMP:20260424T162132
CREATED:20250915T203347Z
LAST-MODIFIED:20250915T203347Z
UID:10014354-1759240800-1759251600@enjoywhereyouare.today
SUMMARY:Happy Hour
DESCRIPTION:Monday-Friday from 2-5pm. Half Off all of your favorite drinks. Includes Pub classics or one of 20 tap beers. ENJOY!!!
URL:https://enjoywhereyouare.today/events/happy-hour-6/2025-09-30/
LOCATION:The Pub\, 160 E Front St\, Traverse City\, MI\, 49684
CATEGORIES:*Downtown TC and Traverse City,Daily Specials
ATTACH;FMTTYPE=image/jpeg:https://enjoywhereyouare.today/wp-content/uploads/2025/09/The-Pub-TC-Happy-Hour.jpg
GEO:44.7638478;-85.6212028
X-APPLE-STRUCTURED-LOCATION;VALUE=URI;X-ADDRESS=The Pub 160 E Front St Traverse City MI 49684;X-APPLE-RADIUS=500;X-TITLE=160 E Front St:geo:-85.6212028,44.7638478
END:VEVENT
END:VCALENDAR