BEGIN:VCALENDAR
VERSION:2.0
PRODID:-//Enjoy Where You Are - ECPv6.5.2//NONSGML v1.0//EN
CALSCALE:GREGORIAN
METHOD:PUBLISH
X-WR-CALNAME:Enjoy Where You Are
X-ORIGINAL-URL:https://enjoywhereyouare.today
X-WR-CALDESC:Events for Enjoy Where You Are
REFRESH-INTERVAL;VALUE=DURATION:PT1H
X-Robots-Tag:noindex
X-PUBLISHED-TTL:PT1H
BEGIN:VTIMEZONE
TZID:America/New_York
BEGIN:DAYLIGHT
TZOFFSETFROM:-0500
TZOFFSETTO:-0400
TZNAME:EDT
DTSTART:20260308T070000
END:DAYLIGHT
BEGIN:STANDARD
TZOFFSETFROM:-0400
TZOFFSETTO:-0500
TZNAME:EST
DTSTART:20261101T060000
END:STANDARD
END:VTIMEZONE
BEGIN:VEVENT
DTSTART;TZID=America/New_York:20260421T140000
DTEND;TZID=America/New_York:20260421T170000
DTSTAMP:20260422T132457
CREATED:20250915T203347Z
LAST-MODIFIED:20250915T203347Z
UID:10014499-1776780000-1776790800@enjoywhereyouare.today
SUMMARY:Happy Hour
DESCRIPTION:Monday-Friday from 2-5pm. Half Off all of your favorite drinks. Includes Pub classics or one of 20 tap beers. ENJOY!!!
URL:https://enjoywhereyouare.today/events/happy-hour-6/2026-04-21/
LOCATION:The Pub\, 160 E Front St\, Traverse City\, MI\, 49684
CATEGORIES:*Downtown TC and Traverse City,Daily Specials
ATTACH;FMTTYPE=image/jpeg:https://enjoywhereyouare.today/wp-content/uploads/2025/09/The-Pub-TC-Happy-Hour.jpg
GEO:44.7638478;-85.6212028
X-APPLE-STRUCTURED-LOCATION;VALUE=URI;X-ADDRESS=The Pub 160 E Front St Traverse City MI 49684;X-APPLE-RADIUS=500;X-TITLE=160 E Front St:geo:-85.6212028,44.7638478
END:VEVENT
BEGIN:VEVENT
DTSTART;TZID=America/New_York:20260420T140000
DTEND;TZID=America/New_York:20260420T170000
DTSTAMP:20260422T132457
CREATED:20250915T203347Z
LAST-MODIFIED:20250915T203347Z
UID:10014498-1776693600-1776704400@enjoywhereyouare.today
SUMMARY:Happy Hour
DESCRIPTION:Monday-Friday from 2-5pm. Half Off all of your favorite drinks. Includes Pub classics or one of 20 tap beers. ENJOY!!!
URL:https://enjoywhereyouare.today/events/happy-hour-6/2026-04-20/
LOCATION:The Pub\, 160 E Front St\, Traverse City\, MI\, 49684
CATEGORIES:*Downtown TC and Traverse City,Daily Specials
ATTACH;FMTTYPE=image/jpeg:https://enjoywhereyouare.today/wp-content/uploads/2025/09/The-Pub-TC-Happy-Hour.jpg
GEO:44.7638478;-85.6212028
X-APPLE-STRUCTURED-LOCATION;VALUE=URI;X-ADDRESS=The Pub 160 E Front St Traverse City MI 49684;X-APPLE-RADIUS=500;X-TITLE=160 E Front St:geo:-85.6212028,44.7638478
END:VEVENT
BEGIN:VEVENT
DTSTART;TZID=America/New_York:20260417T140000
DTEND;TZID=America/New_York:20260417T170000
DTSTAMP:20260422T132457
CREATED:20250915T203347Z
LAST-MODIFIED:20250915T203347Z
UID:10014497-1776434400-1776445200@enjoywhereyouare.today
SUMMARY:Happy Hour
DESCRIPTION:Monday-Friday from 2-5pm. Half Off all of your favorite drinks. Includes Pub classics or one of 20 tap beers. ENJOY!!!
URL:https://enjoywhereyouare.today/events/happy-hour-6/2026-04-17/
LOCATION:The Pub\, 160 E Front St\, Traverse City\, MI\, 49684
CATEGORIES:*Downtown TC and Traverse City,Daily Specials
ATTACH;FMTTYPE=image/jpeg:https://enjoywhereyouare.today/wp-content/uploads/2025/09/The-Pub-TC-Happy-Hour.jpg
GEO:44.7638478;-85.6212028
X-APPLE-STRUCTURED-LOCATION;VALUE=URI;X-ADDRESS=The Pub 160 E Front St Traverse City MI 49684;X-APPLE-RADIUS=500;X-TITLE=160 E Front St:geo:-85.6212028,44.7638478
END:VEVENT
BEGIN:VEVENT
DTSTART;TZID=America/New_York:20260416T140000
DTEND;TZID=America/New_York:20260416T170000
DTSTAMP:20260422T132457
CREATED:20250915T203347Z
LAST-MODIFIED:20250915T203347Z
UID:10014496-1776348000-1776358800@enjoywhereyouare.today
SUMMARY:Happy Hour
DESCRIPTION:Monday-Friday from 2-5pm. Half Off all of your favorite drinks. Includes Pub classics or one of 20 tap beers. ENJOY!!!
URL:https://enjoywhereyouare.today/events/happy-hour-6/2026-04-16/
LOCATION:The Pub\, 160 E Front St\, Traverse City\, MI\, 49684
CATEGORIES:*Downtown TC and Traverse City,Daily Specials
ATTACH;FMTTYPE=image/jpeg:https://enjoywhereyouare.today/wp-content/uploads/2025/09/The-Pub-TC-Happy-Hour.jpg
GEO:44.7638478;-85.6212028
X-APPLE-STRUCTURED-LOCATION;VALUE=URI;X-ADDRESS=The Pub 160 E Front St Traverse City MI 49684;X-APPLE-RADIUS=500;X-TITLE=160 E Front St:geo:-85.6212028,44.7638478
END:VEVENT
BEGIN:VEVENT
DTSTART;TZID=America/New_York:20260415T140000
DTEND;TZID=America/New_York:20260415T170000
DTSTAMP:20260422T132457
CREATED:20250915T203347Z
LAST-MODIFIED:20250915T203347Z
UID:10014495-1776261600-1776272400@enjoywhereyouare.today
SUMMARY:Happy Hour
DESCRIPTION:Monday-Friday from 2-5pm. Half Off all of your favorite drinks. Includes Pub classics or one of 20 tap beers. ENJOY!!!
URL:https://enjoywhereyouare.today/events/happy-hour-6/2026-04-15/
LOCATION:The Pub\, 160 E Front St\, Traverse City\, MI\, 49684
CATEGORIES:*Downtown TC and Traverse City,Daily Specials
ATTACH;FMTTYPE=image/jpeg:https://enjoywhereyouare.today/wp-content/uploads/2025/09/The-Pub-TC-Happy-Hour.jpg
GEO:44.7638478;-85.6212028
X-APPLE-STRUCTURED-LOCATION;VALUE=URI;X-ADDRESS=The Pub 160 E Front St Traverse City MI 49684;X-APPLE-RADIUS=500;X-TITLE=160 E Front St:geo:-85.6212028,44.7638478
END:VEVENT
BEGIN:VEVENT
DTSTART;TZID=America/New_York:20260414T140000
DTEND;TZID=America/New_York:20260414T170000
DTSTAMP:20260422T132457
CREATED:20250915T203347Z
LAST-MODIFIED:20250915T203347Z
UID:10014494-1776175200-1776186000@enjoywhereyouare.today
SUMMARY:Happy Hour
DESCRIPTION:Monday-Friday from 2-5pm. Half Off all of your favorite drinks. Includes Pub classics or one of 20 tap beers. ENJOY!!!
URL:https://enjoywhereyouare.today/events/happy-hour-6/2026-04-14/
LOCATION:The Pub\, 160 E Front St\, Traverse City\, MI\, 49684
CATEGORIES:*Downtown TC and Traverse City,Daily Specials
ATTACH;FMTTYPE=image/jpeg:https://enjoywhereyouare.today/wp-content/uploads/2025/09/The-Pub-TC-Happy-Hour.jpg
GEO:44.7638478;-85.6212028
X-APPLE-STRUCTURED-LOCATION;VALUE=URI;X-ADDRESS=The Pub 160 E Front St Traverse City MI 49684;X-APPLE-RADIUS=500;X-TITLE=160 E Front St:geo:-85.6212028,44.7638478
END:VEVENT
BEGIN:VEVENT
DTSTART;TZID=America/New_York:20260413T140000
DTEND;TZID=America/New_York:20260413T170000
DTSTAMP:20260422T132457
CREATED:20250915T203347Z
LAST-MODIFIED:20250915T203347Z
UID:10014493-1776088800-1776099600@enjoywhereyouare.today
SUMMARY:Happy Hour
DESCRIPTION:Monday-Friday from 2-5pm. Half Off all of your favorite drinks. Includes Pub classics or one of 20 tap beers. ENJOY!!!
URL:https://enjoywhereyouare.today/events/happy-hour-6/2026-04-13/
LOCATION:The Pub\, 160 E Front St\, Traverse City\, MI\, 49684
CATEGORIES:*Downtown TC and Traverse City,Daily Specials
ATTACH;FMTTYPE=image/jpeg:https://enjoywhereyouare.today/wp-content/uploads/2025/09/The-Pub-TC-Happy-Hour.jpg
GEO:44.7638478;-85.6212028
X-APPLE-STRUCTURED-LOCATION;VALUE=URI;X-ADDRESS=The Pub 160 E Front St Traverse City MI 49684;X-APPLE-RADIUS=500;X-TITLE=160 E Front St:geo:-85.6212028,44.7638478
END:VEVENT
BEGIN:VEVENT
DTSTART;TZID=America/New_York:20260410T140000
DTEND;TZID=America/New_York:20260410T170000
DTSTAMP:20260422T132457
CREATED:20250915T203347Z
LAST-MODIFIED:20250915T203347Z
UID:10014492-1775829600-1775840400@enjoywhereyouare.today
SUMMARY:Happy Hour
DESCRIPTION:Monday-Friday from 2-5pm. Half Off all of your favorite drinks. Includes Pub classics or one of 20 tap beers. ENJOY!!!
URL:https://enjoywhereyouare.today/events/happy-hour-6/2026-04-10/
LOCATION:The Pub\, 160 E Front St\, Traverse City\, MI\, 49684
CATEGORIES:*Downtown TC and Traverse City,Daily Specials
ATTACH;FMTTYPE=image/jpeg:https://enjoywhereyouare.today/wp-content/uploads/2025/09/The-Pub-TC-Happy-Hour.jpg
GEO:44.7638478;-85.6212028
X-APPLE-STRUCTURED-LOCATION;VALUE=URI;X-ADDRESS=The Pub 160 E Front St Traverse City MI 49684;X-APPLE-RADIUS=500;X-TITLE=160 E Front St:geo:-85.6212028,44.7638478
END:VEVENT
BEGIN:VEVENT
DTSTART;TZID=America/New_York:20260409T140000
DTEND;TZID=America/New_York:20260409T170000
DTSTAMP:20260422T132457
CREATED:20250915T203347Z
LAST-MODIFIED:20250915T203347Z
UID:10014491-1775743200-1775754000@enjoywhereyouare.today
SUMMARY:Happy Hour
DESCRIPTION:Monday-Friday from 2-5pm. Half Off all of your favorite drinks. Includes Pub classics or one of 20 tap beers. ENJOY!!!
URL:https://enjoywhereyouare.today/events/happy-hour-6/2026-04-09/
LOCATION:The Pub\, 160 E Front St\, Traverse City\, MI\, 49684
CATEGORIES:*Downtown TC and Traverse City,Daily Specials
ATTACH;FMTTYPE=image/jpeg:https://enjoywhereyouare.today/wp-content/uploads/2025/09/The-Pub-TC-Happy-Hour.jpg
GEO:44.7638478;-85.6212028
X-APPLE-STRUCTURED-LOCATION;VALUE=URI;X-ADDRESS=The Pub 160 E Front St Traverse City MI 49684;X-APPLE-RADIUS=500;X-TITLE=160 E Front St:geo:-85.6212028,44.7638478
END:VEVENT
BEGIN:VEVENT
DTSTART;TZID=America/New_York:20260408T140000
DTEND;TZID=America/New_York:20260408T170000
DTSTAMP:20260422T132457
CREATED:20250915T203347Z
LAST-MODIFIED:20250915T203347Z
UID:10014490-1775656800-1775667600@enjoywhereyouare.today
SUMMARY:Happy Hour
DESCRIPTION:Monday-Friday from 2-5pm. Half Off all of your favorite drinks. Includes Pub classics or one of 20 tap beers. ENJOY!!!
URL:https://enjoywhereyouare.today/events/happy-hour-6/2026-04-08/
LOCATION:The Pub\, 160 E Front St\, Traverse City\, MI\, 49684
CATEGORIES:*Downtown TC and Traverse City,Daily Specials
ATTACH;FMTTYPE=image/jpeg:https://enjoywhereyouare.today/wp-content/uploads/2025/09/The-Pub-TC-Happy-Hour.jpg
GEO:44.7638478;-85.6212028
X-APPLE-STRUCTURED-LOCATION;VALUE=URI;X-ADDRESS=The Pub 160 E Front St Traverse City MI 49684;X-APPLE-RADIUS=500;X-TITLE=160 E Front St:geo:-85.6212028,44.7638478
END:VEVENT
BEGIN:VEVENT
DTSTART;TZID=America/New_York:20260407T140000
DTEND;TZID=America/New_York:20260407T170000
DTSTAMP:20260422T132457
CREATED:20250915T203347Z
LAST-MODIFIED:20250915T203347Z
UID:10014489-1775570400-1775581200@enjoywhereyouare.today
SUMMARY:Happy Hour
DESCRIPTION:Monday-Friday from 2-5pm. Half Off all of your favorite drinks. Includes Pub classics or one of 20 tap beers. ENJOY!!!
URL:https://enjoywhereyouare.today/events/happy-hour-6/2026-04-07/
LOCATION:The Pub\, 160 E Front St\, Traverse City\, MI\, 49684
CATEGORIES:*Downtown TC and Traverse City,Daily Specials
ATTACH;FMTTYPE=image/jpeg:https://enjoywhereyouare.today/wp-content/uploads/2025/09/The-Pub-TC-Happy-Hour.jpg
GEO:44.7638478;-85.6212028
X-APPLE-STRUCTURED-LOCATION;VALUE=URI;X-ADDRESS=The Pub 160 E Front St Traverse City MI 49684;X-APPLE-RADIUS=500;X-TITLE=160 E Front St:geo:-85.6212028,44.7638478
END:VEVENT
BEGIN:VEVENT
DTSTART;TZID=America/New_York:20260406T140000
DTEND;TZID=America/New_York:20260406T170000
DTSTAMP:20260422T132457
CREATED:20250915T203347Z
LAST-MODIFIED:20250915T203347Z
UID:10014488-1775484000-1775494800@enjoywhereyouare.today
SUMMARY:Happy Hour
DESCRIPTION:Monday-Friday from 2-5pm. Half Off all of your favorite drinks. Includes Pub classics or one of 20 tap beers. ENJOY!!!
URL:https://enjoywhereyouare.today/events/happy-hour-6/2026-04-06/
LOCATION:The Pub\, 160 E Front St\, Traverse City\, MI\, 49684
CATEGORIES:*Downtown TC and Traverse City,Daily Specials
ATTACH;FMTTYPE=image/jpeg:https://enjoywhereyouare.today/wp-content/uploads/2025/09/The-Pub-TC-Happy-Hour.jpg
GEO:44.7638478;-85.6212028
X-APPLE-STRUCTURED-LOCATION;VALUE=URI;X-ADDRESS=The Pub 160 E Front St Traverse City MI 49684;X-APPLE-RADIUS=500;X-TITLE=160 E Front St:geo:-85.6212028,44.7638478
END:VEVENT
BEGIN:VEVENT
DTSTART;TZID=America/New_York:20260403T140000
DTEND;TZID=America/New_York:20260403T170000
DTSTAMP:20260422T132457
CREATED:20250915T203347Z
LAST-MODIFIED:20250915T203347Z
UID:10014487-1775224800-1775235600@enjoywhereyouare.today
SUMMARY:Happy Hour
DESCRIPTION:Monday-Friday from 2-5pm. Half Off all of your favorite drinks. Includes Pub classics or one of 20 tap beers. ENJOY!!!
URL:https://enjoywhereyouare.today/events/happy-hour-6/2026-04-03/
LOCATION:The Pub\, 160 E Front St\, Traverse City\, MI\, 49684
CATEGORIES:*Downtown TC and Traverse City,Daily Specials
ATTACH;FMTTYPE=image/jpeg:https://enjoywhereyouare.today/wp-content/uploads/2025/09/The-Pub-TC-Happy-Hour.jpg
GEO:44.7638478;-85.6212028
X-APPLE-STRUCTURED-LOCATION;VALUE=URI;X-ADDRESS=The Pub 160 E Front St Traverse City MI 49684;X-APPLE-RADIUS=500;X-TITLE=160 E Front St:geo:-85.6212028,44.7638478
END:VEVENT
BEGIN:VEVENT
DTSTART;TZID=America/New_York:20260402T140000
DTEND;TZID=America/New_York:20260402T170000
DTSTAMP:20260422T132457
CREATED:20250915T203347Z
LAST-MODIFIED:20250915T203347Z
UID:10014486-1775138400-1775149200@enjoywhereyouare.today
SUMMARY:Happy Hour
DESCRIPTION:Monday-Friday from 2-5pm. Half Off all of your favorite drinks. Includes Pub classics or one of 20 tap beers. ENJOY!!!
URL:https://enjoywhereyouare.today/events/happy-hour-6/2026-04-02/
LOCATION:The Pub\, 160 E Front St\, Traverse City\, MI\, 49684
CATEGORIES:*Downtown TC and Traverse City,Daily Specials
ATTACH;FMTTYPE=image/jpeg:https://enjoywhereyouare.today/wp-content/uploads/2025/09/The-Pub-TC-Happy-Hour.jpg
GEO:44.7638478;-85.6212028
X-APPLE-STRUCTURED-LOCATION;VALUE=URI;X-ADDRESS=The Pub 160 E Front St Traverse City MI 49684;X-APPLE-RADIUS=500;X-TITLE=160 E Front St:geo:-85.6212028,44.7638478
END:VEVENT
BEGIN:VEVENT
DTSTART;TZID=America/New_York:20260401T140000
DTEND;TZID=America/New_York:20260401T170000
DTSTAMP:20260422T132457
CREATED:20250915T203347Z
LAST-MODIFIED:20250915T203347Z
UID:10014485-1775052000-1775062800@enjoywhereyouare.today
SUMMARY:Happy Hour
DESCRIPTION:Monday-Friday from 2-5pm. Half Off all of your favorite drinks. Includes Pub classics or one of 20 tap beers. ENJOY!!!
URL:https://enjoywhereyouare.today/events/happy-hour-6/2026-04-01/
LOCATION:The Pub\, 160 E Front St\, Traverse City\, MI\, 49684
CATEGORIES:*Downtown TC and Traverse City,Daily Specials
ATTACH;FMTTYPE=image/jpeg:https://enjoywhereyouare.today/wp-content/uploads/2025/09/The-Pub-TC-Happy-Hour.jpg
GEO:44.7638478;-85.6212028
X-APPLE-STRUCTURED-LOCATION;VALUE=URI;X-ADDRESS=The Pub 160 E Front St Traverse City MI 49684;X-APPLE-RADIUS=500;X-TITLE=160 E Front St:geo:-85.6212028,44.7638478
END:VEVENT
BEGIN:VEVENT
DTSTART;TZID=America/New_York:20260331T140000
DTEND;TZID=America/New_York:20260331T170000
DTSTAMP:20260422T132457
CREATED:20250915T203347Z
LAST-MODIFIED:20250915T203347Z
UID:10014484-1774965600-1774976400@enjoywhereyouare.today
SUMMARY:Happy Hour
DESCRIPTION:Monday-Friday from 2-5pm. Half Off all of your favorite drinks. Includes Pub classics or one of 20 tap beers. ENJOY!!!
URL:https://enjoywhereyouare.today/events/happy-hour-6/2026-03-31/
LOCATION:The Pub\, 160 E Front St\, Traverse City\, MI\, 49684
CATEGORIES:*Downtown TC and Traverse City,Daily Specials
ATTACH;FMTTYPE=image/jpeg:https://enjoywhereyouare.today/wp-content/uploads/2025/09/The-Pub-TC-Happy-Hour.jpg
GEO:44.7638478;-85.6212028
X-APPLE-STRUCTURED-LOCATION;VALUE=URI;X-ADDRESS=The Pub 160 E Front St Traverse City MI 49684;X-APPLE-RADIUS=500;X-TITLE=160 E Front St:geo:-85.6212028,44.7638478
END:VEVENT
BEGIN:VEVENT
DTSTART;TZID=America/New_York:20260330T140000
DTEND;TZID=America/New_York:20260330T170000
DTSTAMP:20260422T132457
CREATED:20250915T203347Z
LAST-MODIFIED:20250915T203347Z
UID:10014483-1774879200-1774890000@enjoywhereyouare.today
SUMMARY:Happy Hour
DESCRIPTION:Monday-Friday from 2-5pm. Half Off all of your favorite drinks. Includes Pub classics or one of 20 tap beers. ENJOY!!!
URL:https://enjoywhereyouare.today/events/happy-hour-6/2026-03-30/
LOCATION:The Pub\, 160 E Front St\, Traverse City\, MI\, 49684
CATEGORIES:*Downtown TC and Traverse City,Daily Specials
ATTACH;FMTTYPE=image/jpeg:https://enjoywhereyouare.today/wp-content/uploads/2025/09/The-Pub-TC-Happy-Hour.jpg
GEO:44.7638478;-85.6212028
X-APPLE-STRUCTURED-LOCATION;VALUE=URI;X-ADDRESS=The Pub 160 E Front St Traverse City MI 49684;X-APPLE-RADIUS=500;X-TITLE=160 E Front St:geo:-85.6212028,44.7638478
END:VEVENT
BEGIN:VEVENT
DTSTART;TZID=America/New_York:20260327T140000
DTEND;TZID=America/New_York:20260327T170000
DTSTAMP:20260422T132457
CREATED:20250915T203347Z
LAST-MODIFIED:20250915T203347Z
UID:10014482-1774620000-1774630800@enjoywhereyouare.today
SUMMARY:Happy Hour
DESCRIPTION:Monday-Friday from 2-5pm. Half Off all of your favorite drinks. Includes Pub classics or one of 20 tap beers. ENJOY!!!
URL:https://enjoywhereyouare.today/events/happy-hour-6/2026-03-27/
LOCATION:The Pub\, 160 E Front St\, Traverse City\, MI\, 49684
CATEGORIES:*Downtown TC and Traverse City,Daily Specials
ATTACH;FMTTYPE=image/jpeg:https://enjoywhereyouare.today/wp-content/uploads/2025/09/The-Pub-TC-Happy-Hour.jpg
GEO:44.7638478;-85.6212028
X-APPLE-STRUCTURED-LOCATION;VALUE=URI;X-ADDRESS=The Pub 160 E Front St Traverse City MI 49684;X-APPLE-RADIUS=500;X-TITLE=160 E Front St:geo:-85.6212028,44.7638478
END:VEVENT
BEGIN:VEVENT
DTSTART;TZID=America/New_York:20260326T140000
DTEND;TZID=America/New_York:20260326T170000
DTSTAMP:20260422T132457
CREATED:20250915T203347Z
LAST-MODIFIED:20250915T203347Z
UID:10014481-1774533600-1774544400@enjoywhereyouare.today
SUMMARY:Happy Hour
DESCRIPTION:Monday-Friday from 2-5pm. Half Off all of your favorite drinks. Includes Pub classics or one of 20 tap beers. ENJOY!!!
URL:https://enjoywhereyouare.today/events/happy-hour-6/2026-03-26/
LOCATION:The Pub\, 160 E Front St\, Traverse City\, MI\, 49684
CATEGORIES:*Downtown TC and Traverse City,Daily Specials
ATTACH;FMTTYPE=image/jpeg:https://enjoywhereyouare.today/wp-content/uploads/2025/09/The-Pub-TC-Happy-Hour.jpg
GEO:44.7638478;-85.6212028
X-APPLE-STRUCTURED-LOCATION;VALUE=URI;X-ADDRESS=The Pub 160 E Front St Traverse City MI 49684;X-APPLE-RADIUS=500;X-TITLE=160 E Front St:geo:-85.6212028,44.7638478
END:VEVENT
BEGIN:VEVENT
DTSTART;TZID=America/New_York:20260325T140000
DTEND;TZID=America/New_York:20260325T170000
DTSTAMP:20260422T132457
CREATED:20250915T203347Z
LAST-MODIFIED:20250915T203347Z
UID:10014480-1774447200-1774458000@enjoywhereyouare.today
SUMMARY:Happy Hour
DESCRIPTION:Monday-Friday from 2-5pm. Half Off all of your favorite drinks. Includes Pub classics or one of 20 tap beers. ENJOY!!!
URL:https://enjoywhereyouare.today/events/happy-hour-6/2026-03-25/
LOCATION:The Pub\, 160 E Front St\, Traverse City\, MI\, 49684
CATEGORIES:*Downtown TC and Traverse City,Daily Specials
ATTACH;FMTTYPE=image/jpeg:https://enjoywhereyouare.today/wp-content/uploads/2025/09/The-Pub-TC-Happy-Hour.jpg
GEO:44.7638478;-85.6212028
X-APPLE-STRUCTURED-LOCATION;VALUE=URI;X-ADDRESS=The Pub 160 E Front St Traverse City MI 49684;X-APPLE-RADIUS=500;X-TITLE=160 E Front St:geo:-85.6212028,44.7638478
END:VEVENT
BEGIN:VEVENT
DTSTART;TZID=America/New_York:20260324T140000
DTEND;TZID=America/New_York:20260324T170000
DTSTAMP:20260422T132457
CREATED:20250915T203347Z
LAST-MODIFIED:20250915T203347Z
UID:10014479-1774360800-1774371600@enjoywhereyouare.today
SUMMARY:Happy Hour
DESCRIPTION:Monday-Friday from 2-5pm. Half Off all of your favorite drinks. Includes Pub classics or one of 20 tap beers. ENJOY!!!
URL:https://enjoywhereyouare.today/events/happy-hour-6/2026-03-24/
LOCATION:The Pub\, 160 E Front St\, Traverse City\, MI\, 49684
CATEGORIES:*Downtown TC and Traverse City,Daily Specials
ATTACH;FMTTYPE=image/jpeg:https://enjoywhereyouare.today/wp-content/uploads/2025/09/The-Pub-TC-Happy-Hour.jpg
GEO:44.7638478;-85.6212028
X-APPLE-STRUCTURED-LOCATION;VALUE=URI;X-ADDRESS=The Pub 160 E Front St Traverse City MI 49684;X-APPLE-RADIUS=500;X-TITLE=160 E Front St:geo:-85.6212028,44.7638478
END:VEVENT
BEGIN:VEVENT
DTSTART;TZID=America/New_York:20260323T140000
DTEND;TZID=America/New_York:20260323T170000
DTSTAMP:20260422T132457
CREATED:20250915T203347Z
LAST-MODIFIED:20250915T203347Z
UID:10014478-1774274400-1774285200@enjoywhereyouare.today
SUMMARY:Happy Hour
DESCRIPTION:Monday-Friday from 2-5pm. Half Off all of your favorite drinks. Includes Pub classics or one of 20 tap beers. ENJOY!!!
URL:https://enjoywhereyouare.today/events/happy-hour-6/2026-03-23/
LOCATION:The Pub\, 160 E Front St\, Traverse City\, MI\, 49684
CATEGORIES:*Downtown TC and Traverse City,Daily Specials
ATTACH;FMTTYPE=image/jpeg:https://enjoywhereyouare.today/wp-content/uploads/2025/09/The-Pub-TC-Happy-Hour.jpg
GEO:44.7638478;-85.6212028
X-APPLE-STRUCTURED-LOCATION;VALUE=URI;X-ADDRESS=The Pub 160 E Front St Traverse City MI 49684;X-APPLE-RADIUS=500;X-TITLE=160 E Front St:geo:-85.6212028,44.7638478
END:VEVENT
BEGIN:VEVENT
DTSTART;TZID=America/New_York:20260320T140000
DTEND;TZID=America/New_York:20260320T170000
DTSTAMP:20260422T132457
CREATED:20250915T203347Z
LAST-MODIFIED:20250915T203347Z
UID:10014477-1774015200-1774026000@enjoywhereyouare.today
SUMMARY:Happy Hour
DESCRIPTION:Monday-Friday from 2-5pm. Half Off all of your favorite drinks. Includes Pub classics or one of 20 tap beers. ENJOY!!!
URL:https://enjoywhereyouare.today/events/happy-hour-6/2026-03-20/
LOCATION:The Pub\, 160 E Front St\, Traverse City\, MI\, 49684
CATEGORIES:*Downtown TC and Traverse City,Daily Specials
ATTACH;FMTTYPE=image/jpeg:https://enjoywhereyouare.today/wp-content/uploads/2025/09/The-Pub-TC-Happy-Hour.jpg
GEO:44.7638478;-85.6212028
X-APPLE-STRUCTURED-LOCATION;VALUE=URI;X-ADDRESS=The Pub 160 E Front St Traverse City MI 49684;X-APPLE-RADIUS=500;X-TITLE=160 E Front St:geo:-85.6212028,44.7638478
END:VEVENT
BEGIN:VEVENT
DTSTART;TZID=America/New_York:20260319T140000
DTEND;TZID=America/New_York:20260319T170000
DTSTAMP:20260422T132457
CREATED:20250915T203347Z
LAST-MODIFIED:20250915T203347Z
UID:10014476-1773928800-1773939600@enjoywhereyouare.today
SUMMARY:Happy Hour
DESCRIPTION:Monday-Friday from 2-5pm. Half Off all of your favorite drinks. Includes Pub classics or one of 20 tap beers. ENJOY!!!
URL:https://enjoywhereyouare.today/events/happy-hour-6/2026-03-19/
LOCATION:The Pub\, 160 E Front St\, Traverse City\, MI\, 49684
CATEGORIES:*Downtown TC and Traverse City,Daily Specials
ATTACH;FMTTYPE=image/jpeg:https://enjoywhereyouare.today/wp-content/uploads/2025/09/The-Pub-TC-Happy-Hour.jpg
GEO:44.7638478;-85.6212028
X-APPLE-STRUCTURED-LOCATION;VALUE=URI;X-ADDRESS=The Pub 160 E Front St Traverse City MI 49684;X-APPLE-RADIUS=500;X-TITLE=160 E Front St:geo:-85.6212028,44.7638478
END:VEVENT
BEGIN:VEVENT
DTSTART;TZID=America/New_York:20260318T140000
DTEND;TZID=America/New_York:20260318T170000
DTSTAMP:20260422T132457
CREATED:20250915T203347Z
LAST-MODIFIED:20250915T203347Z
UID:10014475-1773842400-1773853200@enjoywhereyouare.today
SUMMARY:Happy Hour
DESCRIPTION:Monday-Friday from 2-5pm. Half Off all of your favorite drinks. Includes Pub classics or one of 20 tap beers. ENJOY!!!
URL:https://enjoywhereyouare.today/events/happy-hour-6/2026-03-18/
LOCATION:The Pub\, 160 E Front St\, Traverse City\, MI\, 49684
CATEGORIES:*Downtown TC and Traverse City,Daily Specials
ATTACH;FMTTYPE=image/jpeg:https://enjoywhereyouare.today/wp-content/uploads/2025/09/The-Pub-TC-Happy-Hour.jpg
GEO:44.7638478;-85.6212028
X-APPLE-STRUCTURED-LOCATION;VALUE=URI;X-ADDRESS=The Pub 160 E Front St Traverse City MI 49684;X-APPLE-RADIUS=500;X-TITLE=160 E Front St:geo:-85.6212028,44.7638478
END:VEVENT
BEGIN:VEVENT
DTSTART;TZID=America/New_York:20260317T140000
DTEND;TZID=America/New_York:20260317T170000
DTSTAMP:20260422T132457
CREATED:20250915T203347Z
LAST-MODIFIED:20250915T203347Z
UID:10014474-1773756000-1773766800@enjoywhereyouare.today
SUMMARY:Happy Hour
DESCRIPTION:Monday-Friday from 2-5pm. Half Off all of your favorite drinks. Includes Pub classics or one of 20 tap beers. ENJOY!!!
URL:https://enjoywhereyouare.today/events/happy-hour-6/2026-03-17/
LOCATION:The Pub\, 160 E Front St\, Traverse City\, MI\, 49684
CATEGORIES:*Downtown TC and Traverse City,Daily Specials
ATTACH;FMTTYPE=image/jpeg:https://enjoywhereyouare.today/wp-content/uploads/2025/09/The-Pub-TC-Happy-Hour.jpg
GEO:44.7638478;-85.6212028
X-APPLE-STRUCTURED-LOCATION;VALUE=URI;X-ADDRESS=The Pub 160 E Front St Traverse City MI 49684;X-APPLE-RADIUS=500;X-TITLE=160 E Front St:geo:-85.6212028,44.7638478
END:VEVENT
BEGIN:VEVENT
DTSTART;TZID=America/New_York:20260316T140000
DTEND;TZID=America/New_York:20260316T170000
DTSTAMP:20260422T132457
CREATED:20250915T203347Z
LAST-MODIFIED:20250915T203347Z
UID:10014473-1773669600-1773680400@enjoywhereyouare.today
SUMMARY:Happy Hour
DESCRIPTION:Monday-Friday from 2-5pm. Half Off all of your favorite drinks. Includes Pub classics or one of 20 tap beers. ENJOY!!!
URL:https://enjoywhereyouare.today/events/happy-hour-6/2026-03-16/
LOCATION:The Pub\, 160 E Front St\, Traverse City\, MI\, 49684
CATEGORIES:*Downtown TC and Traverse City,Daily Specials
ATTACH;FMTTYPE=image/jpeg:https://enjoywhereyouare.today/wp-content/uploads/2025/09/The-Pub-TC-Happy-Hour.jpg
GEO:44.7638478;-85.6212028
X-APPLE-STRUCTURED-LOCATION;VALUE=URI;X-ADDRESS=The Pub 160 E Front St Traverse City MI 49684;X-APPLE-RADIUS=500;X-TITLE=160 E Front St:geo:-85.6212028,44.7638478
END:VEVENT
BEGIN:VEVENT
DTSTART;TZID=America/New_York:20260313T140000
DTEND;TZID=America/New_York:20260313T170000
DTSTAMP:20260422T132457
CREATED:20250915T203347Z
LAST-MODIFIED:20250915T203347Z
UID:10014472-1773410400-1773421200@enjoywhereyouare.today
SUMMARY:Happy Hour
DESCRIPTION:Monday-Friday from 2-5pm. Half Off all of your favorite drinks. Includes Pub classics or one of 20 tap beers. ENJOY!!!
URL:https://enjoywhereyouare.today/events/happy-hour-6/2026-03-13/
LOCATION:The Pub\, 160 E Front St\, Traverse City\, MI\, 49684
CATEGORIES:*Downtown TC and Traverse City,Daily Specials
ATTACH;FMTTYPE=image/jpeg:https://enjoywhereyouare.today/wp-content/uploads/2025/09/The-Pub-TC-Happy-Hour.jpg
GEO:44.7638478;-85.6212028
X-APPLE-STRUCTURED-LOCATION;VALUE=URI;X-ADDRESS=The Pub 160 E Front St Traverse City MI 49684;X-APPLE-RADIUS=500;X-TITLE=160 E Front St:geo:-85.6212028,44.7638478
END:VEVENT
BEGIN:VEVENT
DTSTART;TZID=America/New_York:20260312T140000
DTEND;TZID=America/New_York:20260312T170000
DTSTAMP:20260422T132457
CREATED:20250915T203347Z
LAST-MODIFIED:20250915T203347Z
UID:10014471-1773324000-1773334800@enjoywhereyouare.today
SUMMARY:Happy Hour
DESCRIPTION:Monday-Friday from 2-5pm. Half Off all of your favorite drinks. Includes Pub classics or one of 20 tap beers. ENJOY!!!
URL:https://enjoywhereyouare.today/events/happy-hour-6/2026-03-12/
LOCATION:The Pub\, 160 E Front St\, Traverse City\, MI\, 49684
CATEGORIES:*Downtown TC and Traverse City,Daily Specials
ATTACH;FMTTYPE=image/jpeg:https://enjoywhereyouare.today/wp-content/uploads/2025/09/The-Pub-TC-Happy-Hour.jpg
GEO:44.7638478;-85.6212028
X-APPLE-STRUCTURED-LOCATION;VALUE=URI;X-ADDRESS=The Pub 160 E Front St Traverse City MI 49684;X-APPLE-RADIUS=500;X-TITLE=160 E Front St:geo:-85.6212028,44.7638478
END:VEVENT
BEGIN:VEVENT
DTSTART;TZID=America/New_York:20260311T140000
DTEND;TZID=America/New_York:20260311T170000
DTSTAMP:20260422T132457
CREATED:20250915T203347Z
LAST-MODIFIED:20250915T203347Z
UID:10014470-1773237600-1773248400@enjoywhereyouare.today
SUMMARY:Happy Hour
DESCRIPTION:Monday-Friday from 2-5pm. Half Off all of your favorite drinks. Includes Pub classics or one of 20 tap beers. ENJOY!!!
URL:https://enjoywhereyouare.today/events/happy-hour-6/2026-03-11/
LOCATION:The Pub\, 160 E Front St\, Traverse City\, MI\, 49684
CATEGORIES:*Downtown TC and Traverse City,Daily Specials
ATTACH;FMTTYPE=image/jpeg:https://enjoywhereyouare.today/wp-content/uploads/2025/09/The-Pub-TC-Happy-Hour.jpg
GEO:44.7638478;-85.6212028
X-APPLE-STRUCTURED-LOCATION;VALUE=URI;X-ADDRESS=The Pub 160 E Front St Traverse City MI 49684;X-APPLE-RADIUS=500;X-TITLE=160 E Front St:geo:-85.6212028,44.7638478
END:VEVENT
END:VCALENDAR