BEGIN:VCALENDAR
VERSION:2.0
PRODID:-//Enjoy Where You Are - ECPv6.5.2//NONSGML v1.0//EN
CALSCALE:GREGORIAN
METHOD:PUBLISH
X-ORIGINAL-URL:https://enjoywhereyouare.today
X-WR-CALDESC:Events for Enjoy Where You Are
REFRESH-INTERVAL;VALUE=DURATION:PT1H
X-Robots-Tag:noindex
X-PUBLISHED-TTL:PT1H
BEGIN:VTIMEZONE
TZID:America/New_York
BEGIN:DAYLIGHT
TZOFFSETFROM:-0500
TZOFFSETTO:-0400
TZNAME:EDT
DTSTART:20250309T070000
END:DAYLIGHT
BEGIN:STANDARD
TZOFFSETFROM:-0400
TZOFFSETTO:-0500
TZNAME:EST
DTSTART:20251102T060000
END:STANDARD
END:VTIMEZONE
BEGIN:VEVENT
DTSTART;TZID=America/New_York:20251231T200000
DTEND;TZID=America/New_York:20251231T230000
DTSTAMP:20260425T084241
CREATED:20251229T171025Z
LAST-MODIFIED:20251229T190357Z
UID:10015313-1767211200-1767222000@enjoywhereyouare.today
SUMMARY:New Year's Eve
DESCRIPTION:New Year’s Eve with special guest\, Henry Herig!\nEnjoy dinner (ticked and purchase required\, info below) or drop in for your favorite cocktail and menu item while listening to the stylings of Henry’s supreme choice of americana folk covers and originals. There is plenty of bubbly for everyone!\nReservations and pre-purchase required for dinner\, email Matt at:\nMatt@theparlortc.com\nFront bar and bar service will be open as normal.
URL:https://enjoywhereyouare.today/events/new-years-eve/
LOCATION:The Parlor
CATEGORIES:*Downtown TC and Traverse City,Holiday Event,Music
ATTACH;FMTTYPE=image/jpeg:https://enjoywhereyouare.today/wp-content/uploads/2025/12/The-Parlor-NYE.jpg
GEO:44.7601682;-85.6205602
END:VEVENT
BEGIN:VEVENT
DTSTART;TZID=America/New_York:20251231T160000
DTEND;TZID=America/New_York:20251231T190000
DTSTAMP:20260425T084241
CREATED:20221216T192121Z
LAST-MODIFIED:20250609T140234Z
UID:10013797-1767196800-1767207600@enjoywhereyouare.today
SUMMARY:Happy Hour
DESCRIPTION:
URL:https://enjoywhereyouare.today/events/happy-hour-2-2/2025-12-31/
LOCATION:The Parlor
CATEGORIES:Best Bars in TC,Daily Specials
ATTACH;FMTTYPE=image/jpeg:https://enjoywhereyouare.today/wp-content/uploads/2022/12/The-Parlor-Happy-Hour-2.jpg
GEO:44.7601682;-85.6205602
END:VEVENT
BEGIN:VEVENT
DTSTART;TZID=America/New_York:20251230T160000
DTEND;TZID=America/New_York:20251230T233000
DTSTAMP:20260425T084241
CREATED:20230117T165954Z
LAST-MODIFIED:20250609T140450Z
UID:10013876-1767110400-1767137400@enjoywhereyouare.today
SUMMARY:Two for Tuesdays
DESCRIPTION:2 for 1 beers all night!
URL:https://enjoywhereyouare.today/events/two-for-tuesdays/2025-12-30/
LOCATION:The Parlor
CATEGORIES:Best Bars in TC,Daily Specials,The Parlor The Pub North Bar
ATTACH;FMTTYPE=image/jpeg:https://enjoywhereyouare.today/wp-content/uploads/2023/01/The-Parlor-Tuesdays.jpg
GEO:44.7601682;-85.6205602
END:VEVENT
BEGIN:VEVENT
DTSTART;TZID=America/New_York:20251230T160000
DTEND;TZID=America/New_York:20251230T190000
DTSTAMP:20260425T084241
CREATED:20221216T192121Z
LAST-MODIFIED:20250609T140234Z
UID:10013796-1767110400-1767121200@enjoywhereyouare.today
SUMMARY:Happy Hour
DESCRIPTION:
URL:https://enjoywhereyouare.today/events/happy-hour-2-2/2025-12-30/
LOCATION:The Parlor
CATEGORIES:Best Bars in TC,Daily Specials
ATTACH;FMTTYPE=image/jpeg:https://enjoywhereyouare.today/wp-content/uploads/2022/12/The-Parlor-Happy-Hour-2.jpg
GEO:44.7601682;-85.6205602
END:VEVENT
BEGIN:VEVENT
DTSTART;TZID=America/New_York:20251229T160000
DTEND;TZID=America/New_York:20251229T190000
DTSTAMP:20260425T084241
CREATED:20221216T192121Z
LAST-MODIFIED:20250609T140234Z
UID:10013795-1767024000-1767034800@enjoywhereyouare.today
SUMMARY:Happy Hour
DESCRIPTION:
URL:https://enjoywhereyouare.today/events/happy-hour-2-2/2025-12-29/
LOCATION:The Parlor
CATEGORIES:Best Bars in TC,Daily Specials
ATTACH;FMTTYPE=image/jpeg:https://enjoywhereyouare.today/wp-content/uploads/2022/12/The-Parlor-Happy-Hour-2.jpg
GEO:44.7601682;-85.6205602
END:VEVENT
BEGIN:VEVENT
DTSTART;TZID=America/New_York:20251228T160000
DTEND;TZID=America/New_York:20251228T190000
DTSTAMP:20260425T084241
CREATED:20221216T192121Z
LAST-MODIFIED:20250609T140234Z
UID:10013794-1766937600-1766948400@enjoywhereyouare.today
SUMMARY:Happy Hour
DESCRIPTION:
URL:https://enjoywhereyouare.today/events/happy-hour-2-2/2025-12-28/
LOCATION:The Parlor
CATEGORIES:Best Bars in TC,Daily Specials
ATTACH;FMTTYPE=image/jpeg:https://enjoywhereyouare.today/wp-content/uploads/2022/12/The-Parlor-Happy-Hour-2.jpg
GEO:44.7601682;-85.6205602
END:VEVENT
BEGIN:VEVENT
DTSTART;TZID=America/New_York:20251227T160000
DTEND;TZID=America/New_York:20251227T190000
DTSTAMP:20260425T084241
CREATED:20221216T192121Z
LAST-MODIFIED:20250609T140234Z
UID:10013793-1766851200-1766862000@enjoywhereyouare.today
SUMMARY:Happy Hour
DESCRIPTION:
URL:https://enjoywhereyouare.today/events/happy-hour-2-2/2025-12-27/
LOCATION:The Parlor
CATEGORIES:Best Bars in TC,Daily Specials
ATTACH;FMTTYPE=image/jpeg:https://enjoywhereyouare.today/wp-content/uploads/2022/12/The-Parlor-Happy-Hour-2.jpg
GEO:44.7601682;-85.6205602
END:VEVENT
BEGIN:VEVENT
DTSTART;TZID=America/New_York:20251226T160000
DTEND;TZID=America/New_York:20251226T190000
DTSTAMP:20260425T084241
CREATED:20221216T192121Z
LAST-MODIFIED:20250609T140234Z
UID:10013792-1766764800-1766775600@enjoywhereyouare.today
SUMMARY:Happy Hour
DESCRIPTION:
URL:https://enjoywhereyouare.today/events/happy-hour-2-2/2025-12-26/
LOCATION:The Parlor
CATEGORIES:Best Bars in TC,Daily Specials
ATTACH;FMTTYPE=image/jpeg:https://enjoywhereyouare.today/wp-content/uploads/2022/12/The-Parlor-Happy-Hour-2.jpg
GEO:44.7601682;-85.6205602
END:VEVENT
BEGIN:VEVENT
DTSTART;TZID=America/New_York:20251225T160000
DTEND;TZID=America/New_York:20251225T190000
DTSTAMP:20260425T084241
CREATED:20221216T192121Z
LAST-MODIFIED:20250609T140234Z
UID:10013791-1766678400-1766689200@enjoywhereyouare.today
SUMMARY:Happy Hour
DESCRIPTION:
URL:https://enjoywhereyouare.today/events/happy-hour-2-2/2025-12-25/
LOCATION:The Parlor
CATEGORIES:Best Bars in TC,Daily Specials
ATTACH;FMTTYPE=image/jpeg:https://enjoywhereyouare.today/wp-content/uploads/2022/12/The-Parlor-Happy-Hour-2.jpg
GEO:44.7601682;-85.6205602
END:VEVENT
BEGIN:VEVENT
DTSTART;TZID=America/New_York:20251224T160000
DTEND;TZID=America/New_York:20251224T190000
DTSTAMP:20260425T084241
CREATED:20221216T192121Z
LAST-MODIFIED:20250609T140234Z
UID:10013790-1766592000-1766602800@enjoywhereyouare.today
SUMMARY:Happy Hour
DESCRIPTION:
URL:https://enjoywhereyouare.today/events/happy-hour-2-2/2025-12-24/
LOCATION:The Parlor
CATEGORIES:Best Bars in TC,Daily Specials
ATTACH;FMTTYPE=image/jpeg:https://enjoywhereyouare.today/wp-content/uploads/2022/12/The-Parlor-Happy-Hour-2.jpg
GEO:44.7601682;-85.6205602
END:VEVENT
BEGIN:VEVENT
DTSTART;TZID=America/New_York:20251223T160000
DTEND;TZID=America/New_York:20251223T233000
DTSTAMP:20260425T084241
CREATED:20230117T165954Z
LAST-MODIFIED:20250609T140450Z
UID:10013875-1766505600-1766532600@enjoywhereyouare.today
SUMMARY:Two for Tuesdays
DESCRIPTION:2 for 1 beers all night!
URL:https://enjoywhereyouare.today/events/two-for-tuesdays/2025-12-23/
LOCATION:The Parlor
CATEGORIES:Best Bars in TC,Daily Specials,The Parlor The Pub North Bar
ATTACH;FMTTYPE=image/jpeg:https://enjoywhereyouare.today/wp-content/uploads/2023/01/The-Parlor-Tuesdays.jpg
GEO:44.7601682;-85.6205602
END:VEVENT
BEGIN:VEVENT
DTSTART;TZID=America/New_York:20251223T160000
DTEND;TZID=America/New_York:20251223T190000
DTSTAMP:20260425T084241
CREATED:20221216T192121Z
LAST-MODIFIED:20250609T140234Z
UID:10013789-1766505600-1766516400@enjoywhereyouare.today
SUMMARY:Happy Hour
DESCRIPTION:
URL:https://enjoywhereyouare.today/events/happy-hour-2-2/2025-12-23/
LOCATION:The Parlor
CATEGORIES:Best Bars in TC,Daily Specials
ATTACH;FMTTYPE=image/jpeg:https://enjoywhereyouare.today/wp-content/uploads/2022/12/The-Parlor-Happy-Hour-2.jpg
GEO:44.7601682;-85.6205602
END:VEVENT
BEGIN:VEVENT
DTSTART;TZID=America/New_York:20251222T160000
DTEND;TZID=America/New_York:20251222T190000
DTSTAMP:20260425T084241
CREATED:20221216T192121Z
LAST-MODIFIED:20250609T140234Z
UID:10013788-1766419200-1766430000@enjoywhereyouare.today
SUMMARY:Happy Hour
DESCRIPTION:
URL:https://enjoywhereyouare.today/events/happy-hour-2-2/2025-12-22/
LOCATION:The Parlor
CATEGORIES:Best Bars in TC,Daily Specials
ATTACH;FMTTYPE=image/jpeg:https://enjoywhereyouare.today/wp-content/uploads/2022/12/The-Parlor-Happy-Hour-2.jpg
GEO:44.7601682;-85.6205602
END:VEVENT
BEGIN:VEVENT
DTSTART;TZID=America/New_York:20251221T160000
DTEND;TZID=America/New_York:20251221T190000
DTSTAMP:20260425T084241
CREATED:20221216T192121Z
LAST-MODIFIED:20250609T140234Z
UID:10013787-1766332800-1766343600@enjoywhereyouare.today
SUMMARY:Happy Hour
DESCRIPTION:
URL:https://enjoywhereyouare.today/events/happy-hour-2-2/2025-12-21/
LOCATION:The Parlor
CATEGORIES:Best Bars in TC,Daily Specials
ATTACH;FMTTYPE=image/jpeg:https://enjoywhereyouare.today/wp-content/uploads/2022/12/The-Parlor-Happy-Hour-2.jpg
GEO:44.7601682;-85.6205602
END:VEVENT
BEGIN:VEVENT
DTSTART;TZID=America/New_York:20251220T160000
DTEND;TZID=America/New_York:20251220T190000
DTSTAMP:20260425T084241
CREATED:20221216T192121Z
LAST-MODIFIED:20250609T140234Z
UID:10013786-1766246400-1766257200@enjoywhereyouare.today
SUMMARY:Happy Hour
DESCRIPTION:
URL:https://enjoywhereyouare.today/events/happy-hour-2-2/2025-12-20/
LOCATION:The Parlor
CATEGORIES:Best Bars in TC,Daily Specials
ATTACH;FMTTYPE=image/jpeg:https://enjoywhereyouare.today/wp-content/uploads/2022/12/The-Parlor-Happy-Hour-2.jpg
GEO:44.7601682;-85.6205602
END:VEVENT
BEGIN:VEVENT
DTSTART;TZID=America/New_York:20251219T160000
DTEND;TZID=America/New_York:20251219T190000
DTSTAMP:20260425T084241
CREATED:20221216T192121Z
LAST-MODIFIED:20250609T140234Z
UID:10013785-1766160000-1766170800@enjoywhereyouare.today
SUMMARY:Happy Hour
DESCRIPTION:
URL:https://enjoywhereyouare.today/events/happy-hour-2-2/2025-12-19/
LOCATION:The Parlor
CATEGORIES:Best Bars in TC,Daily Specials
ATTACH;FMTTYPE=image/jpeg:https://enjoywhereyouare.today/wp-content/uploads/2022/12/The-Parlor-Happy-Hour-2.jpg
GEO:44.7601682;-85.6205602
END:VEVENT
BEGIN:VEVENT
DTSTART;TZID=America/New_York:20251218T160000
DTEND;TZID=America/New_York:20251218T190000
DTSTAMP:20260425T084241
CREATED:20221216T192121Z
LAST-MODIFIED:20250609T140234Z
UID:10013784-1766073600-1766084400@enjoywhereyouare.today
SUMMARY:Happy Hour
DESCRIPTION:
URL:https://enjoywhereyouare.today/events/happy-hour-2-2/2025-12-18/
LOCATION:The Parlor
CATEGORIES:Best Bars in TC,Daily Specials
ATTACH;FMTTYPE=image/jpeg:https://enjoywhereyouare.today/wp-content/uploads/2022/12/The-Parlor-Happy-Hour-2.jpg
GEO:44.7601682;-85.6205602
END:VEVENT
BEGIN:VEVENT
DTSTART;TZID=America/New_York:20251217T160000
DTEND;TZID=America/New_York:20251217T190000
DTSTAMP:20260425T084241
CREATED:20221216T192121Z
LAST-MODIFIED:20250609T140234Z
UID:10013783-1765987200-1765998000@enjoywhereyouare.today
SUMMARY:Happy Hour
DESCRIPTION:
URL:https://enjoywhereyouare.today/events/happy-hour-2-2/2025-12-17/
LOCATION:The Parlor
CATEGORIES:Best Bars in TC,Daily Specials
ATTACH;FMTTYPE=image/jpeg:https://enjoywhereyouare.today/wp-content/uploads/2022/12/The-Parlor-Happy-Hour-2.jpg
GEO:44.7601682;-85.6205602
END:VEVENT
BEGIN:VEVENT
DTSTART;TZID=America/New_York:20251216T160000
DTEND;TZID=America/New_York:20251216T233000
DTSTAMP:20260425T084241
CREATED:20230117T165954Z
LAST-MODIFIED:20250609T140450Z
UID:10013874-1765900800-1765927800@enjoywhereyouare.today
SUMMARY:Two for Tuesdays
DESCRIPTION:2 for 1 beers all night!
URL:https://enjoywhereyouare.today/events/two-for-tuesdays/2025-12-16/
LOCATION:The Parlor
CATEGORIES:Best Bars in TC,Daily Specials,The Parlor The Pub North Bar
ATTACH;FMTTYPE=image/jpeg:https://enjoywhereyouare.today/wp-content/uploads/2023/01/The-Parlor-Tuesdays.jpg
GEO:44.7601682;-85.6205602
END:VEVENT
BEGIN:VEVENT
DTSTART;TZID=America/New_York:20251216T160000
DTEND;TZID=America/New_York:20251216T190000
DTSTAMP:20260425T084241
CREATED:20221216T192121Z
LAST-MODIFIED:20250609T140234Z
UID:10013782-1765900800-1765911600@enjoywhereyouare.today
SUMMARY:Happy Hour
DESCRIPTION:
URL:https://enjoywhereyouare.today/events/happy-hour-2-2/2025-12-16/
LOCATION:The Parlor
CATEGORIES:Best Bars in TC,Daily Specials
ATTACH;FMTTYPE=image/jpeg:https://enjoywhereyouare.today/wp-content/uploads/2022/12/The-Parlor-Happy-Hour-2.jpg
GEO:44.7601682;-85.6205602
END:VEVENT
BEGIN:VEVENT
DTSTART;TZID=America/New_York:20251215T160000
DTEND;TZID=America/New_York:20251215T190000
DTSTAMP:20260425T084241
CREATED:20221216T192121Z
LAST-MODIFIED:20250609T140234Z
UID:10013781-1765814400-1765825200@enjoywhereyouare.today
SUMMARY:Happy Hour
DESCRIPTION:
URL:https://enjoywhereyouare.today/events/happy-hour-2-2/2025-12-15/
LOCATION:The Parlor
CATEGORIES:Best Bars in TC,Daily Specials
ATTACH;FMTTYPE=image/jpeg:https://enjoywhereyouare.today/wp-content/uploads/2022/12/The-Parlor-Happy-Hour-2.jpg
GEO:44.7601682;-85.6205602
END:VEVENT
BEGIN:VEVENT
DTSTART;TZID=America/New_York:20251214T160000
DTEND;TZID=America/New_York:20251214T190000
DTSTAMP:20260425T084241
CREATED:20221216T192121Z
LAST-MODIFIED:20250609T140234Z
UID:10013780-1765728000-1765738800@enjoywhereyouare.today
SUMMARY:Happy Hour
DESCRIPTION:
URL:https://enjoywhereyouare.today/events/happy-hour-2-2/2025-12-14/
LOCATION:The Parlor
CATEGORIES:Best Bars in TC,Daily Specials
ATTACH;FMTTYPE=image/jpeg:https://enjoywhereyouare.today/wp-content/uploads/2022/12/The-Parlor-Happy-Hour-2.jpg
GEO:44.7601682;-85.6205602
END:VEVENT
BEGIN:VEVENT
DTSTART;TZID=America/New_York:20251213T160000
DTEND;TZID=America/New_York:20251213T190000
DTSTAMP:20260425T084241
CREATED:20221216T192121Z
LAST-MODIFIED:20250609T140234Z
UID:10013779-1765641600-1765652400@enjoywhereyouare.today
SUMMARY:Happy Hour
DESCRIPTION:
URL:https://enjoywhereyouare.today/events/happy-hour-2-2/2025-12-13/
LOCATION:The Parlor
CATEGORIES:Best Bars in TC,Daily Specials
ATTACH;FMTTYPE=image/jpeg:https://enjoywhereyouare.today/wp-content/uploads/2022/12/The-Parlor-Happy-Hour-2.jpg
GEO:44.7601682;-85.6205602
END:VEVENT
BEGIN:VEVENT
DTSTART;TZID=America/New_York:20251212T160000
DTEND;TZID=America/New_York:20251212T190000
DTSTAMP:20260425T084241
CREATED:20221216T192121Z
LAST-MODIFIED:20250609T140234Z
UID:10013778-1765555200-1765566000@enjoywhereyouare.today
SUMMARY:Happy Hour
DESCRIPTION:
URL:https://enjoywhereyouare.today/events/happy-hour-2-2/2025-12-12/
LOCATION:The Parlor
CATEGORIES:Best Bars in TC,Daily Specials
ATTACH;FMTTYPE=image/jpeg:https://enjoywhereyouare.today/wp-content/uploads/2022/12/The-Parlor-Happy-Hour-2.jpg
GEO:44.7601682;-85.6205602
END:VEVENT
BEGIN:VEVENT
DTSTART;TZID=America/New_York:20251211T160000
DTEND;TZID=America/New_York:20251211T190000
DTSTAMP:20260425T084241
CREATED:20221216T192121Z
LAST-MODIFIED:20250609T140234Z
UID:10013777-1765468800-1765479600@enjoywhereyouare.today
SUMMARY:Happy Hour
DESCRIPTION:
URL:https://enjoywhereyouare.today/events/happy-hour-2-2/2025-12-11/
LOCATION:The Parlor
CATEGORIES:Best Bars in TC,Daily Specials
ATTACH;FMTTYPE=image/jpeg:https://enjoywhereyouare.today/wp-content/uploads/2022/12/The-Parlor-Happy-Hour-2.jpg
GEO:44.7601682;-85.6205602
END:VEVENT
BEGIN:VEVENT
DTSTART;TZID=America/New_York:20251210T160000
DTEND;TZID=America/New_York:20251210T190000
DTSTAMP:20260425T084241
CREATED:20221216T192121Z
LAST-MODIFIED:20250609T140234Z
UID:10013776-1765382400-1765393200@enjoywhereyouare.today
SUMMARY:Happy Hour
DESCRIPTION:
URL:https://enjoywhereyouare.today/events/happy-hour-2-2/2025-12-10/
LOCATION:The Parlor
CATEGORIES:Best Bars in TC,Daily Specials
ATTACH;FMTTYPE=image/jpeg:https://enjoywhereyouare.today/wp-content/uploads/2022/12/The-Parlor-Happy-Hour-2.jpg
GEO:44.7601682;-85.6205602
END:VEVENT
BEGIN:VEVENT
DTSTART;TZID=America/New_York:20251209T160000
DTEND;TZID=America/New_York:20251209T233000
DTSTAMP:20260425T084241
CREATED:20230117T165954Z
LAST-MODIFIED:20250609T140450Z
UID:10013873-1765296000-1765323000@enjoywhereyouare.today
SUMMARY:Two for Tuesdays
DESCRIPTION:2 for 1 beers all night!
URL:https://enjoywhereyouare.today/events/two-for-tuesdays/2025-12-09/
LOCATION:The Parlor
CATEGORIES:Best Bars in TC,Daily Specials,The Parlor The Pub North Bar
ATTACH;FMTTYPE=image/jpeg:https://enjoywhereyouare.today/wp-content/uploads/2023/01/The-Parlor-Tuesdays.jpg
GEO:44.7601682;-85.6205602
END:VEVENT
BEGIN:VEVENT
DTSTART;TZID=America/New_York:20251209T160000
DTEND;TZID=America/New_York:20251209T190000
DTSTAMP:20260425T084241
CREATED:20221216T192121Z
LAST-MODIFIED:20250609T140234Z
UID:10013775-1765296000-1765306800@enjoywhereyouare.today
SUMMARY:Happy Hour
DESCRIPTION:
URL:https://enjoywhereyouare.today/events/happy-hour-2-2/2025-12-09/
LOCATION:The Parlor
CATEGORIES:Best Bars in TC,Daily Specials
ATTACH;FMTTYPE=image/jpeg:https://enjoywhereyouare.today/wp-content/uploads/2022/12/The-Parlor-Happy-Hour-2.jpg
GEO:44.7601682;-85.6205602
END:VEVENT
BEGIN:VEVENT
DTSTART;TZID=America/New_York:20251208T160000
DTEND;TZID=America/New_York:20251208T190000
DTSTAMP:20260425T084241
CREATED:20221216T192121Z
LAST-MODIFIED:20250609T140234Z
UID:10013774-1765209600-1765220400@enjoywhereyouare.today
SUMMARY:Happy Hour
DESCRIPTION:
URL:https://enjoywhereyouare.today/events/happy-hour-2-2/2025-12-08/
LOCATION:The Parlor
CATEGORIES:Best Bars in TC,Daily Specials
ATTACH;FMTTYPE=image/jpeg:https://enjoywhereyouare.today/wp-content/uploads/2022/12/The-Parlor-Happy-Hour-2.jpg
GEO:44.7601682;-85.6205602
END:VEVENT
BEGIN:VEVENT
DTSTART;TZID=America/New_York:20251207T160000
DTEND;TZID=America/New_York:20251207T190000
DTSTAMP:20260425T084241
CREATED:20221216T192121Z
LAST-MODIFIED:20250609T140234Z
UID:10013773-1765123200-1765134000@enjoywhereyouare.today
SUMMARY:Happy Hour
DESCRIPTION:
URL:https://enjoywhereyouare.today/events/happy-hour-2-2/2025-12-07/
LOCATION:The Parlor
CATEGORIES:Best Bars in TC,Daily Specials
ATTACH;FMTTYPE=image/jpeg:https://enjoywhereyouare.today/wp-content/uploads/2022/12/The-Parlor-Happy-Hour-2.jpg
GEO:44.7601682;-85.6205602
END:VEVENT
END:VCALENDAR