BEGIN:VCALENDAR
VERSION:2.0
PRODID:-//Enjoy Where You Are - ECPv6.5.2//NONSGML v1.0//EN
CALSCALE:GREGORIAN
METHOD:PUBLISH
X-ORIGINAL-URL:https://enjoywhereyouare.today
X-WR-CALDESC:Events for Enjoy Where You Are
REFRESH-INTERVAL;VALUE=DURATION:PT1H
X-Robots-Tag:noindex
X-PUBLISHED-TTL:PT1H
BEGIN:VTIMEZONE
TZID:America/New_York
BEGIN:DAYLIGHT
TZOFFSETFROM:-0500
TZOFFSETTO:-0400
TZNAME:EDT
DTSTART:20240310T070000
END:DAYLIGHT
BEGIN:STANDARD
TZOFFSETFROM:-0400
TZOFFSETTO:-0500
TZNAME:EST
DTSTART:20241103T060000
END:STANDARD
END:VTIMEZONE
BEGIN:VEVENT
DTSTART;TZID=America/New_York:20241010T190000
DTEND;TZID=America/New_York:20241010T220000
DTSTAMP:20260425T092654
CREATED:20240910T153728Z
LAST-MODIFIED:20240910T153728Z
UID:10007009-1728586800-1728597600@enjoywhereyouare.today
SUMMARY:Bingo Nights
DESCRIPTION:Starting at a $20 buy in\, you must be 18+ to play with us! Its a game that we all know and love\, so why not bring everyone down for dinner\, and drinks!
URL:https://enjoywhereyouare.today/events/bingo-nights/2024-10-10/
LOCATION:The Jump\, 75770 Gallatin Road\, Gallatin Gateway\, MT\, 59730\, United States
CATEGORIES:Bar Games
ATTACH;FMTTYPE=image/png:https://enjoywhereyouare.today/wp-content/uploads/2024/09/Bingo-Nights-Big-Sky.png
GEO:45.5906017;-111.1965304
X-APPLE-STRUCTURED-LOCATION;VALUE=URI;X-ADDRESS=The Jump 75770 Gallatin Road Gallatin Gateway MT 59730 United States;X-APPLE-RADIUS=500;X-TITLE=75770 Gallatin Road:geo:-111.1965304,45.5906017
END:VEVENT
BEGIN:VEVENT
DTSTART;TZID=America/New_York:20241009T190000
DTEND;TZID=America/New_York:20241009T235900
DTSTAMP:20260425T092654
CREATED:20240910T150227Z
LAST-MODIFIED:20240910T150432Z
UID:10006748-1728500400-1728518340@enjoywhereyouare.today
SUMMARY:Country Dance Night
DESCRIPTION:Every Wednesday! \nLessons from Country Renegades:\nBeginner Lessons 7:00 – 7:45\nLine Dance Choreography 7:45 – 8:00\nIntermediate Lessons 8:00 – 9:00\nOpen Dance 9:00 – CLOSE \n‍Lessons $10 \nFree after 9:00 PM for Open Dance \n 
URL:https://enjoywhereyouare.today/events/country-dance-night/2024-10-09/
LOCATION:The Jump\, 75770 Gallatin Road\, Gallatin Gateway\, MT\, 59730\, United States
CATEGORIES:Bar Games,Live Music
ATTACH;FMTTYPE=image/png:https://enjoywhereyouare.today/wp-content/uploads/2024/09/Country-Dance-Night.png
GEO:45.5906017;-111.1965304
X-APPLE-STRUCTURED-LOCATION;VALUE=URI;X-ADDRESS=The Jump 75770 Gallatin Road Gallatin Gateway MT 59730 United States;X-APPLE-RADIUS=500;X-TITLE=75770 Gallatin Road:geo:-111.1965304,45.5906017
END:VEVENT
BEGIN:VEVENT
DTSTART;TZID=America/New_York:20241003T190000
DTEND;TZID=America/New_York:20241003T220000
DTSTAMP:20260425T092654
CREATED:20240910T153728Z
LAST-MODIFIED:20240910T153728Z
UID:10007008-1727982000-1727992800@enjoywhereyouare.today
SUMMARY:Bingo Nights
DESCRIPTION:Starting at a $20 buy in\, you must be 18+ to play with us! Its a game that we all know and love\, so why not bring everyone down for dinner\, and drinks!
URL:https://enjoywhereyouare.today/events/bingo-nights/2024-10-03/
LOCATION:The Jump\, 75770 Gallatin Road\, Gallatin Gateway\, MT\, 59730\, United States
CATEGORIES:Bar Games
ATTACH;FMTTYPE=image/png:https://enjoywhereyouare.today/wp-content/uploads/2024/09/Bingo-Nights-Big-Sky.png
GEO:45.5906017;-111.1965304
X-APPLE-STRUCTURED-LOCATION;VALUE=URI;X-ADDRESS=The Jump 75770 Gallatin Road Gallatin Gateway MT 59730 United States;X-APPLE-RADIUS=500;X-TITLE=75770 Gallatin Road:geo:-111.1965304,45.5906017
END:VEVENT
BEGIN:VEVENT
DTSTART;TZID=America/New_York:20241002T190000
DTEND;TZID=America/New_York:20241002T235900
DTSTAMP:20260425T092654
CREATED:20240910T150227Z
LAST-MODIFIED:20240910T150432Z
UID:10006747-1727895600-1727913540@enjoywhereyouare.today
SUMMARY:Country Dance Night
DESCRIPTION:Every Wednesday! \nLessons from Country Renegades:\nBeginner Lessons 7:00 – 7:45\nLine Dance Choreography 7:45 – 8:00\nIntermediate Lessons 8:00 – 9:00\nOpen Dance 9:00 – CLOSE \n‍Lessons $10 \nFree after 9:00 PM for Open Dance \n 
URL:https://enjoywhereyouare.today/events/country-dance-night/2024-10-02/
LOCATION:The Jump\, 75770 Gallatin Road\, Gallatin Gateway\, MT\, 59730\, United States
CATEGORIES:Bar Games,Live Music
ATTACH;FMTTYPE=image/png:https://enjoywhereyouare.today/wp-content/uploads/2024/09/Country-Dance-Night.png
GEO:45.5906017;-111.1965304
X-APPLE-STRUCTURED-LOCATION;VALUE=URI;X-ADDRESS=The Jump 75770 Gallatin Road Gallatin Gateway MT 59730 United States;X-APPLE-RADIUS=500;X-TITLE=75770 Gallatin Road:geo:-111.1965304,45.5906017
END:VEVENT
BEGIN:VEVENT
DTSTART;TZID=America/New_York:20240926T190000
DTEND;TZID=America/New_York:20240926T220000
DTSTAMP:20260425T092654
CREATED:20240910T153728Z
LAST-MODIFIED:20240910T153728Z
UID:10007007-1727377200-1727388000@enjoywhereyouare.today
SUMMARY:Bingo Nights
DESCRIPTION:Starting at a $20 buy in\, you must be 18+ to play with us! Its a game that we all know and love\, so why not bring everyone down for dinner\, and drinks!
URL:https://enjoywhereyouare.today/events/bingo-nights/2024-09-26/
LOCATION:The Jump\, 75770 Gallatin Road\, Gallatin Gateway\, MT\, 59730\, United States
CATEGORIES:Bar Games
ATTACH;FMTTYPE=image/png:https://enjoywhereyouare.today/wp-content/uploads/2024/09/Bingo-Nights-Big-Sky.png
GEO:45.5906017;-111.1965304
X-APPLE-STRUCTURED-LOCATION;VALUE=URI;X-ADDRESS=The Jump 75770 Gallatin Road Gallatin Gateway MT 59730 United States;X-APPLE-RADIUS=500;X-TITLE=75770 Gallatin Road:geo:-111.1965304,45.5906017
END:VEVENT
BEGIN:VEVENT
DTSTART;TZID=America/New_York:20240925T190000
DTEND;TZID=America/New_York:20240925T235900
DTSTAMP:20260425T092654
CREATED:20240910T150227Z
LAST-MODIFIED:20240910T150432Z
UID:10006746-1727290800-1727308740@enjoywhereyouare.today
SUMMARY:Country Dance Night
DESCRIPTION:Every Wednesday! \nLessons from Country Renegades:\nBeginner Lessons 7:00 – 7:45\nLine Dance Choreography 7:45 – 8:00\nIntermediate Lessons 8:00 – 9:00\nOpen Dance 9:00 – CLOSE \n‍Lessons $10 \nFree after 9:00 PM for Open Dance \n 
URL:https://enjoywhereyouare.today/events/country-dance-night/2024-09-25/
LOCATION:The Jump\, 75770 Gallatin Road\, Gallatin Gateway\, MT\, 59730\, United States
CATEGORIES:Bar Games,Live Music
ATTACH;FMTTYPE=image/png:https://enjoywhereyouare.today/wp-content/uploads/2024/09/Country-Dance-Night.png
GEO:45.5906017;-111.1965304
X-APPLE-STRUCTURED-LOCATION;VALUE=URI;X-ADDRESS=The Jump 75770 Gallatin Road Gallatin Gateway MT 59730 United States;X-APPLE-RADIUS=500;X-TITLE=75770 Gallatin Road:geo:-111.1965304,45.5906017
END:VEVENT
BEGIN:VEVENT
DTSTART;TZID=America/New_York:20240919T190000
DTEND;TZID=America/New_York:20240919T220000
DTSTAMP:20260425T092654
CREATED:20240910T153728Z
LAST-MODIFIED:20240910T153728Z
UID:10007006-1726772400-1726783200@enjoywhereyouare.today
SUMMARY:Bingo Nights
DESCRIPTION:Starting at a $20 buy in\, you must be 18+ to play with us! Its a game that we all know and love\, so why not bring everyone down for dinner\, and drinks!
URL:https://enjoywhereyouare.today/events/bingo-nights/2024-09-19/
LOCATION:The Jump\, 75770 Gallatin Road\, Gallatin Gateway\, MT\, 59730\, United States
CATEGORIES:Bar Games
ATTACH;FMTTYPE=image/png:https://enjoywhereyouare.today/wp-content/uploads/2024/09/Bingo-Nights-Big-Sky.png
GEO:45.5906017;-111.1965304
X-APPLE-STRUCTURED-LOCATION;VALUE=URI;X-ADDRESS=The Jump 75770 Gallatin Road Gallatin Gateway MT 59730 United States;X-APPLE-RADIUS=500;X-TITLE=75770 Gallatin Road:geo:-111.1965304,45.5906017
END:VEVENT
BEGIN:VEVENT
DTSTART;TZID=America/New_York:20240918T190000
DTEND;TZID=America/New_York:20240918T235900
DTSTAMP:20260425T092654
CREATED:20240910T150227Z
LAST-MODIFIED:20240910T150432Z
UID:10006745-1726686000-1726703940@enjoywhereyouare.today
SUMMARY:Country Dance Night
DESCRIPTION:Every Wednesday! \nLessons from Country Renegades:\nBeginner Lessons 7:00 – 7:45\nLine Dance Choreography 7:45 – 8:00\nIntermediate Lessons 8:00 – 9:00\nOpen Dance 9:00 – CLOSE \n‍Lessons $10 \nFree after 9:00 PM for Open Dance \n 
URL:https://enjoywhereyouare.today/events/country-dance-night/2024-09-18/
LOCATION:The Jump\, 75770 Gallatin Road\, Gallatin Gateway\, MT\, 59730\, United States
CATEGORIES:Bar Games,Live Music
ATTACH;FMTTYPE=image/png:https://enjoywhereyouare.today/wp-content/uploads/2024/09/Country-Dance-Night.png
GEO:45.5906017;-111.1965304
X-APPLE-STRUCTURED-LOCATION;VALUE=URI;X-ADDRESS=The Jump 75770 Gallatin Road Gallatin Gateway MT 59730 United States;X-APPLE-RADIUS=500;X-TITLE=75770 Gallatin Road:geo:-111.1965304,45.5906017
END:VEVENT
BEGIN:VEVENT
DTSTART;TZID=America/New_York:20240914T190000
DTEND;TZID=America/New_York:20240914T220000
DTSTAMP:20260425T092654
CREATED:20240910T183030Z
LAST-MODIFIED:20240910T183324Z
UID:10007266-1726340400-1726351200@enjoywhereyouare.today
SUMMARY:The Housewives of St. Johns
DESCRIPTION:
URL:https://enjoywhereyouare.today/events/the-housewives-of-st-johns/
LOCATION:The Jump\, 75770 Gallatin Road\, Gallatin Gateway\, MT\, 59730\, United States
CATEGORIES:Live Music
ATTACH;FMTTYPE=image/jpeg:https://enjoywhereyouare.today/wp-content/uploads/2024/09/music-The-Housewives-of-St.-John.jpg
GEO:45.5906017;-111.1965304
X-APPLE-STRUCTURED-LOCATION;VALUE=URI;X-ADDRESS=The Jump 75770 Gallatin Road Gallatin Gateway MT 59730 United States;X-APPLE-RADIUS=500;X-TITLE=75770 Gallatin Road:geo:-111.1965304,45.5906017
END:VEVENT
BEGIN:VEVENT
DTSTART;TZID=America/New_York:20240913T200000
DTEND;TZID=America/New_York:20240913T230000
DTSTAMP:20260425T092654
CREATED:20240910T142318Z
LAST-MODIFIED:20240910T143319Z
UID:10006482-1726257600-1726268400@enjoywhereyouare.today
SUMMARY:The Dirty Shame
DESCRIPTION:
URL:https://enjoywhereyouare.today/events/the-dirty-shame/
LOCATION:The Jump\, 75770 Gallatin Road\, Gallatin Gateway\, MT\, 59730\, United States
CATEGORIES:Live Music
ATTACH;FMTTYPE=image/jpeg:https://enjoywhereyouare.today/wp-content/uploads/2024/09/Music-Big-Sky-The-Dirty-Shame-1.jpg
GEO:45.5906017;-111.1965304
X-APPLE-STRUCTURED-LOCATION;VALUE=URI;X-ADDRESS=The Jump 75770 Gallatin Road Gallatin Gateway MT 59730 United States;X-APPLE-RADIUS=500;X-TITLE=75770 Gallatin Road:geo:-111.1965304,45.5906017
END:VEVENT
BEGIN:VEVENT
DTSTART;TZID=America/New_York:20240912T190000
DTEND;TZID=America/New_York:20240912T220000
DTSTAMP:20260425T092654
CREATED:20240910T153728Z
LAST-MODIFIED:20240910T153728Z
UID:10007005-1726167600-1726178400@enjoywhereyouare.today
SUMMARY:Bingo Nights
DESCRIPTION:Starting at a $20 buy in\, you must be 18+ to play with us! Its a game that we all know and love\, so why not bring everyone down for dinner\, and drinks!
URL:https://enjoywhereyouare.today/events/bingo-nights/2024-09-12/
LOCATION:The Jump\, 75770 Gallatin Road\, Gallatin Gateway\, MT\, 59730\, United States
CATEGORIES:Bar Games
ATTACH;FMTTYPE=image/png:https://enjoywhereyouare.today/wp-content/uploads/2024/09/Bingo-Nights-Big-Sky.png
GEO:45.5906017;-111.1965304
X-APPLE-STRUCTURED-LOCATION;VALUE=URI;X-ADDRESS=The Jump 75770 Gallatin Road Gallatin Gateway MT 59730 United States;X-APPLE-RADIUS=500;X-TITLE=75770 Gallatin Road:geo:-111.1965304,45.5906017
END:VEVENT
BEGIN:VEVENT
DTSTART;TZID=America/New_York:20240911T190000
DTEND;TZID=America/New_York:20240911T235900
DTSTAMP:20260425T092654
CREATED:20240910T150227Z
LAST-MODIFIED:20240910T150432Z
UID:10006744-1726081200-1726099140@enjoywhereyouare.today
SUMMARY:Country Dance Night
DESCRIPTION:Every Wednesday! \nLessons from Country Renegades:\nBeginner Lessons 7:00 – 7:45\nLine Dance Choreography 7:45 – 8:00\nIntermediate Lessons 8:00 – 9:00\nOpen Dance 9:00 – CLOSE \n‍Lessons $10 \nFree after 9:00 PM for Open Dance \n 
URL:https://enjoywhereyouare.today/events/country-dance-night/2024-09-11/
LOCATION:The Jump\, 75770 Gallatin Road\, Gallatin Gateway\, MT\, 59730\, United States
CATEGORIES:Bar Games,Live Music
ATTACH;FMTTYPE=image/png:https://enjoywhereyouare.today/wp-content/uploads/2024/09/Country-Dance-Night.png
GEO:45.5906017;-111.1965304
X-APPLE-STRUCTURED-LOCATION;VALUE=URI;X-ADDRESS=The Jump 75770 Gallatin Road Gallatin Gateway MT 59730 United States;X-APPLE-RADIUS=500;X-TITLE=75770 Gallatin Road:geo:-111.1965304,45.5906017
END:VEVENT
BEGIN:VEVENT
DTSTART;TZID=America/New_York:20240910T190000
DTEND;TZID=America/New_York:20240910T210000
DTSTAMP:20260425T092654
CREATED:20240910T145504Z
LAST-MODIFIED:20250609T154842Z
UID:10006483-1725994800-1726002000@enjoywhereyouare.today
SUMMARY:Trivia Night
DESCRIPTION:Tuesdays – Tacos & Trivia! \nGNL Trivia! Free to play! Always an awesome time. \nPrizes for winners – Accessible and amazing trivia for everyone
URL:https://enjoywhereyouare.today/events/trivia-night/2024-09-10/2/
LOCATION:The Jump\, 75770 Gallatin Road\, Gallatin Gateway\, MT\, 59730\, United States
CATEGORIES:Bar Games
ATTACH;FMTTYPE=image/png:https://enjoywhereyouare.today/wp-content/uploads/2024/09/Events-Big-Sky-Tues-Trivia-The-Jump.png
GEO:45.5906017;-111.1965304
X-APPLE-STRUCTURED-LOCATION;VALUE=URI;X-ADDRESS=The Jump 75770 Gallatin Road Gallatin Gateway MT 59730 United States;X-APPLE-RADIUS=500;X-TITLE=75770 Gallatin Road:geo:-111.1965304,45.5906017
END:VEVENT
BEGIN:VEVENT
DTSTART;TZID=America/New_York:20240910T080000
DTEND;TZID=America/New_York:20240910T170000
DTSTAMP:20260425T092654
CREATED:20240910T145504Z
LAST-MODIFIED:20250609T154842Z
UID:10014031-1725955200-1725987600@enjoywhereyouare.today
SUMMARY:Trivia Night
DESCRIPTION:Tuesdays – Tacos & Trivia! \nGNL Trivia! Free to play! Always an awesome time. \nPrizes for winners – Accessible and amazing trivia for everyone
URL:https://enjoywhereyouare.today/events/trivia-night/2024-09-10/1/
LOCATION:The Jump\, 75770 Gallatin Road\, Gallatin Gateway\, MT\, 59730\, United States
CATEGORIES:Bar Games
ATTACH;FMTTYPE=image/png:https://enjoywhereyouare.today/wp-content/uploads/2024/09/Events-Big-Sky-Tues-Trivia-The-Jump.png
GEO:45.5906017;-111.1965304
X-APPLE-STRUCTURED-LOCATION;VALUE=URI;X-ADDRESS=The Jump 75770 Gallatin Road Gallatin Gateway MT 59730 United States;X-APPLE-RADIUS=500;X-TITLE=75770 Gallatin Road:geo:-111.1965304,45.5906017
END:VEVENT
END:VCALENDAR