BEGIN:VCALENDAR
VERSION:2.0
PRODID:-//Enjoy Where You Are - ECPv6.5.2//NONSGML v1.0//EN
CALSCALE:GREGORIAN
METHOD:PUBLISH
X-WR-CALNAME:Enjoy Where You Are
X-ORIGINAL-URL:https://enjoywhereyouare.today
X-WR-CALDESC:Events for Enjoy Where You Are
REFRESH-INTERVAL;VALUE=DURATION:PT1H
X-Robots-Tag:noindex
X-PUBLISHED-TTL:PT1H
BEGIN:VTIMEZONE
TZID:America/New_York
BEGIN:DAYLIGHT
TZOFFSETFROM:-0500
TZOFFSETTO:-0400
TZNAME:EDT
DTSTART:20250309T070000
END:DAYLIGHT
BEGIN:STANDARD
TZOFFSETFROM:-0400
TZOFFSETTO:-0500
TZNAME:EST
DTSTART:20251102T060000
END:STANDARD
END:VTIMEZONE
BEGIN:VEVENT
DTSTART;VALUE=DATE:20251003
DTEND;VALUE=DATE:20251004
DTSTAMP:20260422T221327
CREATED:20251001T143527Z
LAST-MODIFIED:20251001T143751Z
UID:10014565-1759449600-1759535999@enjoywhereyouare.today
SUMMARY:Oktoberfest
DESCRIPTION:
URL:https://enjoywhereyouare.today/events/oktoberfest-2/2025-10-03/
LOCATION:Rico’s Cafe and Pizzeria\, U.S. 31\, Grawn\, MI\, 49637\, United States
CATEGORIES:Daily Specials
ATTACH;FMTTYPE=image/jpeg:https://enjoywhereyouare.today/wp-content/uploads/2025/10/ricos-oktobrerfest-cover.jpg
GEO:44.665311;-85.6927556
X-APPLE-STRUCTURED-LOCATION;VALUE=URI;X-ADDRESS=Rico’s Cafe and Pizzeria U.S. 31 Grawn MI 49637 United States;X-APPLE-RADIUS=500;X-TITLE=U.S. 31:geo:-85.6927556,44.665311
END:VEVENT
BEGIN:VEVENT
DTSTART;VALUE=DATE:20251002
DTEND;VALUE=DATE:20251003
DTSTAMP:20260422T221327
CREATED:20251001T143527Z
LAST-MODIFIED:20251001T143751Z
UID:10014564-1759363200-1759449599@enjoywhereyouare.today
SUMMARY:Oktoberfest
DESCRIPTION:
URL:https://enjoywhereyouare.today/events/oktoberfest-2/2025-10-02/
LOCATION:Rico’s Cafe and Pizzeria\, U.S. 31\, Grawn\, MI\, 49637\, United States
CATEGORIES:Daily Specials
ATTACH;FMTTYPE=image/jpeg:https://enjoywhereyouare.today/wp-content/uploads/2025/10/ricos-oktobrerfest-cover.jpg
GEO:44.665311;-85.6927556
X-APPLE-STRUCTURED-LOCATION;VALUE=URI;X-ADDRESS=Rico’s Cafe and Pizzeria U.S. 31 Grawn MI 49637 United States;X-APPLE-RADIUS=500;X-TITLE=U.S. 31:geo:-85.6927556,44.665311
END:VEVENT
BEGIN:VEVENT
DTSTART;VALUE=DATE:20251001
DTEND;VALUE=DATE:20251002
DTSTAMP:20260422T221327
CREATED:20251001T143527Z
LAST-MODIFIED:20251001T143751Z
UID:10014563-1759276800-1759363199@enjoywhereyouare.today
SUMMARY:Oktoberfest
DESCRIPTION:
URL:https://enjoywhereyouare.today/events/oktoberfest-2/2025-10-01/
LOCATION:Rico’s Cafe and Pizzeria\, U.S. 31\, Grawn\, MI\, 49637\, United States
CATEGORIES:Daily Specials
ATTACH;FMTTYPE=image/jpeg:https://enjoywhereyouare.today/wp-content/uploads/2025/10/ricos-oktobrerfest-cover.jpg
GEO:44.665311;-85.6927556
X-APPLE-STRUCTURED-LOCATION;VALUE=URI;X-ADDRESS=Rico’s Cafe and Pizzeria U.S. 31 Grawn MI 49637 United States;X-APPLE-RADIUS=500;X-TITLE=U.S. 31:geo:-85.6927556,44.665311
END:VEVENT
BEGIN:VEVENT
DTSTART;VALUE=DATE:20250930
DTEND;VALUE=DATE:20251001
DTSTAMP:20260422T221327
CREATED:20250909T132810Z
LAST-MODIFIED:20250909T133108Z
UID:10014298-1759190400-1759276799@enjoywhereyouare.today
SUMMARY:Burger Bash 2025
DESCRIPTION:BURGER\, FRIES\, & COLESLAW only $15!!!
URL:https://enjoywhereyouare.today/events/burger-bash-2025/2025-09-30/
LOCATION:Rico’s Cafe and Pizzeria\, U.S. 31\, Grawn\, MI\, 49637\, United States
CATEGORIES:Daily Specials
ATTACH;FMTTYPE=image/jpeg:https://enjoywhereyouare.today/wp-content/uploads/2025/09/Ricos-Burger-Bash-2025.jpg
GEO:44.665311;-85.6927556
X-APPLE-STRUCTURED-LOCATION;VALUE=URI;X-ADDRESS=Rico’s Cafe and Pizzeria U.S. 31 Grawn MI 49637 United States;X-APPLE-RADIUS=500;X-TITLE=U.S. 31:geo:-85.6927556,44.665311
END:VEVENT
BEGIN:VEVENT
DTSTART;VALUE=DATE:20250929
DTEND;VALUE=DATE:20250930
DTSTAMP:20260422T221327
CREATED:20250909T132810Z
LAST-MODIFIED:20250909T133108Z
UID:10014297-1759104000-1759190399@enjoywhereyouare.today
SUMMARY:Burger Bash 2025
DESCRIPTION:BURGER\, FRIES\, & COLESLAW only $15!!!
URL:https://enjoywhereyouare.today/events/burger-bash-2025/2025-09-29/
LOCATION:Rico’s Cafe and Pizzeria\, U.S. 31\, Grawn\, MI\, 49637\, United States
CATEGORIES:Daily Specials
ATTACH;FMTTYPE=image/jpeg:https://enjoywhereyouare.today/wp-content/uploads/2025/09/Ricos-Burger-Bash-2025.jpg
GEO:44.665311;-85.6927556
X-APPLE-STRUCTURED-LOCATION;VALUE=URI;X-ADDRESS=Rico’s Cafe and Pizzeria U.S. 31 Grawn MI 49637 United States;X-APPLE-RADIUS=500;X-TITLE=U.S. 31:geo:-85.6927556,44.665311
END:VEVENT
BEGIN:VEVENT
DTSTART;VALUE=DATE:20250928
DTEND;VALUE=DATE:20250929
DTSTAMP:20260422T221327
CREATED:20250909T132810Z
LAST-MODIFIED:20250909T133108Z
UID:10014296-1759017600-1759103999@enjoywhereyouare.today
SUMMARY:Burger Bash 2025
DESCRIPTION:BURGER\, FRIES\, & COLESLAW only $15!!!
URL:https://enjoywhereyouare.today/events/burger-bash-2025/2025-09-28/
LOCATION:Rico’s Cafe and Pizzeria\, U.S. 31\, Grawn\, MI\, 49637\, United States
CATEGORIES:Daily Specials
ATTACH;FMTTYPE=image/jpeg:https://enjoywhereyouare.today/wp-content/uploads/2025/09/Ricos-Burger-Bash-2025.jpg
GEO:44.665311;-85.6927556
X-APPLE-STRUCTURED-LOCATION;VALUE=URI;X-ADDRESS=Rico’s Cafe and Pizzeria U.S. 31 Grawn MI 49637 United States;X-APPLE-RADIUS=500;X-TITLE=U.S. 31:geo:-85.6927556,44.665311
END:VEVENT
BEGIN:VEVENT
DTSTART;VALUE=DATE:20250927
DTEND;VALUE=DATE:20250928
DTSTAMP:20260422T221327
CREATED:20250909T132810Z
LAST-MODIFIED:20250909T133108Z
UID:10014295-1758931200-1759017599@enjoywhereyouare.today
SUMMARY:Burger Bash 2025
DESCRIPTION:BURGER\, FRIES\, & COLESLAW only $15!!!
URL:https://enjoywhereyouare.today/events/burger-bash-2025/2025-09-27/
LOCATION:Rico’s Cafe and Pizzeria\, U.S. 31\, Grawn\, MI\, 49637\, United States
CATEGORIES:Daily Specials
ATTACH;FMTTYPE=image/jpeg:https://enjoywhereyouare.today/wp-content/uploads/2025/09/Ricos-Burger-Bash-2025.jpg
GEO:44.665311;-85.6927556
X-APPLE-STRUCTURED-LOCATION;VALUE=URI;X-ADDRESS=Rico’s Cafe and Pizzeria U.S. 31 Grawn MI 49637 United States;X-APPLE-RADIUS=500;X-TITLE=U.S. 31:geo:-85.6927556,44.665311
END:VEVENT
BEGIN:VEVENT
DTSTART;TZID=America/New_York:20250926T110000
DTEND;TZID=America/New_York:20250926T210000
DTSTAMP:20260422T221327
CREATED:20250912T202655Z
LAST-MODIFIED:20250912T202949Z
UID:10014307-1758884400-1758920400@enjoywhereyouare.today
SUMMARY:Friday Fish Fry
DESCRIPTION:All-you-can-eat Friday Fish Frys!!!
URL:https://enjoywhereyouare.today/events/friday-fish-fry/2025-09-26/
LOCATION:Rico’s Cafe and Pizzeria\, U.S. 31\, Grawn\, MI\, 49637\, United States
CATEGORIES:*Silver Lake-Interlochen-Lake Ann,Daily Specials
ATTACH;FMTTYPE=image/jpeg:https://enjoywhereyouare.today/wp-content/uploads/2025/09/Ricos-Friday-Fish.jpg
GEO:44.665311;-85.6927556
X-APPLE-STRUCTURED-LOCATION;VALUE=URI;X-ADDRESS=Rico’s Cafe and Pizzeria U.S. 31 Grawn MI 49637 United States;X-APPLE-RADIUS=500;X-TITLE=U.S. 31:geo:-85.6927556,44.665311
END:VEVENT
BEGIN:VEVENT
DTSTART;VALUE=DATE:20250926
DTEND;VALUE=DATE:20250927
DTSTAMP:20260422T221327
CREATED:20250909T132810Z
LAST-MODIFIED:20250909T133108Z
UID:10014294-1758844800-1758931199@enjoywhereyouare.today
SUMMARY:Burger Bash 2025
DESCRIPTION:BURGER\, FRIES\, & COLESLAW only $15!!!
URL:https://enjoywhereyouare.today/events/burger-bash-2025/2025-09-26/
LOCATION:Rico’s Cafe and Pizzeria\, U.S. 31\, Grawn\, MI\, 49637\, United States
CATEGORIES:Daily Specials
ATTACH;FMTTYPE=image/jpeg:https://enjoywhereyouare.today/wp-content/uploads/2025/09/Ricos-Burger-Bash-2025.jpg
GEO:44.665311;-85.6927556
X-APPLE-STRUCTURED-LOCATION;VALUE=URI;X-ADDRESS=Rico’s Cafe and Pizzeria U.S. 31 Grawn MI 49637 United States;X-APPLE-RADIUS=500;X-TITLE=U.S. 31:geo:-85.6927556,44.665311
END:VEVENT
BEGIN:VEVENT
DTSTART;VALUE=DATE:20250925
DTEND;VALUE=DATE:20250926
DTSTAMP:20260422T221327
CREATED:20250909T132810Z
LAST-MODIFIED:20250909T133108Z
UID:10014293-1758758400-1758844799@enjoywhereyouare.today
SUMMARY:Burger Bash 2025
DESCRIPTION:BURGER\, FRIES\, & COLESLAW only $15!!!
URL:https://enjoywhereyouare.today/events/burger-bash-2025/2025-09-25/
LOCATION:Rico’s Cafe and Pizzeria\, U.S. 31\, Grawn\, MI\, 49637\, United States
CATEGORIES:Daily Specials
ATTACH;FMTTYPE=image/jpeg:https://enjoywhereyouare.today/wp-content/uploads/2025/09/Ricos-Burger-Bash-2025.jpg
GEO:44.665311;-85.6927556
X-APPLE-STRUCTURED-LOCATION;VALUE=URI;X-ADDRESS=Rico’s Cafe and Pizzeria U.S. 31 Grawn MI 49637 United States;X-APPLE-RADIUS=500;X-TITLE=U.S. 31:geo:-85.6927556,44.665311
END:VEVENT
BEGIN:VEVENT
DTSTART;VALUE=DATE:20250924
DTEND;VALUE=DATE:20250925
DTSTAMP:20260422T221327
CREATED:20250909T132810Z
LAST-MODIFIED:20250909T133108Z
UID:10014292-1758672000-1758758399@enjoywhereyouare.today
SUMMARY:Burger Bash 2025
DESCRIPTION:BURGER\, FRIES\, & COLESLAW only $15!!!
URL:https://enjoywhereyouare.today/events/burger-bash-2025/2025-09-24/
LOCATION:Rico’s Cafe and Pizzeria\, U.S. 31\, Grawn\, MI\, 49637\, United States
CATEGORIES:Daily Specials
ATTACH;FMTTYPE=image/jpeg:https://enjoywhereyouare.today/wp-content/uploads/2025/09/Ricos-Burger-Bash-2025.jpg
GEO:44.665311;-85.6927556
X-APPLE-STRUCTURED-LOCATION;VALUE=URI;X-ADDRESS=Rico’s Cafe and Pizzeria U.S. 31 Grawn MI 49637 United States;X-APPLE-RADIUS=500;X-TITLE=U.S. 31:geo:-85.6927556,44.665311
END:VEVENT
BEGIN:VEVENT
DTSTART;VALUE=DATE:20250923
DTEND;VALUE=DATE:20250924
DTSTAMP:20260422T221327
CREATED:20250909T132810Z
LAST-MODIFIED:20250909T133108Z
UID:10014291-1758585600-1758671999@enjoywhereyouare.today
SUMMARY:Burger Bash 2025
DESCRIPTION:BURGER\, FRIES\, & COLESLAW only $15!!!
URL:https://enjoywhereyouare.today/events/burger-bash-2025/2025-09-23/
LOCATION:Rico’s Cafe and Pizzeria\, U.S. 31\, Grawn\, MI\, 49637\, United States
CATEGORIES:Daily Specials
ATTACH;FMTTYPE=image/jpeg:https://enjoywhereyouare.today/wp-content/uploads/2025/09/Ricos-Burger-Bash-2025.jpg
GEO:44.665311;-85.6927556
X-APPLE-STRUCTURED-LOCATION;VALUE=URI;X-ADDRESS=Rico’s Cafe and Pizzeria U.S. 31 Grawn MI 49637 United States;X-APPLE-RADIUS=500;X-TITLE=U.S. 31:geo:-85.6927556,44.665311
END:VEVENT
BEGIN:VEVENT
DTSTART;VALUE=DATE:20250922
DTEND;VALUE=DATE:20250923
DTSTAMP:20260422T221327
CREATED:20250909T132810Z
LAST-MODIFIED:20250909T133108Z
UID:10014290-1758499200-1758585599@enjoywhereyouare.today
SUMMARY:Burger Bash 2025
DESCRIPTION:BURGER\, FRIES\, & COLESLAW only $15!!!
URL:https://enjoywhereyouare.today/events/burger-bash-2025/2025-09-22/
LOCATION:Rico’s Cafe and Pizzeria\, U.S. 31\, Grawn\, MI\, 49637\, United States
CATEGORIES:Daily Specials
ATTACH;FMTTYPE=image/jpeg:https://enjoywhereyouare.today/wp-content/uploads/2025/09/Ricos-Burger-Bash-2025.jpg
GEO:44.665311;-85.6927556
X-APPLE-STRUCTURED-LOCATION;VALUE=URI;X-ADDRESS=Rico’s Cafe and Pizzeria U.S. 31 Grawn MI 49637 United States;X-APPLE-RADIUS=500;X-TITLE=U.S. 31:geo:-85.6927556,44.665311
END:VEVENT
BEGIN:VEVENT
DTSTART;VALUE=DATE:20250921
DTEND;VALUE=DATE:20250922
DTSTAMP:20260422T221327
CREATED:20250909T132810Z
LAST-MODIFIED:20250909T133108Z
UID:10014289-1758412800-1758499199@enjoywhereyouare.today
SUMMARY:Burger Bash 2025
DESCRIPTION:BURGER\, FRIES\, & COLESLAW only $15!!!
URL:https://enjoywhereyouare.today/events/burger-bash-2025/2025-09-21/
LOCATION:Rico’s Cafe and Pizzeria\, U.S. 31\, Grawn\, MI\, 49637\, United States
CATEGORIES:Daily Specials
ATTACH;FMTTYPE=image/jpeg:https://enjoywhereyouare.today/wp-content/uploads/2025/09/Ricos-Burger-Bash-2025.jpg
GEO:44.665311;-85.6927556
X-APPLE-STRUCTURED-LOCATION;VALUE=URI;X-ADDRESS=Rico’s Cafe and Pizzeria U.S. 31 Grawn MI 49637 United States;X-APPLE-RADIUS=500;X-TITLE=U.S. 31:geo:-85.6927556,44.665311
END:VEVENT
BEGIN:VEVENT
DTSTART;VALUE=DATE:20250920
DTEND;VALUE=DATE:20250921
DTSTAMP:20260422T221327
CREATED:20250909T132810Z
LAST-MODIFIED:20250909T133108Z
UID:10014288-1758326400-1758412799@enjoywhereyouare.today
SUMMARY:Burger Bash 2025
DESCRIPTION:BURGER\, FRIES\, & COLESLAW only $15!!!
URL:https://enjoywhereyouare.today/events/burger-bash-2025/2025-09-20/
LOCATION:Rico’s Cafe and Pizzeria\, U.S. 31\, Grawn\, MI\, 49637\, United States
CATEGORIES:Daily Specials
ATTACH;FMTTYPE=image/jpeg:https://enjoywhereyouare.today/wp-content/uploads/2025/09/Ricos-Burger-Bash-2025.jpg
GEO:44.665311;-85.6927556
X-APPLE-STRUCTURED-LOCATION;VALUE=URI;X-ADDRESS=Rico’s Cafe and Pizzeria U.S. 31 Grawn MI 49637 United States;X-APPLE-RADIUS=500;X-TITLE=U.S. 31:geo:-85.6927556,44.665311
END:VEVENT
BEGIN:VEVENT
DTSTART;TZID=America/New_York:20250919T110000
DTEND;TZID=America/New_York:20250919T210000
DTSTAMP:20260422T221327
CREATED:20250912T202655Z
LAST-MODIFIED:20250912T202949Z
UID:10014306-1758279600-1758315600@enjoywhereyouare.today
SUMMARY:Friday Fish Fry
DESCRIPTION:All-you-can-eat Friday Fish Frys!!!
URL:https://enjoywhereyouare.today/events/friday-fish-fry/2025-09-19/
LOCATION:Rico’s Cafe and Pizzeria\, U.S. 31\, Grawn\, MI\, 49637\, United States
CATEGORIES:*Silver Lake-Interlochen-Lake Ann,Daily Specials
ATTACH;FMTTYPE=image/jpeg:https://enjoywhereyouare.today/wp-content/uploads/2025/09/Ricos-Friday-Fish.jpg
GEO:44.665311;-85.6927556
X-APPLE-STRUCTURED-LOCATION;VALUE=URI;X-ADDRESS=Rico’s Cafe and Pizzeria U.S. 31 Grawn MI 49637 United States;X-APPLE-RADIUS=500;X-TITLE=U.S. 31:geo:-85.6927556,44.665311
END:VEVENT
BEGIN:VEVENT
DTSTART;VALUE=DATE:20250919
DTEND;VALUE=DATE:20250920
DTSTAMP:20260422T221327
CREATED:20250909T132810Z
LAST-MODIFIED:20250909T133108Z
UID:10014287-1758240000-1758326399@enjoywhereyouare.today
SUMMARY:Burger Bash 2025
DESCRIPTION:BURGER\, FRIES\, & COLESLAW only $15!!!
URL:https://enjoywhereyouare.today/events/burger-bash-2025/2025-09-19/
LOCATION:Rico’s Cafe and Pizzeria\, U.S. 31\, Grawn\, MI\, 49637\, United States
CATEGORIES:Daily Specials
ATTACH;FMTTYPE=image/jpeg:https://enjoywhereyouare.today/wp-content/uploads/2025/09/Ricos-Burger-Bash-2025.jpg
GEO:44.665311;-85.6927556
X-APPLE-STRUCTURED-LOCATION;VALUE=URI;X-ADDRESS=Rico’s Cafe and Pizzeria U.S. 31 Grawn MI 49637 United States;X-APPLE-RADIUS=500;X-TITLE=U.S. 31:geo:-85.6927556,44.665311
END:VEVENT
BEGIN:VEVENT
DTSTART;VALUE=DATE:20250918
DTEND;VALUE=DATE:20250919
DTSTAMP:20260422T221327
CREATED:20250909T132810Z
LAST-MODIFIED:20250909T133108Z
UID:10014286-1758153600-1758239999@enjoywhereyouare.today
SUMMARY:Burger Bash 2025
DESCRIPTION:BURGER\, FRIES\, & COLESLAW only $15!!!
URL:https://enjoywhereyouare.today/events/burger-bash-2025/2025-09-18/
LOCATION:Rico’s Cafe and Pizzeria\, U.S. 31\, Grawn\, MI\, 49637\, United States
CATEGORIES:Daily Specials
ATTACH;FMTTYPE=image/jpeg:https://enjoywhereyouare.today/wp-content/uploads/2025/09/Ricos-Burger-Bash-2025.jpg
GEO:44.665311;-85.6927556
X-APPLE-STRUCTURED-LOCATION;VALUE=URI;X-ADDRESS=Rico’s Cafe and Pizzeria U.S. 31 Grawn MI 49637 United States;X-APPLE-RADIUS=500;X-TITLE=U.S. 31:geo:-85.6927556,44.665311
END:VEVENT
BEGIN:VEVENT
DTSTART;VALUE=DATE:20250917
DTEND;VALUE=DATE:20250918
DTSTAMP:20260422T221327
CREATED:20250909T132810Z
LAST-MODIFIED:20250909T133108Z
UID:10014285-1758067200-1758153599@enjoywhereyouare.today
SUMMARY:Burger Bash 2025
DESCRIPTION:BURGER\, FRIES\, & COLESLAW only $15!!!
URL:https://enjoywhereyouare.today/events/burger-bash-2025/2025-09-17/
LOCATION:Rico’s Cafe and Pizzeria\, U.S. 31\, Grawn\, MI\, 49637\, United States
CATEGORIES:Daily Specials
ATTACH;FMTTYPE=image/jpeg:https://enjoywhereyouare.today/wp-content/uploads/2025/09/Ricos-Burger-Bash-2025.jpg
GEO:44.665311;-85.6927556
X-APPLE-STRUCTURED-LOCATION;VALUE=URI;X-ADDRESS=Rico’s Cafe and Pizzeria U.S. 31 Grawn MI 49637 United States;X-APPLE-RADIUS=500;X-TITLE=U.S. 31:geo:-85.6927556,44.665311
END:VEVENT
BEGIN:VEVENT
DTSTART;VALUE=DATE:20250916
DTEND;VALUE=DATE:20250917
DTSTAMP:20260422T221327
CREATED:20250909T132810Z
LAST-MODIFIED:20250909T133108Z
UID:10014284-1757980800-1758067199@enjoywhereyouare.today
SUMMARY:Burger Bash 2025
DESCRIPTION:BURGER\, FRIES\, & COLESLAW only $15!!!
URL:https://enjoywhereyouare.today/events/burger-bash-2025/2025-09-16/
LOCATION:Rico’s Cafe and Pizzeria\, U.S. 31\, Grawn\, MI\, 49637\, United States
CATEGORIES:Daily Specials
ATTACH;FMTTYPE=image/jpeg:https://enjoywhereyouare.today/wp-content/uploads/2025/09/Ricos-Burger-Bash-2025.jpg
GEO:44.665311;-85.6927556
X-APPLE-STRUCTURED-LOCATION;VALUE=URI;X-ADDRESS=Rico’s Cafe and Pizzeria U.S. 31 Grawn MI 49637 United States;X-APPLE-RADIUS=500;X-TITLE=U.S. 31:geo:-85.6927556,44.665311
END:VEVENT
BEGIN:VEVENT
DTSTART;VALUE=DATE:20250915
DTEND;VALUE=DATE:20250916
DTSTAMP:20260422T221327
CREATED:20250909T132810Z
LAST-MODIFIED:20250909T133108Z
UID:10014283-1757894400-1757980799@enjoywhereyouare.today
SUMMARY:Burger Bash 2025
DESCRIPTION:BURGER\, FRIES\, & COLESLAW only $15!!!
URL:https://enjoywhereyouare.today/events/burger-bash-2025/2025-09-15/
LOCATION:Rico’s Cafe and Pizzeria\, U.S. 31\, Grawn\, MI\, 49637\, United States
CATEGORIES:Daily Specials
ATTACH;FMTTYPE=image/jpeg:https://enjoywhereyouare.today/wp-content/uploads/2025/09/Ricos-Burger-Bash-2025.jpg
GEO:44.665311;-85.6927556
X-APPLE-STRUCTURED-LOCATION;VALUE=URI;X-ADDRESS=Rico’s Cafe and Pizzeria U.S. 31 Grawn MI 49637 United States;X-APPLE-RADIUS=500;X-TITLE=U.S. 31:geo:-85.6927556,44.665311
END:VEVENT
BEGIN:VEVENT
DTSTART;VALUE=DATE:20250914
DTEND;VALUE=DATE:20250915
DTSTAMP:20260422T221327
CREATED:20250909T132810Z
LAST-MODIFIED:20250909T133108Z
UID:10014282-1757808000-1757894399@enjoywhereyouare.today
SUMMARY:Burger Bash 2025
DESCRIPTION:BURGER\, FRIES\, & COLESLAW only $15!!!
URL:https://enjoywhereyouare.today/events/burger-bash-2025/2025-09-14/
LOCATION:Rico’s Cafe and Pizzeria\, U.S. 31\, Grawn\, MI\, 49637\, United States
CATEGORIES:Daily Specials
ATTACH;FMTTYPE=image/jpeg:https://enjoywhereyouare.today/wp-content/uploads/2025/09/Ricos-Burger-Bash-2025.jpg
GEO:44.665311;-85.6927556
X-APPLE-STRUCTURED-LOCATION;VALUE=URI;X-ADDRESS=Rico’s Cafe and Pizzeria U.S. 31 Grawn MI 49637 United States;X-APPLE-RADIUS=500;X-TITLE=U.S. 31:geo:-85.6927556,44.665311
END:VEVENT
BEGIN:VEVENT
DTSTART;VALUE=DATE:20250913
DTEND;VALUE=DATE:20250914
DTSTAMP:20260422T221327
CREATED:20250909T132810Z
LAST-MODIFIED:20250909T133108Z
UID:10014281-1757721600-1757807999@enjoywhereyouare.today
SUMMARY:Burger Bash 2025
DESCRIPTION:BURGER\, FRIES\, & COLESLAW only $15!!!
URL:https://enjoywhereyouare.today/events/burger-bash-2025/2025-09-13/
LOCATION:Rico’s Cafe and Pizzeria\, U.S. 31\, Grawn\, MI\, 49637\, United States
CATEGORIES:Daily Specials
ATTACH;FMTTYPE=image/jpeg:https://enjoywhereyouare.today/wp-content/uploads/2025/09/Ricos-Burger-Bash-2025.jpg
GEO:44.665311;-85.6927556
X-APPLE-STRUCTURED-LOCATION;VALUE=URI;X-ADDRESS=Rico’s Cafe and Pizzeria U.S. 31 Grawn MI 49637 United States;X-APPLE-RADIUS=500;X-TITLE=U.S. 31:geo:-85.6927556,44.665311
END:VEVENT
BEGIN:VEVENT
DTSTART;TZID=America/New_York:20250912T110000
DTEND;TZID=America/New_York:20250912T210000
DTSTAMP:20260422T221327
CREATED:20250912T202655Z
LAST-MODIFIED:20250912T202949Z
UID:10014305-1757674800-1757710800@enjoywhereyouare.today
SUMMARY:Friday Fish Fry
DESCRIPTION:All-you-can-eat Friday Fish Frys!!!
URL:https://enjoywhereyouare.today/events/friday-fish-fry/2025-09-12/
LOCATION:Rico’s Cafe and Pizzeria\, U.S. 31\, Grawn\, MI\, 49637\, United States
CATEGORIES:*Silver Lake-Interlochen-Lake Ann,Daily Specials
ATTACH;FMTTYPE=image/jpeg:https://enjoywhereyouare.today/wp-content/uploads/2025/09/Ricos-Friday-Fish.jpg
GEO:44.665311;-85.6927556
X-APPLE-STRUCTURED-LOCATION;VALUE=URI;X-ADDRESS=Rico’s Cafe and Pizzeria U.S. 31 Grawn MI 49637 United States;X-APPLE-RADIUS=500;X-TITLE=U.S. 31:geo:-85.6927556,44.665311
END:VEVENT
BEGIN:VEVENT
DTSTART;VALUE=DATE:20250912
DTEND;VALUE=DATE:20250913
DTSTAMP:20260422T221327
CREATED:20250909T132810Z
LAST-MODIFIED:20250909T133108Z
UID:10014280-1757635200-1757721599@enjoywhereyouare.today
SUMMARY:Burger Bash 2025
DESCRIPTION:BURGER\, FRIES\, & COLESLAW only $15!!!
URL:https://enjoywhereyouare.today/events/burger-bash-2025/2025-09-12/
LOCATION:Rico’s Cafe and Pizzeria\, U.S. 31\, Grawn\, MI\, 49637\, United States
CATEGORIES:Daily Specials
ATTACH;FMTTYPE=image/jpeg:https://enjoywhereyouare.today/wp-content/uploads/2025/09/Ricos-Burger-Bash-2025.jpg
GEO:44.665311;-85.6927556
X-APPLE-STRUCTURED-LOCATION;VALUE=URI;X-ADDRESS=Rico’s Cafe and Pizzeria U.S. 31 Grawn MI 49637 United States;X-APPLE-RADIUS=500;X-TITLE=U.S. 31:geo:-85.6927556,44.665311
END:VEVENT
BEGIN:VEVENT
DTSTART;VALUE=DATE:20250911
DTEND;VALUE=DATE:20250912
DTSTAMP:20260422T221327
CREATED:20250909T132810Z
LAST-MODIFIED:20250909T133108Z
UID:10014279-1757548800-1757635199@enjoywhereyouare.today
SUMMARY:Burger Bash 2025
DESCRIPTION:BURGER\, FRIES\, & COLESLAW only $15!!!
URL:https://enjoywhereyouare.today/events/burger-bash-2025/2025-09-11/
LOCATION:Rico’s Cafe and Pizzeria\, U.S. 31\, Grawn\, MI\, 49637\, United States
CATEGORIES:Daily Specials
ATTACH;FMTTYPE=image/jpeg:https://enjoywhereyouare.today/wp-content/uploads/2025/09/Ricos-Burger-Bash-2025.jpg
GEO:44.665311;-85.6927556
X-APPLE-STRUCTURED-LOCATION;VALUE=URI;X-ADDRESS=Rico’s Cafe and Pizzeria U.S. 31 Grawn MI 49637 United States;X-APPLE-RADIUS=500;X-TITLE=U.S. 31:geo:-85.6927556,44.665311
END:VEVENT
BEGIN:VEVENT
DTSTART;VALUE=DATE:20250910
DTEND;VALUE=DATE:20250911
DTSTAMP:20260422T221327
CREATED:20250909T132810Z
LAST-MODIFIED:20250909T133108Z
UID:10014278-1757462400-1757548799@enjoywhereyouare.today
SUMMARY:Burger Bash 2025
DESCRIPTION:BURGER\, FRIES\, & COLESLAW only $15!!!
URL:https://enjoywhereyouare.today/events/burger-bash-2025/2025-09-10/
LOCATION:Rico’s Cafe and Pizzeria\, U.S. 31\, Grawn\, MI\, 49637\, United States
CATEGORIES:Daily Specials
ATTACH;FMTTYPE=image/jpeg:https://enjoywhereyouare.today/wp-content/uploads/2025/09/Ricos-Burger-Bash-2025.jpg
GEO:44.665311;-85.6927556
X-APPLE-STRUCTURED-LOCATION;VALUE=URI;X-ADDRESS=Rico’s Cafe and Pizzeria U.S. 31 Grawn MI 49637 United States;X-APPLE-RADIUS=500;X-TITLE=U.S. 31:geo:-85.6927556,44.665311
END:VEVENT
BEGIN:VEVENT
DTSTART;VALUE=DATE:20250909
DTEND;VALUE=DATE:20250910
DTSTAMP:20260422T221327
CREATED:20250909T132810Z
LAST-MODIFIED:20250909T133108Z
UID:10014277-1757376000-1757462399@enjoywhereyouare.today
SUMMARY:Burger Bash 2025
DESCRIPTION:BURGER\, FRIES\, & COLESLAW only $15!!!
URL:https://enjoywhereyouare.today/events/burger-bash-2025/2025-09-09/
LOCATION:Rico’s Cafe and Pizzeria\, U.S. 31\, Grawn\, MI\, 49637\, United States
CATEGORIES:Daily Specials
ATTACH;FMTTYPE=image/jpeg:https://enjoywhereyouare.today/wp-content/uploads/2025/09/Ricos-Burger-Bash-2025.jpg
GEO:44.665311;-85.6927556
X-APPLE-STRUCTURED-LOCATION;VALUE=URI;X-ADDRESS=Rico’s Cafe and Pizzeria U.S. 31 Grawn MI 49637 United States;X-APPLE-RADIUS=500;X-TITLE=U.S. 31:geo:-85.6927556,44.665311
END:VEVENT
END:VCALENDAR