BEGIN:VCALENDAR
VERSION:2.0
PRODID:-//Enjoy Where You Are - ECPv6.5.2//NONSGML v1.0//EN
CALSCALE:GREGORIAN
METHOD:PUBLISH
X-ORIGINAL-URL:https://enjoywhereyouare.today
X-WR-CALDESC:Events for Enjoy Where You Are
REFRESH-INTERVAL;VALUE=DURATION:PT1H
X-Robots-Tag:noindex
X-PUBLISHED-TTL:PT1H
BEGIN:VTIMEZONE
TZID:America/New_York
BEGIN:DAYLIGHT
TZOFFSETFROM:-0500
TZOFFSETTO:-0400
TZNAME:EDT
DTSTART:20240310T070000
END:DAYLIGHT
BEGIN:STANDARD
TZOFFSETFROM:-0400
TZOFFSETTO:-0500
TZNAME:EST
DTSTART:20241103T060000
END:STANDARD
END:VTIMEZONE
BEGIN:VEVENT
DTSTART;TZID=America/New_York:20240608T210000
DTEND;TZID=America/New_York:20240609T010000
DTSTAMP:20260425T151129
CREATED:20240325T143420Z
LAST-MODIFIED:20240424T112236Z
UID:10005251-1717880400-1717894800@enjoywhereyouare.today
SUMMARY:Myk Rise
DESCRIPTION:
URL:https://enjoywhereyouare.today/events/myk-rise/2024-06-08/
LOCATION:Pink Pony\, 7221 Main St\, Mackinac Island\, MI
CATEGORIES:Music
ATTACH;FMTTYPE=image/jpeg:https://enjoywhereyouare.today/wp-content/uploads/2024/03/Pink-Pony-Myk-Rise.jpg
GEO:45.8500695;-84.6170075
X-APPLE-STRUCTURED-LOCATION;VALUE=URI;X-ADDRESS=Pink Pony 7221 Main St Mackinac Island MI;X-APPLE-RADIUS=500;X-TITLE=7221 Main St:geo:-84.6170075,45.8500695
END:VEVENT
BEGIN:VEVENT
DTSTART;TZID=America/New_York:20240607T210000
DTEND;TZID=America/New_York:20240608T010000
DTSTAMP:20260425T151129
CREATED:20240325T143420Z
LAST-MODIFIED:20240424T112236Z
UID:10005250-1717794000-1717808400@enjoywhereyouare.today
SUMMARY:Myk Rise
DESCRIPTION:
URL:https://enjoywhereyouare.today/events/myk-rise/2024-06-07/
LOCATION:Pink Pony\, 7221 Main St\, Mackinac Island\, MI
CATEGORIES:Music
ATTACH;FMTTYPE=image/jpeg:https://enjoywhereyouare.today/wp-content/uploads/2024/03/Pink-Pony-Myk-Rise.jpg
GEO:45.8500695;-84.6170075
X-APPLE-STRUCTURED-LOCATION;VALUE=URI;X-ADDRESS=Pink Pony 7221 Main St Mackinac Island MI;X-APPLE-RADIUS=500;X-TITLE=7221 Main St:geo:-84.6170075,45.8500695
END:VEVENT
BEGIN:VEVENT
DTSTART;TZID=America/New_York:20240606T210000
DTEND;TZID=America/New_York:20240607T010000
DTSTAMP:20260425T151129
CREATED:20240325T143420Z
LAST-MODIFIED:20240424T112236Z
UID:10005249-1717707600-1717722000@enjoywhereyouare.today
SUMMARY:Myk Rise
DESCRIPTION:
URL:https://enjoywhereyouare.today/events/myk-rise/2024-06-06/
LOCATION:Pink Pony\, 7221 Main St\, Mackinac Island\, MI
CATEGORIES:Music
ATTACH;FMTTYPE=image/jpeg:https://enjoywhereyouare.today/wp-content/uploads/2024/03/Pink-Pony-Myk-Rise.jpg
GEO:45.8500695;-84.6170075
X-APPLE-STRUCTURED-LOCATION;VALUE=URI;X-ADDRESS=Pink Pony 7221 Main St Mackinac Island MI;X-APPLE-RADIUS=500;X-TITLE=7221 Main St:geo:-84.6170075,45.8500695
END:VEVENT
BEGIN:VEVENT
DTSTART;TZID=America/New_York:20240605T210000
DTEND;TZID=America/New_York:20240606T010000
DTSTAMP:20260425T151129
CREATED:20240325T143420Z
LAST-MODIFIED:20240424T112236Z
UID:10005248-1717621200-1717635600@enjoywhereyouare.today
SUMMARY:Myk Rise
DESCRIPTION:
URL:https://enjoywhereyouare.today/events/myk-rise/2024-06-05/
LOCATION:Pink Pony\, 7221 Main St\, Mackinac Island\, MI
CATEGORIES:Music
ATTACH;FMTTYPE=image/jpeg:https://enjoywhereyouare.today/wp-content/uploads/2024/03/Pink-Pony-Myk-Rise.jpg
GEO:45.8500695;-84.6170075
X-APPLE-STRUCTURED-LOCATION;VALUE=URI;X-ADDRESS=Pink Pony 7221 Main St Mackinac Island MI;X-APPLE-RADIUS=500;X-TITLE=7221 Main St:geo:-84.6170075,45.8500695
END:VEVENT
BEGIN:VEVENT
DTSTART;TZID=America/New_York:20240601T210000
DTEND;TZID=America/New_York:20240602T010000
DTSTAMP:20260425T151129
CREATED:20240325T143420Z
LAST-MODIFIED:20240424T112236Z
UID:10005247-1717275600-1717290000@enjoywhereyouare.today
SUMMARY:Myk Rise
DESCRIPTION:
URL:https://enjoywhereyouare.today/events/myk-rise/2024-06-01/
LOCATION:Pink Pony\, 7221 Main St\, Mackinac Island\, MI
CATEGORIES:Music
ATTACH;FMTTYPE=image/jpeg:https://enjoywhereyouare.today/wp-content/uploads/2024/03/Pink-Pony-Myk-Rise.jpg
GEO:45.8500695;-84.6170075
X-APPLE-STRUCTURED-LOCATION;VALUE=URI;X-ADDRESS=Pink Pony 7221 Main St Mackinac Island MI;X-APPLE-RADIUS=500;X-TITLE=7221 Main St:geo:-84.6170075,45.8500695
END:VEVENT
BEGIN:VEVENT
DTSTART;TZID=America/New_York:20240531T210000
DTEND;TZID=America/New_York:20240601T010000
DTSTAMP:20260425T151129
CREATED:20240325T143420Z
LAST-MODIFIED:20240424T112236Z
UID:10005246-1717189200-1717203600@enjoywhereyouare.today
SUMMARY:Myk Rise
DESCRIPTION:
URL:https://enjoywhereyouare.today/events/myk-rise/2024-05-31/
LOCATION:Pink Pony\, 7221 Main St\, Mackinac Island\, MI
CATEGORIES:Music
ATTACH;FMTTYPE=image/jpeg:https://enjoywhereyouare.today/wp-content/uploads/2024/03/Pink-Pony-Myk-Rise.jpg
GEO:45.8500695;-84.6170075
X-APPLE-STRUCTURED-LOCATION;VALUE=URI;X-ADDRESS=Pink Pony 7221 Main St Mackinac Island MI;X-APPLE-RADIUS=500;X-TITLE=7221 Main St:geo:-84.6170075,45.8500695
END:VEVENT
BEGIN:VEVENT
DTSTART;TZID=America/New_York:20240530T210000
DTEND;TZID=America/New_York:20240531T010000
DTSTAMP:20260425T151129
CREATED:20240325T143420Z
LAST-MODIFIED:20240424T112236Z
UID:10005245-1717102800-1717117200@enjoywhereyouare.today
SUMMARY:Myk Rise
DESCRIPTION:
URL:https://enjoywhereyouare.today/events/myk-rise/2024-05-30/
LOCATION:Pink Pony\, 7221 Main St\, Mackinac Island\, MI
CATEGORIES:Music
ATTACH;FMTTYPE=image/jpeg:https://enjoywhereyouare.today/wp-content/uploads/2024/03/Pink-Pony-Myk-Rise.jpg
GEO:45.8500695;-84.6170075
X-APPLE-STRUCTURED-LOCATION;VALUE=URI;X-ADDRESS=Pink Pony 7221 Main St Mackinac Island MI;X-APPLE-RADIUS=500;X-TITLE=7221 Main St:geo:-84.6170075,45.8500695
END:VEVENT
BEGIN:VEVENT
DTSTART;TZID=America/New_York:20240529T210000
DTEND;TZID=America/New_York:20240530T010000
DTSTAMP:20260425T151129
CREATED:20240325T143420Z
LAST-MODIFIED:20240424T112236Z
UID:10005244-1717016400-1717030800@enjoywhereyouare.today
SUMMARY:Myk Rise
DESCRIPTION:
URL:https://enjoywhereyouare.today/events/myk-rise/2024-05-29/
LOCATION:Pink Pony\, 7221 Main St\, Mackinac Island\, MI
CATEGORIES:Music
ATTACH;FMTTYPE=image/jpeg:https://enjoywhereyouare.today/wp-content/uploads/2024/03/Pink-Pony-Myk-Rise.jpg
GEO:45.8500695;-84.6170075
X-APPLE-STRUCTURED-LOCATION;VALUE=URI;X-ADDRESS=Pink Pony 7221 Main St Mackinac Island MI;X-APPLE-RADIUS=500;X-TITLE=7221 Main St:geo:-84.6170075,45.8500695
END:VEVENT
BEGIN:VEVENT
DTSTART;TZID=America/New_York:20240525T210000
DTEND;TZID=America/New_York:20240526T010000
DTSTAMP:20260425T151129
CREATED:20240325T143420Z
LAST-MODIFIED:20240424T112236Z
UID:10005243-1716670800-1716685200@enjoywhereyouare.today
SUMMARY:Myk Rise
DESCRIPTION:
URL:https://enjoywhereyouare.today/events/myk-rise/2024-05-25/
LOCATION:Pink Pony\, 7221 Main St\, Mackinac Island\, MI
CATEGORIES:Music
ATTACH;FMTTYPE=image/jpeg:https://enjoywhereyouare.today/wp-content/uploads/2024/03/Pink-Pony-Myk-Rise.jpg
GEO:45.8500695;-84.6170075
X-APPLE-STRUCTURED-LOCATION;VALUE=URI;X-ADDRESS=Pink Pony 7221 Main St Mackinac Island MI;X-APPLE-RADIUS=500;X-TITLE=7221 Main St:geo:-84.6170075,45.8500695
END:VEVENT
BEGIN:VEVENT
DTSTART;TZID=America/New_York:20240524T210000
DTEND;TZID=America/New_York:20240525T010000
DTSTAMP:20260425T151129
CREATED:20240325T143420Z
LAST-MODIFIED:20240424T112236Z
UID:10005242-1716584400-1716598800@enjoywhereyouare.today
SUMMARY:Myk Rise
DESCRIPTION:
URL:https://enjoywhereyouare.today/events/myk-rise/2024-05-24/
LOCATION:Pink Pony\, 7221 Main St\, Mackinac Island\, MI
CATEGORIES:Music
ATTACH;FMTTYPE=image/jpeg:https://enjoywhereyouare.today/wp-content/uploads/2024/03/Pink-Pony-Myk-Rise.jpg
GEO:45.8500695;-84.6170075
X-APPLE-STRUCTURED-LOCATION;VALUE=URI;X-ADDRESS=Pink Pony 7221 Main St Mackinac Island MI;X-APPLE-RADIUS=500;X-TITLE=7221 Main St:geo:-84.6170075,45.8500695
END:VEVENT
BEGIN:VEVENT
DTSTART;TZID=America/New_York:20240523T210000
DTEND;TZID=America/New_York:20240524T010000
DTSTAMP:20260425T151129
CREATED:20240325T143420Z
LAST-MODIFIED:20240424T112236Z
UID:10005241-1716498000-1716512400@enjoywhereyouare.today
SUMMARY:Myk Rise
DESCRIPTION:
URL:https://enjoywhereyouare.today/events/myk-rise/2024-05-23/
LOCATION:Pink Pony\, 7221 Main St\, Mackinac Island\, MI
CATEGORIES:Music
ATTACH;FMTTYPE=image/jpeg:https://enjoywhereyouare.today/wp-content/uploads/2024/03/Pink-Pony-Myk-Rise.jpg
GEO:45.8500695;-84.6170075
X-APPLE-STRUCTURED-LOCATION;VALUE=URI;X-ADDRESS=Pink Pony 7221 Main St Mackinac Island MI;X-APPLE-RADIUS=500;X-TITLE=7221 Main St:geo:-84.6170075,45.8500695
END:VEVENT
BEGIN:VEVENT
DTSTART;TZID=America/New_York:20240522T210000
DTEND;TZID=America/New_York:20240523T010000
DTSTAMP:20260425T151129
CREATED:20240325T143420Z
LAST-MODIFIED:20240424T112236Z
UID:10005240-1716411600-1716426000@enjoywhereyouare.today
SUMMARY:Myk Rise
DESCRIPTION:
URL:https://enjoywhereyouare.today/events/myk-rise/2024-05-22/
LOCATION:Pink Pony\, 7221 Main St\, Mackinac Island\, MI
CATEGORIES:Music
ATTACH;FMTTYPE=image/jpeg:https://enjoywhereyouare.today/wp-content/uploads/2024/03/Pink-Pony-Myk-Rise.jpg
GEO:45.8500695;-84.6170075
X-APPLE-STRUCTURED-LOCATION;VALUE=URI;X-ADDRESS=Pink Pony 7221 Main St Mackinac Island MI;X-APPLE-RADIUS=500;X-TITLE=7221 Main St:geo:-84.6170075,45.8500695
END:VEVENT
BEGIN:VEVENT
DTSTART;TZID=America/New_York:20240518T210000
DTEND;TZID=America/New_York:20240519T010000
DTSTAMP:20260425T151129
CREATED:20240325T143420Z
LAST-MODIFIED:20240424T112236Z
UID:10005239-1716066000-1716080400@enjoywhereyouare.today
SUMMARY:Myk Rise
DESCRIPTION:
URL:https://enjoywhereyouare.today/events/myk-rise/2024-05-18/
LOCATION:Pink Pony\, 7221 Main St\, Mackinac Island\, MI
CATEGORIES:Music
ATTACH;FMTTYPE=image/jpeg:https://enjoywhereyouare.today/wp-content/uploads/2024/03/Pink-Pony-Myk-Rise.jpg
GEO:45.8500695;-84.6170075
X-APPLE-STRUCTURED-LOCATION;VALUE=URI;X-ADDRESS=Pink Pony 7221 Main St Mackinac Island MI;X-APPLE-RADIUS=500;X-TITLE=7221 Main St:geo:-84.6170075,45.8500695
END:VEVENT
BEGIN:VEVENT
DTSTART;TZID=America/New_York:20240517T210000
DTEND;TZID=America/New_York:20240518T010000
DTSTAMP:20260425T151129
CREATED:20240325T143420Z
LAST-MODIFIED:20240424T112236Z
UID:10005238-1715979600-1715994000@enjoywhereyouare.today
SUMMARY:Myk Rise
DESCRIPTION:
URL:https://enjoywhereyouare.today/events/myk-rise/2024-05-17/
LOCATION:Pink Pony\, 7221 Main St\, Mackinac Island\, MI
CATEGORIES:Music
ATTACH;FMTTYPE=image/jpeg:https://enjoywhereyouare.today/wp-content/uploads/2024/03/Pink-Pony-Myk-Rise.jpg
GEO:45.8500695;-84.6170075
X-APPLE-STRUCTURED-LOCATION;VALUE=URI;X-ADDRESS=Pink Pony 7221 Main St Mackinac Island MI;X-APPLE-RADIUS=500;X-TITLE=7221 Main St:geo:-84.6170075,45.8500695
END:VEVENT
BEGIN:VEVENT
DTSTART;TZID=America/New_York:20240516T210000
DTEND;TZID=America/New_York:20240517T010000
DTSTAMP:20260425T151129
CREATED:20240325T143420Z
LAST-MODIFIED:20240424T112236Z
UID:10005237-1715893200-1715907600@enjoywhereyouare.today
SUMMARY:Myk Rise
DESCRIPTION:
URL:https://enjoywhereyouare.today/events/myk-rise/2024-05-16/
LOCATION:Pink Pony\, 7221 Main St\, Mackinac Island\, MI
CATEGORIES:Music
ATTACH;FMTTYPE=image/jpeg:https://enjoywhereyouare.today/wp-content/uploads/2024/03/Pink-Pony-Myk-Rise.jpg
GEO:45.8500695;-84.6170075
X-APPLE-STRUCTURED-LOCATION;VALUE=URI;X-ADDRESS=Pink Pony 7221 Main St Mackinac Island MI;X-APPLE-RADIUS=500;X-TITLE=7221 Main St:geo:-84.6170075,45.8500695
END:VEVENT
BEGIN:VEVENT
DTSTART;TZID=America/New_York:20240515T210000
DTEND;TZID=America/New_York:20240516T010000
DTSTAMP:20260425T151129
CREATED:20240325T143420Z
LAST-MODIFIED:20240424T112236Z
UID:10005236-1715806800-1715821200@enjoywhereyouare.today
SUMMARY:Myk Rise
DESCRIPTION:
URL:https://enjoywhereyouare.today/events/myk-rise/2024-05-15/
LOCATION:Pink Pony\, 7221 Main St\, Mackinac Island\, MI
CATEGORIES:Music
ATTACH;FMTTYPE=image/jpeg:https://enjoywhereyouare.today/wp-content/uploads/2024/03/Pink-Pony-Myk-Rise.jpg
GEO:45.8500695;-84.6170075
X-APPLE-STRUCTURED-LOCATION;VALUE=URI;X-ADDRESS=Pink Pony 7221 Main St Mackinac Island MI;X-APPLE-RADIUS=500;X-TITLE=7221 Main St:geo:-84.6170075,45.8500695
END:VEVENT
BEGIN:VEVENT
DTSTART;TZID=America/New_York:20240511T210000
DTEND;TZID=America/New_York:20240512T010000
DTSTAMP:20260425T151129
CREATED:20240325T143420Z
LAST-MODIFIED:20240424T112236Z
UID:10005235-1715461200-1715475600@enjoywhereyouare.today
SUMMARY:Myk Rise
DESCRIPTION:
URL:https://enjoywhereyouare.today/events/myk-rise/2024-05-11/
LOCATION:Pink Pony\, 7221 Main St\, Mackinac Island\, MI
CATEGORIES:Music
ATTACH;FMTTYPE=image/jpeg:https://enjoywhereyouare.today/wp-content/uploads/2024/03/Pink-Pony-Myk-Rise.jpg
GEO:45.8500695;-84.6170075
X-APPLE-STRUCTURED-LOCATION;VALUE=URI;X-ADDRESS=Pink Pony 7221 Main St Mackinac Island MI;X-APPLE-RADIUS=500;X-TITLE=7221 Main St:geo:-84.6170075,45.8500695
END:VEVENT
BEGIN:VEVENT
DTSTART;TZID=America/New_York:20240510T210000
DTEND;TZID=America/New_York:20240511T010000
DTSTAMP:20260425T151129
CREATED:20240325T143420Z
LAST-MODIFIED:20240424T112236Z
UID:10005234-1715374800-1715389200@enjoywhereyouare.today
SUMMARY:Myk Rise
DESCRIPTION:
URL:https://enjoywhereyouare.today/events/myk-rise/2024-05-10/
LOCATION:Pink Pony\, 7221 Main St\, Mackinac Island\, MI
CATEGORIES:Music
ATTACH;FMTTYPE=image/jpeg:https://enjoywhereyouare.today/wp-content/uploads/2024/03/Pink-Pony-Myk-Rise.jpg
GEO:45.8500695;-84.6170075
X-APPLE-STRUCTURED-LOCATION;VALUE=URI;X-ADDRESS=Pink Pony 7221 Main St Mackinac Island MI;X-APPLE-RADIUS=500;X-TITLE=7221 Main St:geo:-84.6170075,45.8500695
END:VEVENT
BEGIN:VEVENT
DTSTART;TZID=America/New_York:20240509T210000
DTEND;TZID=America/New_York:20240510T010000
DTSTAMP:20260425T151129
CREATED:20240325T143420Z
LAST-MODIFIED:20240424T112236Z
UID:10005233-1715288400-1715302800@enjoywhereyouare.today
SUMMARY:Myk Rise
DESCRIPTION:
URL:https://enjoywhereyouare.today/events/myk-rise/2024-05-09/
LOCATION:Pink Pony\, 7221 Main St\, Mackinac Island\, MI
CATEGORIES:Music
ATTACH;FMTTYPE=image/jpeg:https://enjoywhereyouare.today/wp-content/uploads/2024/03/Pink-Pony-Myk-Rise.jpg
GEO:45.8500695;-84.6170075
X-APPLE-STRUCTURED-LOCATION;VALUE=URI;X-ADDRESS=Pink Pony 7221 Main St Mackinac Island MI;X-APPLE-RADIUS=500;X-TITLE=7221 Main St:geo:-84.6170075,45.8500695
END:VEVENT
BEGIN:VEVENT
DTSTART;TZID=America/New_York:20240508T210000
DTEND;TZID=America/New_York:20240509T010000
DTSTAMP:20260425T151129
CREATED:20240325T143420Z
LAST-MODIFIED:20240424T112236Z
UID:10005232-1715202000-1715216400@enjoywhereyouare.today
SUMMARY:Myk Rise
DESCRIPTION:
URL:https://enjoywhereyouare.today/events/myk-rise/2024-05-08/
LOCATION:Pink Pony\, 7221 Main St\, Mackinac Island\, MI
CATEGORIES:Music
ATTACH;FMTTYPE=image/jpeg:https://enjoywhereyouare.today/wp-content/uploads/2024/03/Pink-Pony-Myk-Rise.jpg
GEO:45.8500695;-84.6170075
X-APPLE-STRUCTURED-LOCATION;VALUE=URI;X-ADDRESS=Pink Pony 7221 Main St Mackinac Island MI;X-APPLE-RADIUS=500;X-TITLE=7221 Main St:geo:-84.6170075,45.8500695
END:VEVENT
BEGIN:VEVENT
DTSTART;TZID=America/New_York:20240506T210000
DTEND;TZID=America/New_York:20240507T010000
DTSTAMP:20260425T151129
CREATED:20240325T144524Z
LAST-MODIFIED:20240424T112236Z
UID:10005333-1715029200-1715043600@enjoywhereyouare.today
SUMMARY:Paul BeDour
DESCRIPTION:
URL:https://enjoywhereyouare.today/events/paul-bedour/2024-05-06/
LOCATION:Pink Pony\, 7221 Main St\, Mackinac Island\, MI
CATEGORIES:Music
ATTACH;FMTTYPE=image/jpeg:https://enjoywhereyouare.today/wp-content/uploads/2024/03/Pink-Pony-Paul-BeDour.jpg
GEO:45.8500695;-84.6170075
X-APPLE-STRUCTURED-LOCATION;VALUE=URI;X-ADDRESS=Pink Pony 7221 Main St Mackinac Island MI;X-APPLE-RADIUS=500;X-TITLE=7221 Main St:geo:-84.6170075,45.8500695
END:VEVENT
BEGIN:VEVENT
DTSTART;TZID=America/New_York:20240505T210000
DTEND;TZID=America/New_York:20240506T010000
DTSTAMP:20260425T151129
CREATED:20240325T144524Z
LAST-MODIFIED:20240424T112236Z
UID:10005332-1714942800-1714957200@enjoywhereyouare.today
SUMMARY:Paul BeDour
DESCRIPTION:
URL:https://enjoywhereyouare.today/events/paul-bedour/2024-05-05/
LOCATION:Pink Pony\, 7221 Main St\, Mackinac Island\, MI
CATEGORIES:Music
ATTACH;FMTTYPE=image/jpeg:https://enjoywhereyouare.today/wp-content/uploads/2024/03/Pink-Pony-Paul-BeDour.jpg
GEO:45.8500695;-84.6170075
X-APPLE-STRUCTURED-LOCATION;VALUE=URI;X-ADDRESS=Pink Pony 7221 Main St Mackinac Island MI;X-APPLE-RADIUS=500;X-TITLE=7221 Main St:geo:-84.6170075,45.8500695
END:VEVENT
BEGIN:VEVENT
DTSTART;TZID=America/New_York:20240504T210000
DTEND;TZID=America/New_York:20240505T010000
DTSTAMP:20260425T151129
CREATED:20240325T143420Z
LAST-MODIFIED:20240424T112236Z
UID:10005231-1714856400-1714870800@enjoywhereyouare.today
SUMMARY:Myk Rise
DESCRIPTION:
URL:https://enjoywhereyouare.today/events/myk-rise/2024-05-04/
LOCATION:Pink Pony\, 7221 Main St\, Mackinac Island\, MI
CATEGORIES:Music
ATTACH;FMTTYPE=image/jpeg:https://enjoywhereyouare.today/wp-content/uploads/2024/03/Pink-Pony-Myk-Rise.jpg
GEO:45.8500695;-84.6170075
X-APPLE-STRUCTURED-LOCATION;VALUE=URI;X-ADDRESS=Pink Pony 7221 Main St Mackinac Island MI;X-APPLE-RADIUS=500;X-TITLE=7221 Main St:geo:-84.6170075,45.8500695
END:VEVENT
BEGIN:VEVENT
DTSTART;TZID=America/New_York:20240503T210000
DTEND;TZID=America/New_York:20240504T010000
DTSTAMP:20260425T151129
CREATED:20240325T143420Z
LAST-MODIFIED:20240424T112236Z
UID:10005230-1714770000-1714784400@enjoywhereyouare.today
SUMMARY:Myk Rise
DESCRIPTION:
URL:https://enjoywhereyouare.today/events/myk-rise/2024-05-03/
LOCATION:Pink Pony\, 7221 Main St\, Mackinac Island\, MI
CATEGORIES:Music
ATTACH;FMTTYPE=image/jpeg:https://enjoywhereyouare.today/wp-content/uploads/2024/03/Pink-Pony-Myk-Rise.jpg
GEO:45.8500695;-84.6170075
X-APPLE-STRUCTURED-LOCATION;VALUE=URI;X-ADDRESS=Pink Pony 7221 Main St Mackinac Island MI;X-APPLE-RADIUS=500;X-TITLE=7221 Main St:geo:-84.6170075,45.8500695
END:VEVENT
BEGIN:VEVENT
DTSTART;TZID=America/New_York:20240502T210000
DTEND;TZID=America/New_York:20240503T010000
DTSTAMP:20260425T151129
CREATED:20240325T143420Z
LAST-MODIFIED:20240424T112236Z
UID:10005229-1714683600-1714698000@enjoywhereyouare.today
SUMMARY:Myk Rise
DESCRIPTION:
URL:https://enjoywhereyouare.today/events/myk-rise/2024-05-02/
LOCATION:Pink Pony\, 7221 Main St\, Mackinac Island\, MI
CATEGORIES:Music
ATTACH;FMTTYPE=image/jpeg:https://enjoywhereyouare.today/wp-content/uploads/2024/03/Pink-Pony-Myk-Rise.jpg
GEO:45.8500695;-84.6170075
X-APPLE-STRUCTURED-LOCATION;VALUE=URI;X-ADDRESS=Pink Pony 7221 Main St Mackinac Island MI;X-APPLE-RADIUS=500;X-TITLE=7221 Main St:geo:-84.6170075,45.8500695
END:VEVENT
END:VCALENDAR