BEGIN:VCALENDAR
VERSION:2.0
PRODID:-//Enjoy Where You Are - ECPv6.5.2//NONSGML v1.0//EN
CALSCALE:GREGORIAN
METHOD:PUBLISH
X-ORIGINAL-URL:https://enjoywhereyouare.today
X-WR-CALDESC:Events for Enjoy Where You Are
REFRESH-INTERVAL;VALUE=DURATION:PT1H
X-Robots-Tag:noindex
X-PUBLISHED-TTL:PT1H
BEGIN:VTIMEZONE
TZID:America/New_York
BEGIN:DAYLIGHT
TZOFFSETFROM:-0500
TZOFFSETTO:-0400
TZNAME:EDT
DTSTART:20240310T070000
END:DAYLIGHT
BEGIN:STANDARD
TZOFFSETFROM:-0400
TZOFFSETTO:-0500
TZNAME:EST
DTSTART:20241103T060000
END:STANDARD
END:VTIMEZONE
BEGIN:VEVENT
DTSTART;TZID=America/New_York:20240910T170000
DTEND;TZID=America/New_York:20240910T200000
DTSTAMP:20260425T173801
CREATED:20240627T111617Z
LAST-MODIFIED:20240627T111617Z
UID:10005949-1725987600-1725998400@enjoywhereyouare.today
SUMMARY:Bozeman Farmers' Market
DESCRIPTION:Fresh produce\, food\, art\, music\, and more!
URL:https://enjoywhereyouare.today/events/bozeman-farmers-market-2/2024-09-10/
LOCATION:Lindley Park\, E Main St & Buttonwood Ave\, Bozeman\, MT
CATEGORIES:Farm Markets & Shopping
ATTACH;FMTTYPE=image/jpeg:https://enjoywhereyouare.today/wp-content/uploads/2024/06/Bozeman-Farmers-Market-1.jpg
GEO:45.6793512;-111.0248448
X-APPLE-STRUCTURED-LOCATION;VALUE=URI;X-ADDRESS=Lindley Park E Main St & Buttonwood Ave Bozeman MT;X-APPLE-RADIUS=500;X-TITLE=E Main St & Buttonwood Ave:geo:-111.0248448,45.6793512
END:VEVENT
BEGIN:VEVENT
DTSTART;TZID=America/New_York:20240903T170000
DTEND;TZID=America/New_York:20240903T200000
DTSTAMP:20260425T173801
CREATED:20240627T111617Z
LAST-MODIFIED:20240627T111617Z
UID:10005948-1725382800-1725393600@enjoywhereyouare.today
SUMMARY:Bozeman Farmers' Market
DESCRIPTION:Fresh produce\, food\, art\, music\, and more!
URL:https://enjoywhereyouare.today/events/bozeman-farmers-market-2/2024-09-03/
LOCATION:Lindley Park\, E Main St & Buttonwood Ave\, Bozeman\, MT
CATEGORIES:Farm Markets & Shopping
ATTACH;FMTTYPE=image/jpeg:https://enjoywhereyouare.today/wp-content/uploads/2024/06/Bozeman-Farmers-Market-1.jpg
GEO:45.6793512;-111.0248448
X-APPLE-STRUCTURED-LOCATION;VALUE=URI;X-ADDRESS=Lindley Park E Main St & Buttonwood Ave Bozeman MT;X-APPLE-RADIUS=500;X-TITLE=E Main St & Buttonwood Ave:geo:-111.0248448,45.6793512
END:VEVENT
BEGIN:VEVENT
DTSTART;TZID=America/New_York:20240827T170000
DTEND;TZID=America/New_York:20240827T200000
DTSTAMP:20260425T173801
CREATED:20240627T111617Z
LAST-MODIFIED:20240627T111617Z
UID:10005947-1724778000-1724788800@enjoywhereyouare.today
SUMMARY:Bozeman Farmers' Market
DESCRIPTION:Fresh produce\, food\, art\, music\, and more!
URL:https://enjoywhereyouare.today/events/bozeman-farmers-market-2/2024-08-27/
LOCATION:Lindley Park\, E Main St & Buttonwood Ave\, Bozeman\, MT
CATEGORIES:Farm Markets & Shopping
ATTACH;FMTTYPE=image/jpeg:https://enjoywhereyouare.today/wp-content/uploads/2024/06/Bozeman-Farmers-Market-1.jpg
GEO:45.6793512;-111.0248448
X-APPLE-STRUCTURED-LOCATION;VALUE=URI;X-ADDRESS=Lindley Park E Main St & Buttonwood Ave Bozeman MT;X-APPLE-RADIUS=500;X-TITLE=E Main St & Buttonwood Ave:geo:-111.0248448,45.6793512
END:VEVENT
BEGIN:VEVENT
DTSTART;TZID=America/New_York:20240820T170000
DTEND;TZID=America/New_York:20240820T200000
DTSTAMP:20260425T173801
CREATED:20240627T111617Z
LAST-MODIFIED:20240627T111617Z
UID:10005946-1724173200-1724184000@enjoywhereyouare.today
SUMMARY:Bozeman Farmers' Market
DESCRIPTION:Fresh produce\, food\, art\, music\, and more!
URL:https://enjoywhereyouare.today/events/bozeman-farmers-market-2/2024-08-20/
LOCATION:Lindley Park\, E Main St & Buttonwood Ave\, Bozeman\, MT
CATEGORIES:Farm Markets & Shopping
ATTACH;FMTTYPE=image/jpeg:https://enjoywhereyouare.today/wp-content/uploads/2024/06/Bozeman-Farmers-Market-1.jpg
GEO:45.6793512;-111.0248448
X-APPLE-STRUCTURED-LOCATION;VALUE=URI;X-ADDRESS=Lindley Park E Main St & Buttonwood Ave Bozeman MT;X-APPLE-RADIUS=500;X-TITLE=E Main St & Buttonwood Ave:geo:-111.0248448,45.6793512
END:VEVENT
BEGIN:VEVENT
DTSTART;TZID=America/New_York:20240813T170000
DTEND;TZID=America/New_York:20240813T200000
DTSTAMP:20260425T173801
CREATED:20240627T111617Z
LAST-MODIFIED:20240627T111617Z
UID:10005945-1723568400-1723579200@enjoywhereyouare.today
SUMMARY:Bozeman Farmers' Market
DESCRIPTION:Fresh produce\, food\, art\, music\, and more!
URL:https://enjoywhereyouare.today/events/bozeman-farmers-market-2/2024-08-13/
LOCATION:Lindley Park\, E Main St & Buttonwood Ave\, Bozeman\, MT
CATEGORIES:Farm Markets & Shopping
ATTACH;FMTTYPE=image/jpeg:https://enjoywhereyouare.today/wp-content/uploads/2024/06/Bozeman-Farmers-Market-1.jpg
GEO:45.6793512;-111.0248448
X-APPLE-STRUCTURED-LOCATION;VALUE=URI;X-ADDRESS=Lindley Park E Main St & Buttonwood Ave Bozeman MT;X-APPLE-RADIUS=500;X-TITLE=E Main St & Buttonwood Ave:geo:-111.0248448,45.6793512
END:VEVENT
BEGIN:VEVENT
DTSTART;TZID=America/New_York:20240806T170000
DTEND;TZID=America/New_York:20240806T200000
DTSTAMP:20260425T173801
CREATED:20240627T111617Z
LAST-MODIFIED:20240627T111617Z
UID:10005944-1722963600-1722974400@enjoywhereyouare.today
SUMMARY:Bozeman Farmers' Market
DESCRIPTION:Fresh produce\, food\, art\, music\, and more!
URL:https://enjoywhereyouare.today/events/bozeman-farmers-market-2/2024-08-06/
LOCATION:Lindley Park\, E Main St & Buttonwood Ave\, Bozeman\, MT
CATEGORIES:Farm Markets & Shopping
ATTACH;FMTTYPE=image/jpeg:https://enjoywhereyouare.today/wp-content/uploads/2024/06/Bozeman-Farmers-Market-1.jpg
GEO:45.6793512;-111.0248448
X-APPLE-STRUCTURED-LOCATION;VALUE=URI;X-ADDRESS=Lindley Park E Main St & Buttonwood Ave Bozeman MT;X-APPLE-RADIUS=500;X-TITLE=E Main St & Buttonwood Ave:geo:-111.0248448,45.6793512
END:VEVENT
BEGIN:VEVENT
DTSTART;VALUE=DATE:20240804
DTEND;VALUE=DATE:20240805
DTSTAMP:20260425T173801
CREATED:20240627T131148Z
LAST-MODIFIED:20240627T134014Z
UID:10005990-1722729600-1722815999@enjoywhereyouare.today
SUMMARY:Sweet Pea Festival
DESCRIPTION:Annual three-day festival of the arts in Bozeman
URL:https://enjoywhereyouare.today/events/sweet-pea-festival/2024-08-04/
LOCATION:Lindley Park\, E Main St & Buttonwood Ave\, Bozeman\, MT
CATEGORIES:Festivals and Events,Music
ATTACH;FMTTYPE=image/jpeg:https://enjoywhereyouare.today/wp-content/uploads/2024/06/2024-Sweet-Pea-Festival.jpeg
GEO:45.6793512;-111.0248448
X-APPLE-STRUCTURED-LOCATION;VALUE=URI;X-ADDRESS=Lindley Park E Main St & Buttonwood Ave Bozeman MT;X-APPLE-RADIUS=500;X-TITLE=E Main St & Buttonwood Ave:geo:-111.0248448,45.6793512
END:VEVENT
BEGIN:VEVENT
DTSTART;VALUE=DATE:20240803
DTEND;VALUE=DATE:20240804
DTSTAMP:20260425T173801
CREATED:20240627T131148Z
LAST-MODIFIED:20240627T134014Z
UID:10005989-1722643200-1722729599@enjoywhereyouare.today
SUMMARY:Sweet Pea Festival
DESCRIPTION:Annual three-day festival of the arts in Bozeman
URL:https://enjoywhereyouare.today/events/sweet-pea-festival/2024-08-03/
LOCATION:Lindley Park\, E Main St & Buttonwood Ave\, Bozeman\, MT
CATEGORIES:Festivals and Events,Music
ATTACH;FMTTYPE=image/jpeg:https://enjoywhereyouare.today/wp-content/uploads/2024/06/2024-Sweet-Pea-Festival.jpeg
GEO:45.6793512;-111.0248448
X-APPLE-STRUCTURED-LOCATION;VALUE=URI;X-ADDRESS=Lindley Park E Main St & Buttonwood Ave Bozeman MT;X-APPLE-RADIUS=500;X-TITLE=E Main St & Buttonwood Ave:geo:-111.0248448,45.6793512
END:VEVENT
BEGIN:VEVENT
DTSTART;VALUE=DATE:20240802
DTEND;VALUE=DATE:20240803
DTSTAMP:20260425T173801
CREATED:20240627T131148Z
LAST-MODIFIED:20240627T134014Z
UID:10005988-1722556800-1722643199@enjoywhereyouare.today
SUMMARY:Sweet Pea Festival
DESCRIPTION:Annual three-day festival of the arts in Bozeman
URL:https://enjoywhereyouare.today/events/sweet-pea-festival/2024-08-02/
LOCATION:Lindley Park\, E Main St & Buttonwood Ave\, Bozeman\, MT
CATEGORIES:Festivals and Events,Music
ATTACH;FMTTYPE=image/jpeg:https://enjoywhereyouare.today/wp-content/uploads/2024/06/2024-Sweet-Pea-Festival.jpeg
GEO:45.6793512;-111.0248448
X-APPLE-STRUCTURED-LOCATION;VALUE=URI;X-ADDRESS=Lindley Park E Main St & Buttonwood Ave Bozeman MT;X-APPLE-RADIUS=500;X-TITLE=E Main St & Buttonwood Ave:geo:-111.0248448,45.6793512
END:VEVENT
BEGIN:VEVENT
DTSTART;TZID=America/New_York:20240730T170000
DTEND;TZID=America/New_York:20240730T200000
DTSTAMP:20260425T173801
CREATED:20240627T111617Z
LAST-MODIFIED:20240627T111617Z
UID:10005943-1722358800-1722369600@enjoywhereyouare.today
SUMMARY:Bozeman Farmers' Market
DESCRIPTION:Fresh produce\, food\, art\, music\, and more!
URL:https://enjoywhereyouare.today/events/bozeman-farmers-market-2/2024-07-30/
LOCATION:Lindley Park\, E Main St & Buttonwood Ave\, Bozeman\, MT
CATEGORIES:Farm Markets & Shopping
ATTACH;FMTTYPE=image/jpeg:https://enjoywhereyouare.today/wp-content/uploads/2024/06/Bozeman-Farmers-Market-1.jpg
GEO:45.6793512;-111.0248448
X-APPLE-STRUCTURED-LOCATION;VALUE=URI;X-ADDRESS=Lindley Park E Main St & Buttonwood Ave Bozeman MT;X-APPLE-RADIUS=500;X-TITLE=E Main St & Buttonwood Ave:geo:-111.0248448,45.6793512
END:VEVENT
BEGIN:VEVENT
DTSTART;TZID=America/New_York:20240723T170000
DTEND;TZID=America/New_York:20240723T200000
DTSTAMP:20260425T173801
CREATED:20240627T111617Z
LAST-MODIFIED:20240627T111617Z
UID:10005942-1721754000-1721764800@enjoywhereyouare.today
SUMMARY:Bozeman Farmers' Market
DESCRIPTION:Fresh produce\, food\, art\, music\, and more!
URL:https://enjoywhereyouare.today/events/bozeman-farmers-market-2/2024-07-23/
LOCATION:Lindley Park\, E Main St & Buttonwood Ave\, Bozeman\, MT
CATEGORIES:Farm Markets & Shopping
ATTACH;FMTTYPE=image/jpeg:https://enjoywhereyouare.today/wp-content/uploads/2024/06/Bozeman-Farmers-Market-1.jpg
GEO:45.6793512;-111.0248448
X-APPLE-STRUCTURED-LOCATION;VALUE=URI;X-ADDRESS=Lindley Park E Main St & Buttonwood Ave Bozeman MT;X-APPLE-RADIUS=500;X-TITLE=E Main St & Buttonwood Ave:geo:-111.0248448,45.6793512
END:VEVENT
BEGIN:VEVENT
DTSTART;TZID=America/New_York:20240716T170000
DTEND;TZID=America/New_York:20240716T200000
DTSTAMP:20260425T173801
CREATED:20240627T111617Z
LAST-MODIFIED:20240627T111617Z
UID:10005941-1721149200-1721160000@enjoywhereyouare.today
SUMMARY:Bozeman Farmers' Market
DESCRIPTION:Fresh produce\, food\, art\, music\, and more!
URL:https://enjoywhereyouare.today/events/bozeman-farmers-market-2/2024-07-16/
LOCATION:Lindley Park\, E Main St & Buttonwood Ave\, Bozeman\, MT
CATEGORIES:Farm Markets & Shopping
ATTACH;FMTTYPE=image/jpeg:https://enjoywhereyouare.today/wp-content/uploads/2024/06/Bozeman-Farmers-Market-1.jpg
GEO:45.6793512;-111.0248448
X-APPLE-STRUCTURED-LOCATION;VALUE=URI;X-ADDRESS=Lindley Park E Main St & Buttonwood Ave Bozeman MT;X-APPLE-RADIUS=500;X-TITLE=E Main St & Buttonwood Ave:geo:-111.0248448,45.6793512
END:VEVENT
BEGIN:VEVENT
DTSTART;TZID=America/New_York:20240709T170000
DTEND;TZID=America/New_York:20240709T200000
DTSTAMP:20260425T173801
CREATED:20240627T111617Z
LAST-MODIFIED:20240627T111617Z
UID:10005940-1720544400-1720555200@enjoywhereyouare.today
SUMMARY:Bozeman Farmers' Market
DESCRIPTION:Fresh produce\, food\, art\, music\, and more!
URL:https://enjoywhereyouare.today/events/bozeman-farmers-market-2/2024-07-09/
LOCATION:Lindley Park\, E Main St & Buttonwood Ave\, Bozeman\, MT
CATEGORIES:Farm Markets & Shopping
ATTACH;FMTTYPE=image/jpeg:https://enjoywhereyouare.today/wp-content/uploads/2024/06/Bozeman-Farmers-Market-1.jpg
GEO:45.6793512;-111.0248448
X-APPLE-STRUCTURED-LOCATION;VALUE=URI;X-ADDRESS=Lindley Park E Main St & Buttonwood Ave Bozeman MT;X-APPLE-RADIUS=500;X-TITLE=E Main St & Buttonwood Ave:geo:-111.0248448,45.6793512
END:VEVENT
BEGIN:VEVENT
DTSTART;TZID=America/New_York:20240702T170000
DTEND;TZID=America/New_York:20240702T200000
DTSTAMP:20260425T173801
CREATED:20240627T111617Z
LAST-MODIFIED:20240627T111617Z
UID:10005951-1719939600-1719950400@enjoywhereyouare.today
SUMMARY:Bozeman Farmers' Market
DESCRIPTION:Fresh produce\, food\, art\, music\, and more!
URL:https://enjoywhereyouare.today/events/bozeman-farmers-market-2/2024-07-02/
LOCATION:Lindley Park\, E Main St & Buttonwood Ave\, Bozeman\, MT
CATEGORIES:Farm Markets & Shopping
ATTACH;FMTTYPE=image/jpeg:https://enjoywhereyouare.today/wp-content/uploads/2024/06/Bozeman-Farmers-Market-1.jpg
GEO:45.6793512;-111.0248448
X-APPLE-STRUCTURED-LOCATION;VALUE=URI;X-ADDRESS=Lindley Park E Main St & Buttonwood Ave Bozeman MT;X-APPLE-RADIUS=500;X-TITLE=E Main St & Buttonwood Ave:geo:-111.0248448,45.6793512
END:VEVENT
BEGIN:VEVENT
DTSTART;TZID=America/New_York:20240625T170000
DTEND;TZID=America/New_York:20240625T200000
DTSTAMP:20260425T173801
CREATED:20240627T111617Z
LAST-MODIFIED:20240627T111617Z
UID:10005950-1719334800-1719345600@enjoywhereyouare.today
SUMMARY:Bozeman Farmers' Market
DESCRIPTION:Fresh produce\, food\, art\, music\, and more!
URL:https://enjoywhereyouare.today/events/bozeman-farmers-market-2/2024-06-25/
LOCATION:Lindley Park\, E Main St & Buttonwood Ave\, Bozeman\, MT
CATEGORIES:Farm Markets & Shopping
ATTACH;FMTTYPE=image/jpeg:https://enjoywhereyouare.today/wp-content/uploads/2024/06/Bozeman-Farmers-Market-1.jpg
GEO:45.6793512;-111.0248448
X-APPLE-STRUCTURED-LOCATION;VALUE=URI;X-ADDRESS=Lindley Park E Main St & Buttonwood Ave Bozeman MT;X-APPLE-RADIUS=500;X-TITLE=E Main St & Buttonwood Ave:geo:-111.0248448,45.6793512
END:VEVENT
BEGIN:VEVENT
DTSTART;TZID=America/New_York:20240625T170000
DTEND;TZID=America/New_York:20240625T200000
DTSTAMP:20260425T173801
CREATED:20240627T111008Z
LAST-MODIFIED:20240627T111008Z
UID:10005938-1719334800-1719345600@enjoywhereyouare.today
SUMMARY:Bozeman Farmers' Market
DESCRIPTION:Fresh produce\, food\, art\, music\, and more!
URL:https://enjoywhereyouare.today/events/bozeman-farmers-market/2024-06-25/
LOCATION:Lindley Park\, E Main St & Buttonwood Ave\, Bozeman\, MT
GEO:45.6793512;-111.0248448
X-APPLE-STRUCTURED-LOCATION;VALUE=URI;X-ADDRESS=Lindley Park E Main St & Buttonwood Ave Bozeman MT;X-APPLE-RADIUS=500;X-TITLE=E Main St & Buttonwood Ave:geo:-111.0248448,45.6793512
END:VEVENT
BEGIN:VEVENT
DTSTART;TZID=America/New_York:20240618T170000
DTEND;TZID=America/New_York:20240618T200000
DTSTAMP:20260425T173801
CREATED:20240627T111617Z
LAST-MODIFIED:20240627T111617Z
UID:10005939-1718730000-1718740800@enjoywhereyouare.today
SUMMARY:Bozeman Farmers' Market
DESCRIPTION:Fresh produce\, food\, art\, music\, and more!
URL:https://enjoywhereyouare.today/events/bozeman-farmers-market-2/2024-06-18/
LOCATION:Lindley Park\, E Main St & Buttonwood Ave\, Bozeman\, MT
CATEGORIES:Farm Markets & Shopping
ATTACH;FMTTYPE=image/jpeg:https://enjoywhereyouare.today/wp-content/uploads/2024/06/Bozeman-Farmers-Market-1.jpg
GEO:45.6793512;-111.0248448
X-APPLE-STRUCTURED-LOCATION;VALUE=URI;X-ADDRESS=Lindley Park E Main St & Buttonwood Ave Bozeman MT;X-APPLE-RADIUS=500;X-TITLE=E Main St & Buttonwood Ave:geo:-111.0248448,45.6793512
END:VEVENT
BEGIN:VEVENT
DTSTART;TZID=America/New_York:20240618T170000
DTEND;TZID=America/New_York:20240618T200000
DTSTAMP:20260425T173801
CREATED:20240627T111008Z
LAST-MODIFIED:20240627T111008Z
UID:10005937-1718730000-1718740800@enjoywhereyouare.today
SUMMARY:Bozeman Farmers' Market
DESCRIPTION:Fresh produce\, food\, art\, music\, and more!
URL:https://enjoywhereyouare.today/events/bozeman-farmers-market/2024-06-18/
LOCATION:Lindley Park\, E Main St & Buttonwood Ave\, Bozeman\, MT
GEO:45.6793512;-111.0248448
X-APPLE-STRUCTURED-LOCATION;VALUE=URI;X-ADDRESS=Lindley Park E Main St & Buttonwood Ave Bozeman MT;X-APPLE-RADIUS=500;X-TITLE=E Main St & Buttonwood Ave:geo:-111.0248448,45.6793512
END:VEVENT
END:VCALENDAR