BEGIN:VCALENDAR
VERSION:2.0
PRODID:-//Enjoy Where You Are - ECPv6.5.2//NONSGML v1.0//EN
CALSCALE:GREGORIAN
METHOD:PUBLISH
X-ORIGINAL-URL:https://enjoywhereyouare.today
X-WR-CALDESC:Events for Enjoy Where You Are
REFRESH-INTERVAL;VALUE=DURATION:PT1H
X-Robots-Tag:noindex
X-PUBLISHED-TTL:PT1H
BEGIN:VTIMEZONE
TZID:America/New_York
BEGIN:DAYLIGHT
TZOFFSETFROM:-0500
TZOFFSETTO:-0400
TZNAME:EDT
DTSTART:20260308T070000
END:DAYLIGHT
BEGIN:STANDARD
TZOFFSETFROM:-0400
TZOFFSETTO:-0500
TZNAME:EST
DTSTART:20261101T060000
END:STANDARD
END:VTIMEZONE
BEGIN:VEVENT
DTSTART;VALUE=DATE:20260428
DTEND;VALUE=DATE:20260429
DTSTAMP:20260422T181157
CREATED:20250818T141252Z
LAST-MODIFIED:20250818T141502Z
UID:10014236-1777334400-1777420799@enjoywhereyouare.today
SUMMARY:Tuesday Special
DESCRIPTION:Every Tuesday! Load up your account with races. Use them anytime.
URL:https://enjoywhereyouare.today/events/tuesday-special/2026-04-28/
LOCATION:K1 Speed\, West South Airport Road\, Traverse City\, MI\, 49686\, United States
CATEGORIES:Daily Specials
ATTACH;FMTTYPE=image/jpeg:https://enjoywhereyouare.today/wp-content/uploads/2025/08/K1-Speed-Tues-Special.jpg
GEO:44.7349488;-85.5993179
X-APPLE-STRUCTURED-LOCATION;VALUE=URI;X-ADDRESS=K1 Speed West South Airport Road Traverse City MI 49686 United States;X-APPLE-RADIUS=500;X-TITLE=West South Airport Road:geo:-85.5993179,44.7349488
END:VEVENT
BEGIN:VEVENT
DTSTART;VALUE=DATE:20260505
DTEND;VALUE=DATE:20260506
DTSTAMP:20260422T181157
CREATED:20250818T141252Z
LAST-MODIFIED:20250818T141502Z
UID:10014237-1777939200-1778025599@enjoywhereyouare.today
SUMMARY:Tuesday Special
DESCRIPTION:Every Tuesday! Load up your account with races. Use them anytime.
URL:https://enjoywhereyouare.today/events/tuesday-special/2026-05-05/
LOCATION:K1 Speed\, West South Airport Road\, Traverse City\, MI\, 49686\, United States
CATEGORIES:Daily Specials
ATTACH;FMTTYPE=image/jpeg:https://enjoywhereyouare.today/wp-content/uploads/2025/08/K1-Speed-Tues-Special.jpg
GEO:44.7349488;-85.5993179
X-APPLE-STRUCTURED-LOCATION;VALUE=URI;X-ADDRESS=K1 Speed West South Airport Road Traverse City MI 49686 United States;X-APPLE-RADIUS=500;X-TITLE=West South Airport Road:geo:-85.5993179,44.7349488
END:VEVENT
BEGIN:VEVENT
DTSTART;VALUE=DATE:20260512
DTEND;VALUE=DATE:20260513
DTSTAMP:20260422T181157
CREATED:20250818T141252Z
LAST-MODIFIED:20250818T141502Z
UID:10014238-1778544000-1778630399@enjoywhereyouare.today
SUMMARY:Tuesday Special
DESCRIPTION:Every Tuesday! Load up your account with races. Use them anytime.
URL:https://enjoywhereyouare.today/events/tuesday-special/2026-05-12/
LOCATION:K1 Speed\, West South Airport Road\, Traverse City\, MI\, 49686\, United States
CATEGORIES:Daily Specials
ATTACH;FMTTYPE=image/jpeg:https://enjoywhereyouare.today/wp-content/uploads/2025/08/K1-Speed-Tues-Special.jpg
GEO:44.7349488;-85.5993179
X-APPLE-STRUCTURED-LOCATION;VALUE=URI;X-ADDRESS=K1 Speed West South Airport Road Traverse City MI 49686 United States;X-APPLE-RADIUS=500;X-TITLE=West South Airport Road:geo:-85.5993179,44.7349488
END:VEVENT
BEGIN:VEVENT
DTSTART;VALUE=DATE:20260519
DTEND;VALUE=DATE:20260520
DTSTAMP:20260422T181157
CREATED:20250818T141252Z
LAST-MODIFIED:20250818T141502Z
UID:10014239-1779148800-1779235199@enjoywhereyouare.today
SUMMARY:Tuesday Special
DESCRIPTION:Every Tuesday! Load up your account with races. Use them anytime.
URL:https://enjoywhereyouare.today/events/tuesday-special/2026-05-19/
LOCATION:K1 Speed\, West South Airport Road\, Traverse City\, MI\, 49686\, United States
CATEGORIES:Daily Specials
ATTACH;FMTTYPE=image/jpeg:https://enjoywhereyouare.today/wp-content/uploads/2025/08/K1-Speed-Tues-Special.jpg
GEO:44.7349488;-85.5993179
X-APPLE-STRUCTURED-LOCATION;VALUE=URI;X-ADDRESS=K1 Speed West South Airport Road Traverse City MI 49686 United States;X-APPLE-RADIUS=500;X-TITLE=West South Airport Road:geo:-85.5993179,44.7349488
END:VEVENT
BEGIN:VEVENT
DTSTART;VALUE=DATE:20260526
DTEND;VALUE=DATE:20260527
DTSTAMP:20260422T181157
CREATED:20250818T141252Z
LAST-MODIFIED:20250818T141502Z
UID:10014240-1779753600-1779839999@enjoywhereyouare.today
SUMMARY:Tuesday Special
DESCRIPTION:Every Tuesday! Load up your account with races. Use them anytime.
URL:https://enjoywhereyouare.today/events/tuesday-special/2026-05-26/
LOCATION:K1 Speed\, West South Airport Road\, Traverse City\, MI\, 49686\, United States
CATEGORIES:Daily Specials
ATTACH;FMTTYPE=image/jpeg:https://enjoywhereyouare.today/wp-content/uploads/2025/08/K1-Speed-Tues-Special.jpg
GEO:44.7349488;-85.5993179
X-APPLE-STRUCTURED-LOCATION;VALUE=URI;X-ADDRESS=K1 Speed West South Airport Road Traverse City MI 49686 United States;X-APPLE-RADIUS=500;X-TITLE=West South Airport Road:geo:-85.5993179,44.7349488
END:VEVENT
BEGIN:VEVENT
DTSTART;VALUE=DATE:20260602
DTEND;VALUE=DATE:20260603
DTSTAMP:20260422T181157
CREATED:20250818T141252Z
LAST-MODIFIED:20250818T141502Z
UID:10014241-1780358400-1780444799@enjoywhereyouare.today
SUMMARY:Tuesday Special
DESCRIPTION:Every Tuesday! Load up your account with races. Use them anytime.
URL:https://enjoywhereyouare.today/events/tuesday-special/2026-06-02/
LOCATION:K1 Speed\, West South Airport Road\, Traverse City\, MI\, 49686\, United States
CATEGORIES:Daily Specials
ATTACH;FMTTYPE=image/jpeg:https://enjoywhereyouare.today/wp-content/uploads/2025/08/K1-Speed-Tues-Special.jpg
GEO:44.7349488;-85.5993179
X-APPLE-STRUCTURED-LOCATION;VALUE=URI;X-ADDRESS=K1 Speed West South Airport Road Traverse City MI 49686 United States;X-APPLE-RADIUS=500;X-TITLE=West South Airport Road:geo:-85.5993179,44.7349488
END:VEVENT
BEGIN:VEVENT
DTSTART;VALUE=DATE:20260609
DTEND;VALUE=DATE:20260610
DTSTAMP:20260422T181157
CREATED:20250818T141252Z
LAST-MODIFIED:20250818T141502Z
UID:10014242-1780963200-1781049599@enjoywhereyouare.today
SUMMARY:Tuesday Special
DESCRIPTION:Every Tuesday! Load up your account with races. Use them anytime.
URL:https://enjoywhereyouare.today/events/tuesday-special/2026-06-09/
LOCATION:K1 Speed\, West South Airport Road\, Traverse City\, MI\, 49686\, United States
CATEGORIES:Daily Specials
ATTACH;FMTTYPE=image/jpeg:https://enjoywhereyouare.today/wp-content/uploads/2025/08/K1-Speed-Tues-Special.jpg
GEO:44.7349488;-85.5993179
X-APPLE-STRUCTURED-LOCATION;VALUE=URI;X-ADDRESS=K1 Speed West South Airport Road Traverse City MI 49686 United States;X-APPLE-RADIUS=500;X-TITLE=West South Airport Road:geo:-85.5993179,44.7349488
END:VEVENT
BEGIN:VEVENT
DTSTART;VALUE=DATE:20260616
DTEND;VALUE=DATE:20260617
DTSTAMP:20260422T181157
CREATED:20250818T141252Z
LAST-MODIFIED:20250818T141502Z
UID:10014243-1781568000-1781654399@enjoywhereyouare.today
SUMMARY:Tuesday Special
DESCRIPTION:Every Tuesday! Load up your account with races. Use them anytime.
URL:https://enjoywhereyouare.today/events/tuesday-special/2026-06-16/
LOCATION:K1 Speed\, West South Airport Road\, Traverse City\, MI\, 49686\, United States
CATEGORIES:Daily Specials
ATTACH;FMTTYPE=image/jpeg:https://enjoywhereyouare.today/wp-content/uploads/2025/08/K1-Speed-Tues-Special.jpg
GEO:44.7349488;-85.5993179
X-APPLE-STRUCTURED-LOCATION;VALUE=URI;X-ADDRESS=K1 Speed West South Airport Road Traverse City MI 49686 United States;X-APPLE-RADIUS=500;X-TITLE=West South Airport Road:geo:-85.5993179,44.7349488
END:VEVENT
BEGIN:VEVENT
DTSTART;VALUE=DATE:20260623
DTEND;VALUE=DATE:20260624
DTSTAMP:20260422T181157
CREATED:20250818T141252Z
LAST-MODIFIED:20250818T141502Z
UID:10014244-1782172800-1782259199@enjoywhereyouare.today
SUMMARY:Tuesday Special
DESCRIPTION:Every Tuesday! Load up your account with races. Use them anytime.
URL:https://enjoywhereyouare.today/events/tuesday-special/2026-06-23/
LOCATION:K1 Speed\, West South Airport Road\, Traverse City\, MI\, 49686\, United States
CATEGORIES:Daily Specials
ATTACH;FMTTYPE=image/jpeg:https://enjoywhereyouare.today/wp-content/uploads/2025/08/K1-Speed-Tues-Special.jpg
GEO:44.7349488;-85.5993179
X-APPLE-STRUCTURED-LOCATION;VALUE=URI;X-ADDRESS=K1 Speed West South Airport Road Traverse City MI 49686 United States;X-APPLE-RADIUS=500;X-TITLE=West South Airport Road:geo:-85.5993179,44.7349488
END:VEVENT
BEGIN:VEVENT
DTSTART;VALUE=DATE:20260630
DTEND;VALUE=DATE:20260701
DTSTAMP:20260422T181157
CREATED:20250818T141252Z
LAST-MODIFIED:20250818T141502Z
UID:10014245-1782777600-1782863999@enjoywhereyouare.today
SUMMARY:Tuesday Special
DESCRIPTION:Every Tuesday! Load up your account with races. Use them anytime.
URL:https://enjoywhereyouare.today/events/tuesday-special/2026-06-30/
LOCATION:K1 Speed\, West South Airport Road\, Traverse City\, MI\, 49686\, United States
CATEGORIES:Daily Specials
ATTACH;FMTTYPE=image/jpeg:https://enjoywhereyouare.today/wp-content/uploads/2025/08/K1-Speed-Tues-Special.jpg
GEO:44.7349488;-85.5993179
X-APPLE-STRUCTURED-LOCATION;VALUE=URI;X-ADDRESS=K1 Speed West South Airport Road Traverse City MI 49686 United States;X-APPLE-RADIUS=500;X-TITLE=West South Airport Road:geo:-85.5993179,44.7349488
END:VEVENT
BEGIN:VEVENT
DTSTART;VALUE=DATE:20260707
DTEND;VALUE=DATE:20260708
DTSTAMP:20260422T181157
CREATED:20250818T141252Z
LAST-MODIFIED:20250818T141502Z
UID:10014246-1783382400-1783468799@enjoywhereyouare.today
SUMMARY:Tuesday Special
DESCRIPTION:Every Tuesday! Load up your account with races. Use them anytime.
URL:https://enjoywhereyouare.today/events/tuesday-special/2026-07-07/
LOCATION:K1 Speed\, West South Airport Road\, Traverse City\, MI\, 49686\, United States
CATEGORIES:Daily Specials
ATTACH;FMTTYPE=image/jpeg:https://enjoywhereyouare.today/wp-content/uploads/2025/08/K1-Speed-Tues-Special.jpg
GEO:44.7349488;-85.5993179
X-APPLE-STRUCTURED-LOCATION;VALUE=URI;X-ADDRESS=K1 Speed West South Airport Road Traverse City MI 49686 United States;X-APPLE-RADIUS=500;X-TITLE=West South Airport Road:geo:-85.5993179,44.7349488
END:VEVENT
BEGIN:VEVENT
DTSTART;VALUE=DATE:20260714
DTEND;VALUE=DATE:20260715
DTSTAMP:20260422T181157
CREATED:20250818T141252Z
LAST-MODIFIED:20250818T141502Z
UID:10014247-1783987200-1784073599@enjoywhereyouare.today
SUMMARY:Tuesday Special
DESCRIPTION:Every Tuesday! Load up your account with races. Use them anytime.
URL:https://enjoywhereyouare.today/events/tuesday-special/2026-07-14/
LOCATION:K1 Speed\, West South Airport Road\, Traverse City\, MI\, 49686\, United States
CATEGORIES:Daily Specials
ATTACH;FMTTYPE=image/jpeg:https://enjoywhereyouare.today/wp-content/uploads/2025/08/K1-Speed-Tues-Special.jpg
GEO:44.7349488;-85.5993179
X-APPLE-STRUCTURED-LOCATION;VALUE=URI;X-ADDRESS=K1 Speed West South Airport Road Traverse City MI 49686 United States;X-APPLE-RADIUS=500;X-TITLE=West South Airport Road:geo:-85.5993179,44.7349488
END:VEVENT
BEGIN:VEVENT
DTSTART;VALUE=DATE:20260721
DTEND;VALUE=DATE:20260722
DTSTAMP:20260422T181157
CREATED:20250818T141252Z
LAST-MODIFIED:20250818T141502Z
UID:10014248-1784592000-1784678399@enjoywhereyouare.today
SUMMARY:Tuesday Special
DESCRIPTION:Every Tuesday! Load up your account with races. Use them anytime.
URL:https://enjoywhereyouare.today/events/tuesday-special/2026-07-21/
LOCATION:K1 Speed\, West South Airport Road\, Traverse City\, MI\, 49686\, United States
CATEGORIES:Daily Specials
ATTACH;FMTTYPE=image/jpeg:https://enjoywhereyouare.today/wp-content/uploads/2025/08/K1-Speed-Tues-Special.jpg
GEO:44.7349488;-85.5993179
X-APPLE-STRUCTURED-LOCATION;VALUE=URI;X-ADDRESS=K1 Speed West South Airport Road Traverse City MI 49686 United States;X-APPLE-RADIUS=500;X-TITLE=West South Airport Road:geo:-85.5993179,44.7349488
END:VEVENT
BEGIN:VEVENT
DTSTART;VALUE=DATE:20260728
DTEND;VALUE=DATE:20260729
DTSTAMP:20260422T181157
CREATED:20250818T141252Z
LAST-MODIFIED:20250818T141502Z
UID:10014249-1785196800-1785283199@enjoywhereyouare.today
SUMMARY:Tuesday Special
DESCRIPTION:Every Tuesday! Load up your account with races. Use them anytime.
URL:https://enjoywhereyouare.today/events/tuesday-special/2026-07-28/
LOCATION:K1 Speed\, West South Airport Road\, Traverse City\, MI\, 49686\, United States
CATEGORIES:Daily Specials
ATTACH;FMTTYPE=image/jpeg:https://enjoywhereyouare.today/wp-content/uploads/2025/08/K1-Speed-Tues-Special.jpg
GEO:44.7349488;-85.5993179
X-APPLE-STRUCTURED-LOCATION;VALUE=URI;X-ADDRESS=K1 Speed West South Airport Road Traverse City MI 49686 United States;X-APPLE-RADIUS=500;X-TITLE=West South Airport Road:geo:-85.5993179,44.7349488
END:VEVENT
BEGIN:VEVENT
DTSTART;VALUE=DATE:20260804
DTEND;VALUE=DATE:20260805
DTSTAMP:20260422T181157
CREATED:20250818T141252Z
LAST-MODIFIED:20250818T141502Z
UID:10014250-1785801600-1785887999@enjoywhereyouare.today
SUMMARY:Tuesday Special
DESCRIPTION:Every Tuesday! Load up your account with races. Use them anytime.
URL:https://enjoywhereyouare.today/events/tuesday-special/2026-08-04/
LOCATION:K1 Speed\, West South Airport Road\, Traverse City\, MI\, 49686\, United States
CATEGORIES:Daily Specials
ATTACH;FMTTYPE=image/jpeg:https://enjoywhereyouare.today/wp-content/uploads/2025/08/K1-Speed-Tues-Special.jpg
GEO:44.7349488;-85.5993179
X-APPLE-STRUCTURED-LOCATION;VALUE=URI;X-ADDRESS=K1 Speed West South Airport Road Traverse City MI 49686 United States;X-APPLE-RADIUS=500;X-TITLE=West South Airport Road:geo:-85.5993179,44.7349488
END:VEVENT
BEGIN:VEVENT
DTSTART;VALUE=DATE:20260811
DTEND;VALUE=DATE:20260812
DTSTAMP:20260422T181157
CREATED:20250818T141252Z
LAST-MODIFIED:20250818T141502Z
UID:10014251-1786406400-1786492799@enjoywhereyouare.today
SUMMARY:Tuesday Special
DESCRIPTION:Every Tuesday! Load up your account with races. Use them anytime.
URL:https://enjoywhereyouare.today/events/tuesday-special/2026-08-11/
LOCATION:K1 Speed\, West South Airport Road\, Traverse City\, MI\, 49686\, United States
CATEGORIES:Daily Specials
ATTACH;FMTTYPE=image/jpeg:https://enjoywhereyouare.today/wp-content/uploads/2025/08/K1-Speed-Tues-Special.jpg
GEO:44.7349488;-85.5993179
X-APPLE-STRUCTURED-LOCATION;VALUE=URI;X-ADDRESS=K1 Speed West South Airport Road Traverse City MI 49686 United States;X-APPLE-RADIUS=500;X-TITLE=West South Airport Road:geo:-85.5993179,44.7349488
END:VEVENT
BEGIN:VEVENT
DTSTART;VALUE=DATE:20260818
DTEND;VALUE=DATE:20260819
DTSTAMP:20260422T181157
CREATED:20250818T141252Z
LAST-MODIFIED:20250818T141502Z
UID:10014252-1787011200-1787097599@enjoywhereyouare.today
SUMMARY:Tuesday Special
DESCRIPTION:Every Tuesday! Load up your account with races. Use them anytime.
URL:https://enjoywhereyouare.today/events/tuesday-special/2026-08-18/
LOCATION:K1 Speed\, West South Airport Road\, Traverse City\, MI\, 49686\, United States
CATEGORIES:Daily Specials
ATTACH;FMTTYPE=image/jpeg:https://enjoywhereyouare.today/wp-content/uploads/2025/08/K1-Speed-Tues-Special.jpg
GEO:44.7349488;-85.5993179
X-APPLE-STRUCTURED-LOCATION;VALUE=URI;X-ADDRESS=K1 Speed West South Airport Road Traverse City MI 49686 United States;X-APPLE-RADIUS=500;X-TITLE=West South Airport Road:geo:-85.5993179,44.7349488
END:VEVENT
BEGIN:VEVENT
DTSTART;VALUE=DATE:20260825
DTEND;VALUE=DATE:20260826
DTSTAMP:20260422T181157
CREATED:20250818T141252Z
LAST-MODIFIED:20250818T141502Z
UID:10014253-1787616000-1787702399@enjoywhereyouare.today
SUMMARY:Tuesday Special
DESCRIPTION:Every Tuesday! Load up your account with races. Use them anytime.
URL:https://enjoywhereyouare.today/events/tuesday-special/2026-08-25/
LOCATION:K1 Speed\, West South Airport Road\, Traverse City\, MI\, 49686\, United States
CATEGORIES:Daily Specials
ATTACH;FMTTYPE=image/jpeg:https://enjoywhereyouare.today/wp-content/uploads/2025/08/K1-Speed-Tues-Special.jpg
GEO:44.7349488;-85.5993179
X-APPLE-STRUCTURED-LOCATION;VALUE=URI;X-ADDRESS=K1 Speed West South Airport Road Traverse City MI 49686 United States;X-APPLE-RADIUS=500;X-TITLE=West South Airport Road:geo:-85.5993179,44.7349488
END:VEVENT
BEGIN:VEVENT
DTSTART;VALUE=DATE:20260901
DTEND;VALUE=DATE:20260902
DTSTAMP:20260422T181157
CREATED:20250818T141252Z
LAST-MODIFIED:20250818T141502Z
UID:10014254-1788220800-1788307199@enjoywhereyouare.today
SUMMARY:Tuesday Special
DESCRIPTION:Every Tuesday! Load up your account with races. Use them anytime.
URL:https://enjoywhereyouare.today/events/tuesday-special/2026-09-01/
LOCATION:K1 Speed\, West South Airport Road\, Traverse City\, MI\, 49686\, United States
CATEGORIES:Daily Specials
ATTACH;FMTTYPE=image/jpeg:https://enjoywhereyouare.today/wp-content/uploads/2025/08/K1-Speed-Tues-Special.jpg
GEO:44.7349488;-85.5993179
X-APPLE-STRUCTURED-LOCATION;VALUE=URI;X-ADDRESS=K1 Speed West South Airport Road Traverse City MI 49686 United States;X-APPLE-RADIUS=500;X-TITLE=West South Airport Road:geo:-85.5993179,44.7349488
END:VEVENT
END:VCALENDAR