BEGIN:VCALENDAR
VERSION:2.0
PRODID:-//Enjoy Where You Are - ECPv6.5.2//NONSGML v1.0//EN
CALSCALE:GREGORIAN
METHOD:PUBLISH
X-ORIGINAL-URL:https://enjoywhereyouare.today
X-WR-CALDESC:Events for Enjoy Where You Are
REFRESH-INTERVAL;VALUE=DURATION:PT1H
X-Robots-Tag:noindex
X-PUBLISHED-TTL:PT1H
BEGIN:VTIMEZONE
TZID:America/New_York
BEGIN:DAYLIGHT
TZOFFSETFROM:-0500
TZOFFSETTO:-0400
TZNAME:EDT
DTSTART:20250309T070000
END:DAYLIGHT
BEGIN:STANDARD
TZOFFSETFROM:-0400
TZOFFSETTO:-0500
TZNAME:EST
DTSTART:20251102T060000
END:STANDARD
BEGIN:DAYLIGHT
TZOFFSETFROM:-0500
TZOFFSETTO:-0400
TZNAME:EDT
DTSTART:20260308T070000
END:DAYLIGHT
BEGIN:STANDARD
TZOFFSETFROM:-0400
TZOFFSETTO:-0500
TZNAME:EST
DTSTART:20261101T060000
END:STANDARD
END:VTIMEZONE
BEGIN:VEVENT
DTSTART;VALUE=DATE:20260421
DTEND;VALUE=DATE:20260422
DTSTAMP:20260422T181905
CREATED:20250818T141252Z
LAST-MODIFIED:20250818T141502Z
UID:10014235-1776729600-1776815999@enjoywhereyouare.today
SUMMARY:Tuesday Special
DESCRIPTION:Every Tuesday! Load up your account with races. Use them anytime.
URL:https://enjoywhereyouare.today/events/tuesday-special/2026-04-21/
LOCATION:K1 Speed\, West South Airport Road\, Traverse City\, MI\, 49686\, United States
CATEGORIES:Daily Specials
ATTACH;FMTTYPE=image/jpeg:https://enjoywhereyouare.today/wp-content/uploads/2025/08/K1-Speed-Tues-Special.jpg
GEO:44.7349488;-85.5993179
X-APPLE-STRUCTURED-LOCATION;VALUE=URI;X-ADDRESS=K1 Speed West South Airport Road Traverse City MI 49686 United States;X-APPLE-RADIUS=500;X-TITLE=West South Airport Road:geo:-85.5993179,44.7349488
END:VEVENT
BEGIN:VEVENT
DTSTART;VALUE=DATE:20260414
DTEND;VALUE=DATE:20260415
DTSTAMP:20260422T181905
CREATED:20250818T141252Z
LAST-MODIFIED:20250818T141502Z
UID:10014234-1776124800-1776211199@enjoywhereyouare.today
SUMMARY:Tuesday Special
DESCRIPTION:Every Tuesday! Load up your account with races. Use them anytime.
URL:https://enjoywhereyouare.today/events/tuesday-special/2026-04-14/
LOCATION:K1 Speed\, West South Airport Road\, Traverse City\, MI\, 49686\, United States
CATEGORIES:Daily Specials
ATTACH;FMTTYPE=image/jpeg:https://enjoywhereyouare.today/wp-content/uploads/2025/08/K1-Speed-Tues-Special.jpg
GEO:44.7349488;-85.5993179
X-APPLE-STRUCTURED-LOCATION;VALUE=URI;X-ADDRESS=K1 Speed West South Airport Road Traverse City MI 49686 United States;X-APPLE-RADIUS=500;X-TITLE=West South Airport Road:geo:-85.5993179,44.7349488
END:VEVENT
BEGIN:VEVENT
DTSTART;VALUE=DATE:20260407
DTEND;VALUE=DATE:20260408
DTSTAMP:20260422T181905
CREATED:20250818T141252Z
LAST-MODIFIED:20250818T141502Z
UID:10014233-1775520000-1775606399@enjoywhereyouare.today
SUMMARY:Tuesday Special
DESCRIPTION:Every Tuesday! Load up your account with races. Use them anytime.
URL:https://enjoywhereyouare.today/events/tuesday-special/2026-04-07/
LOCATION:K1 Speed\, West South Airport Road\, Traverse City\, MI\, 49686\, United States
CATEGORIES:Daily Specials
ATTACH;FMTTYPE=image/jpeg:https://enjoywhereyouare.today/wp-content/uploads/2025/08/K1-Speed-Tues-Special.jpg
GEO:44.7349488;-85.5993179
X-APPLE-STRUCTURED-LOCATION;VALUE=URI;X-ADDRESS=K1 Speed West South Airport Road Traverse City MI 49686 United States;X-APPLE-RADIUS=500;X-TITLE=West South Airport Road:geo:-85.5993179,44.7349488
END:VEVENT
BEGIN:VEVENT
DTSTART;VALUE=DATE:20260331
DTEND;VALUE=DATE:20260401
DTSTAMP:20260422T181905
CREATED:20250818T141252Z
LAST-MODIFIED:20250818T141502Z
UID:10014232-1774915200-1775001599@enjoywhereyouare.today
SUMMARY:Tuesday Special
DESCRIPTION:Every Tuesday! Load up your account with races. Use them anytime.
URL:https://enjoywhereyouare.today/events/tuesday-special/2026-03-31/
LOCATION:K1 Speed\, West South Airport Road\, Traverse City\, MI\, 49686\, United States
CATEGORIES:Daily Specials
ATTACH;FMTTYPE=image/jpeg:https://enjoywhereyouare.today/wp-content/uploads/2025/08/K1-Speed-Tues-Special.jpg
GEO:44.7349488;-85.5993179
X-APPLE-STRUCTURED-LOCATION;VALUE=URI;X-ADDRESS=K1 Speed West South Airport Road Traverse City MI 49686 United States;X-APPLE-RADIUS=500;X-TITLE=West South Airport Road:geo:-85.5993179,44.7349488
END:VEVENT
BEGIN:VEVENT
DTSTART;VALUE=DATE:20260324
DTEND;VALUE=DATE:20260325
DTSTAMP:20260422T181905
CREATED:20250818T141252Z
LAST-MODIFIED:20250818T141502Z
UID:10014231-1774310400-1774396799@enjoywhereyouare.today
SUMMARY:Tuesday Special
DESCRIPTION:Every Tuesday! Load up your account with races. Use them anytime.
URL:https://enjoywhereyouare.today/events/tuesday-special/2026-03-24/
LOCATION:K1 Speed\, West South Airport Road\, Traverse City\, MI\, 49686\, United States
CATEGORIES:Daily Specials
ATTACH;FMTTYPE=image/jpeg:https://enjoywhereyouare.today/wp-content/uploads/2025/08/K1-Speed-Tues-Special.jpg
GEO:44.7349488;-85.5993179
X-APPLE-STRUCTURED-LOCATION;VALUE=URI;X-ADDRESS=K1 Speed West South Airport Road Traverse City MI 49686 United States;X-APPLE-RADIUS=500;X-TITLE=West South Airport Road:geo:-85.5993179,44.7349488
END:VEVENT
BEGIN:VEVENT
DTSTART;VALUE=DATE:20260317
DTEND;VALUE=DATE:20260318
DTSTAMP:20260422T181905
CREATED:20250818T141252Z
LAST-MODIFIED:20250818T141502Z
UID:10014230-1773705600-1773791999@enjoywhereyouare.today
SUMMARY:Tuesday Special
DESCRIPTION:Every Tuesday! Load up your account with races. Use them anytime.
URL:https://enjoywhereyouare.today/events/tuesday-special/2026-03-17/
LOCATION:K1 Speed\, West South Airport Road\, Traverse City\, MI\, 49686\, United States
CATEGORIES:Daily Specials
ATTACH;FMTTYPE=image/jpeg:https://enjoywhereyouare.today/wp-content/uploads/2025/08/K1-Speed-Tues-Special.jpg
GEO:44.7349488;-85.5993179
X-APPLE-STRUCTURED-LOCATION;VALUE=URI;X-ADDRESS=K1 Speed West South Airport Road Traverse City MI 49686 United States;X-APPLE-RADIUS=500;X-TITLE=West South Airport Road:geo:-85.5993179,44.7349488
END:VEVENT
BEGIN:VEVENT
DTSTART;VALUE=DATE:20260310
DTEND;VALUE=DATE:20260311
DTSTAMP:20260422T181905
CREATED:20250818T141252Z
LAST-MODIFIED:20250818T141502Z
UID:10014229-1773100800-1773187199@enjoywhereyouare.today
SUMMARY:Tuesday Special
DESCRIPTION:Every Tuesday! Load up your account with races. Use them anytime.
URL:https://enjoywhereyouare.today/events/tuesday-special/2026-03-10/
LOCATION:K1 Speed\, West South Airport Road\, Traverse City\, MI\, 49686\, United States
CATEGORIES:Daily Specials
ATTACH;FMTTYPE=image/jpeg:https://enjoywhereyouare.today/wp-content/uploads/2025/08/K1-Speed-Tues-Special.jpg
GEO:44.7349488;-85.5993179
X-APPLE-STRUCTURED-LOCATION;VALUE=URI;X-ADDRESS=K1 Speed West South Airport Road Traverse City MI 49686 United States;X-APPLE-RADIUS=500;X-TITLE=West South Airport Road:geo:-85.5993179,44.7349488
END:VEVENT
BEGIN:VEVENT
DTSTART;VALUE=DATE:20260303
DTEND;VALUE=DATE:20260304
DTSTAMP:20260422T181905
CREATED:20250818T141252Z
LAST-MODIFIED:20250818T141502Z
UID:10014228-1772496000-1772582399@enjoywhereyouare.today
SUMMARY:Tuesday Special
DESCRIPTION:Every Tuesday! Load up your account with races. Use them anytime.
URL:https://enjoywhereyouare.today/events/tuesday-special/2026-03-03/
LOCATION:K1 Speed\, West South Airport Road\, Traverse City\, MI\, 49686\, United States
CATEGORIES:Daily Specials
ATTACH;FMTTYPE=image/jpeg:https://enjoywhereyouare.today/wp-content/uploads/2025/08/K1-Speed-Tues-Special.jpg
GEO:44.7349488;-85.5993179
X-APPLE-STRUCTURED-LOCATION;VALUE=URI;X-ADDRESS=K1 Speed West South Airport Road Traverse City MI 49686 United States;X-APPLE-RADIUS=500;X-TITLE=West South Airport Road:geo:-85.5993179,44.7349488
END:VEVENT
BEGIN:VEVENT
DTSTART;VALUE=DATE:20260224
DTEND;VALUE=DATE:20260225
DTSTAMP:20260422T181905
CREATED:20250818T141252Z
LAST-MODIFIED:20250818T141502Z
UID:10014227-1771891200-1771977599@enjoywhereyouare.today
SUMMARY:Tuesday Special
DESCRIPTION:Every Tuesday! Load up your account with races. Use them anytime.
URL:https://enjoywhereyouare.today/events/tuesday-special/2026-02-24/
LOCATION:K1 Speed\, West South Airport Road\, Traverse City\, MI\, 49686\, United States
CATEGORIES:Daily Specials
ATTACH;FMTTYPE=image/jpeg:https://enjoywhereyouare.today/wp-content/uploads/2025/08/K1-Speed-Tues-Special.jpg
GEO:44.7349488;-85.5993179
X-APPLE-STRUCTURED-LOCATION;VALUE=URI;X-ADDRESS=K1 Speed West South Airport Road Traverse City MI 49686 United States;X-APPLE-RADIUS=500;X-TITLE=West South Airport Road:geo:-85.5993179,44.7349488
END:VEVENT
BEGIN:VEVENT
DTSTART;VALUE=DATE:20260217
DTEND;VALUE=DATE:20260218
DTSTAMP:20260422T181905
CREATED:20250818T141252Z
LAST-MODIFIED:20250818T141502Z
UID:10014226-1771286400-1771372799@enjoywhereyouare.today
SUMMARY:Tuesday Special
DESCRIPTION:Every Tuesday! Load up your account with races. Use them anytime.
URL:https://enjoywhereyouare.today/events/tuesday-special/2026-02-17/
LOCATION:K1 Speed\, West South Airport Road\, Traverse City\, MI\, 49686\, United States
CATEGORIES:Daily Specials
ATTACH;FMTTYPE=image/jpeg:https://enjoywhereyouare.today/wp-content/uploads/2025/08/K1-Speed-Tues-Special.jpg
GEO:44.7349488;-85.5993179
X-APPLE-STRUCTURED-LOCATION;VALUE=URI;X-ADDRESS=K1 Speed West South Airport Road Traverse City MI 49686 United States;X-APPLE-RADIUS=500;X-TITLE=West South Airport Road:geo:-85.5993179,44.7349488
END:VEVENT
BEGIN:VEVENT
DTSTART;VALUE=DATE:20260210
DTEND;VALUE=DATE:20260211
DTSTAMP:20260422T181905
CREATED:20250818T141252Z
LAST-MODIFIED:20250818T141502Z
UID:10014225-1770681600-1770767999@enjoywhereyouare.today
SUMMARY:Tuesday Special
DESCRIPTION:Every Tuesday! Load up your account with races. Use them anytime.
URL:https://enjoywhereyouare.today/events/tuesday-special/2026-02-10/
LOCATION:K1 Speed\, West South Airport Road\, Traverse City\, MI\, 49686\, United States
CATEGORIES:Daily Specials
ATTACH;FMTTYPE=image/jpeg:https://enjoywhereyouare.today/wp-content/uploads/2025/08/K1-Speed-Tues-Special.jpg
GEO:44.7349488;-85.5993179
X-APPLE-STRUCTURED-LOCATION;VALUE=URI;X-ADDRESS=K1 Speed West South Airport Road Traverse City MI 49686 United States;X-APPLE-RADIUS=500;X-TITLE=West South Airport Road:geo:-85.5993179,44.7349488
END:VEVENT
BEGIN:VEVENT
DTSTART;VALUE=DATE:20260203
DTEND;VALUE=DATE:20260204
DTSTAMP:20260422T181905
CREATED:20250818T141252Z
LAST-MODIFIED:20250818T141502Z
UID:10014224-1770076800-1770163199@enjoywhereyouare.today
SUMMARY:Tuesday Special
DESCRIPTION:Every Tuesday! Load up your account with races. Use them anytime.
URL:https://enjoywhereyouare.today/events/tuesday-special/2026-02-03/
LOCATION:K1 Speed\, West South Airport Road\, Traverse City\, MI\, 49686\, United States
CATEGORIES:Daily Specials
ATTACH;FMTTYPE=image/jpeg:https://enjoywhereyouare.today/wp-content/uploads/2025/08/K1-Speed-Tues-Special.jpg
GEO:44.7349488;-85.5993179
X-APPLE-STRUCTURED-LOCATION;VALUE=URI;X-ADDRESS=K1 Speed West South Airport Road Traverse City MI 49686 United States;X-APPLE-RADIUS=500;X-TITLE=West South Airport Road:geo:-85.5993179,44.7349488
END:VEVENT
BEGIN:VEVENT
DTSTART;VALUE=DATE:20260127
DTEND;VALUE=DATE:20260128
DTSTAMP:20260422T181905
CREATED:20250818T141252Z
LAST-MODIFIED:20250818T141502Z
UID:10014223-1769472000-1769558399@enjoywhereyouare.today
SUMMARY:Tuesday Special
DESCRIPTION:Every Tuesday! Load up your account with races. Use them anytime.
URL:https://enjoywhereyouare.today/events/tuesday-special/2026-01-27/
LOCATION:K1 Speed\, West South Airport Road\, Traverse City\, MI\, 49686\, United States
CATEGORIES:Daily Specials
ATTACH;FMTTYPE=image/jpeg:https://enjoywhereyouare.today/wp-content/uploads/2025/08/K1-Speed-Tues-Special.jpg
GEO:44.7349488;-85.5993179
X-APPLE-STRUCTURED-LOCATION;VALUE=URI;X-ADDRESS=K1 Speed West South Airport Road Traverse City MI 49686 United States;X-APPLE-RADIUS=500;X-TITLE=West South Airport Road:geo:-85.5993179,44.7349488
END:VEVENT
BEGIN:VEVENT
DTSTART;VALUE=DATE:20260120
DTEND;VALUE=DATE:20260121
DTSTAMP:20260422T181905
CREATED:20250818T141252Z
LAST-MODIFIED:20250818T141502Z
UID:10014222-1768867200-1768953599@enjoywhereyouare.today
SUMMARY:Tuesday Special
DESCRIPTION:Every Tuesday! Load up your account with races. Use them anytime.
URL:https://enjoywhereyouare.today/events/tuesday-special/2026-01-20/
LOCATION:K1 Speed\, West South Airport Road\, Traverse City\, MI\, 49686\, United States
CATEGORIES:Daily Specials
ATTACH;FMTTYPE=image/jpeg:https://enjoywhereyouare.today/wp-content/uploads/2025/08/K1-Speed-Tues-Special.jpg
GEO:44.7349488;-85.5993179
X-APPLE-STRUCTURED-LOCATION;VALUE=URI;X-ADDRESS=K1 Speed West South Airport Road Traverse City MI 49686 United States;X-APPLE-RADIUS=500;X-TITLE=West South Airport Road:geo:-85.5993179,44.7349488
END:VEVENT
BEGIN:VEVENT
DTSTART;VALUE=DATE:20260113
DTEND;VALUE=DATE:20260114
DTSTAMP:20260422T181905
CREATED:20250818T141252Z
LAST-MODIFIED:20250818T141502Z
UID:10014221-1768262400-1768348799@enjoywhereyouare.today
SUMMARY:Tuesday Special
DESCRIPTION:Every Tuesday! Load up your account with races. Use them anytime.
URL:https://enjoywhereyouare.today/events/tuesday-special/2026-01-13/
LOCATION:K1 Speed\, West South Airport Road\, Traverse City\, MI\, 49686\, United States
CATEGORIES:Daily Specials
ATTACH;FMTTYPE=image/jpeg:https://enjoywhereyouare.today/wp-content/uploads/2025/08/K1-Speed-Tues-Special.jpg
GEO:44.7349488;-85.5993179
X-APPLE-STRUCTURED-LOCATION;VALUE=URI;X-ADDRESS=K1 Speed West South Airport Road Traverse City MI 49686 United States;X-APPLE-RADIUS=500;X-TITLE=West South Airport Road:geo:-85.5993179,44.7349488
END:VEVENT
BEGIN:VEVENT
DTSTART;VALUE=DATE:20260106
DTEND;VALUE=DATE:20260107
DTSTAMP:20260422T181905
CREATED:20250818T141252Z
LAST-MODIFIED:20250818T141502Z
UID:10014220-1767657600-1767743999@enjoywhereyouare.today
SUMMARY:Tuesday Special
DESCRIPTION:Every Tuesday! Load up your account with races. Use them anytime.
URL:https://enjoywhereyouare.today/events/tuesday-special/2026-01-06/
LOCATION:K1 Speed\, West South Airport Road\, Traverse City\, MI\, 49686\, United States
CATEGORIES:Daily Specials
ATTACH;FMTTYPE=image/jpeg:https://enjoywhereyouare.today/wp-content/uploads/2025/08/K1-Speed-Tues-Special.jpg
GEO:44.7349488;-85.5993179
X-APPLE-STRUCTURED-LOCATION;VALUE=URI;X-ADDRESS=K1 Speed West South Airport Road Traverse City MI 49686 United States;X-APPLE-RADIUS=500;X-TITLE=West South Airport Road:geo:-85.5993179,44.7349488
END:VEVENT
BEGIN:VEVENT
DTSTART;VALUE=DATE:20251230
DTEND;VALUE=DATE:20251231
DTSTAMP:20260422T181905
CREATED:20250818T141252Z
LAST-MODIFIED:20250818T141502Z
UID:10014219-1767052800-1767139199@enjoywhereyouare.today
SUMMARY:Tuesday Special
DESCRIPTION:Every Tuesday! Load up your account with races. Use them anytime.
URL:https://enjoywhereyouare.today/events/tuesday-special/2025-12-30/
LOCATION:K1 Speed\, West South Airport Road\, Traverse City\, MI\, 49686\, United States
CATEGORIES:Daily Specials
ATTACH;FMTTYPE=image/jpeg:https://enjoywhereyouare.today/wp-content/uploads/2025/08/K1-Speed-Tues-Special.jpg
GEO:44.7349488;-85.5993179
X-APPLE-STRUCTURED-LOCATION;VALUE=URI;X-ADDRESS=K1 Speed West South Airport Road Traverse City MI 49686 United States;X-APPLE-RADIUS=500;X-TITLE=West South Airport Road:geo:-85.5993179,44.7349488
END:VEVENT
BEGIN:VEVENT
DTSTART;VALUE=DATE:20251223
DTEND;VALUE=DATE:20251224
DTSTAMP:20260422T181905
CREATED:20250818T141252Z
LAST-MODIFIED:20250818T141502Z
UID:10014218-1766448000-1766534399@enjoywhereyouare.today
SUMMARY:Tuesday Special
DESCRIPTION:Every Tuesday! Load up your account with races. Use them anytime.
URL:https://enjoywhereyouare.today/events/tuesday-special/2025-12-23/
LOCATION:K1 Speed\, West South Airport Road\, Traverse City\, MI\, 49686\, United States
CATEGORIES:Daily Specials
ATTACH;FMTTYPE=image/jpeg:https://enjoywhereyouare.today/wp-content/uploads/2025/08/K1-Speed-Tues-Special.jpg
GEO:44.7349488;-85.5993179
X-APPLE-STRUCTURED-LOCATION;VALUE=URI;X-ADDRESS=K1 Speed West South Airport Road Traverse City MI 49686 United States;X-APPLE-RADIUS=500;X-TITLE=West South Airport Road:geo:-85.5993179,44.7349488
END:VEVENT
BEGIN:VEVENT
DTSTART;VALUE=DATE:20251216
DTEND;VALUE=DATE:20251217
DTSTAMP:20260422T181905
CREATED:20250818T141252Z
LAST-MODIFIED:20250818T141502Z
UID:10014217-1765843200-1765929599@enjoywhereyouare.today
SUMMARY:Tuesday Special
DESCRIPTION:Every Tuesday! Load up your account with races. Use them anytime.
URL:https://enjoywhereyouare.today/events/tuesday-special/2025-12-16/
LOCATION:K1 Speed\, West South Airport Road\, Traverse City\, MI\, 49686\, United States
CATEGORIES:Daily Specials
ATTACH;FMTTYPE=image/jpeg:https://enjoywhereyouare.today/wp-content/uploads/2025/08/K1-Speed-Tues-Special.jpg
GEO:44.7349488;-85.5993179
X-APPLE-STRUCTURED-LOCATION;VALUE=URI;X-ADDRESS=K1 Speed West South Airport Road Traverse City MI 49686 United States;X-APPLE-RADIUS=500;X-TITLE=West South Airport Road:geo:-85.5993179,44.7349488
END:VEVENT
BEGIN:VEVENT
DTSTART;VALUE=DATE:20251209
DTEND;VALUE=DATE:20251210
DTSTAMP:20260422T181905
CREATED:20250818T141252Z
LAST-MODIFIED:20250818T141502Z
UID:10014216-1765238400-1765324799@enjoywhereyouare.today
SUMMARY:Tuesday Special
DESCRIPTION:Every Tuesday! Load up your account with races. Use them anytime.
URL:https://enjoywhereyouare.today/events/tuesday-special/2025-12-09/
LOCATION:K1 Speed\, West South Airport Road\, Traverse City\, MI\, 49686\, United States
CATEGORIES:Daily Specials
ATTACH;FMTTYPE=image/jpeg:https://enjoywhereyouare.today/wp-content/uploads/2025/08/K1-Speed-Tues-Special.jpg
GEO:44.7349488;-85.5993179
X-APPLE-STRUCTURED-LOCATION;VALUE=URI;X-ADDRESS=K1 Speed West South Airport Road Traverse City MI 49686 United States;X-APPLE-RADIUS=500;X-TITLE=West South Airport Road:geo:-85.5993179,44.7349488
END:VEVENT
BEGIN:VEVENT
DTSTART;VALUE=DATE:20251202
DTEND;VALUE=DATE:20251203
DTSTAMP:20260422T181905
CREATED:20250818T141252Z
LAST-MODIFIED:20250818T141502Z
UID:10014215-1764633600-1764719999@enjoywhereyouare.today
SUMMARY:Tuesday Special
DESCRIPTION:Every Tuesday! Load up your account with races. Use them anytime.
URL:https://enjoywhereyouare.today/events/tuesday-special/2025-12-02/
LOCATION:K1 Speed\, West South Airport Road\, Traverse City\, MI\, 49686\, United States
CATEGORIES:Daily Specials
ATTACH;FMTTYPE=image/jpeg:https://enjoywhereyouare.today/wp-content/uploads/2025/08/K1-Speed-Tues-Special.jpg
GEO:44.7349488;-85.5993179
X-APPLE-STRUCTURED-LOCATION;VALUE=URI;X-ADDRESS=K1 Speed West South Airport Road Traverse City MI 49686 United States;X-APPLE-RADIUS=500;X-TITLE=West South Airport Road:geo:-85.5993179,44.7349488
END:VEVENT
BEGIN:VEVENT
DTSTART;VALUE=DATE:20251125
DTEND;VALUE=DATE:20251126
DTSTAMP:20260422T181905
CREATED:20250818T141252Z
LAST-MODIFIED:20250818T141502Z
UID:10014214-1764028800-1764115199@enjoywhereyouare.today
SUMMARY:Tuesday Special
DESCRIPTION:Every Tuesday! Load up your account with races. Use them anytime.
URL:https://enjoywhereyouare.today/events/tuesday-special/2025-11-25/
LOCATION:K1 Speed\, West South Airport Road\, Traverse City\, MI\, 49686\, United States
CATEGORIES:Daily Specials
ATTACH;FMTTYPE=image/jpeg:https://enjoywhereyouare.today/wp-content/uploads/2025/08/K1-Speed-Tues-Special.jpg
GEO:44.7349488;-85.5993179
X-APPLE-STRUCTURED-LOCATION;VALUE=URI;X-ADDRESS=K1 Speed West South Airport Road Traverse City MI 49686 United States;X-APPLE-RADIUS=500;X-TITLE=West South Airport Road:geo:-85.5993179,44.7349488
END:VEVENT
BEGIN:VEVENT
DTSTART;VALUE=DATE:20251118
DTEND;VALUE=DATE:20251119
DTSTAMP:20260422T181905
CREATED:20250818T141252Z
LAST-MODIFIED:20250818T141502Z
UID:10014213-1763424000-1763510399@enjoywhereyouare.today
SUMMARY:Tuesday Special
DESCRIPTION:Every Tuesday! Load up your account with races. Use them anytime.
URL:https://enjoywhereyouare.today/events/tuesday-special/2025-11-18/
LOCATION:K1 Speed\, West South Airport Road\, Traverse City\, MI\, 49686\, United States
CATEGORIES:Daily Specials
ATTACH;FMTTYPE=image/jpeg:https://enjoywhereyouare.today/wp-content/uploads/2025/08/K1-Speed-Tues-Special.jpg
GEO:44.7349488;-85.5993179
X-APPLE-STRUCTURED-LOCATION;VALUE=URI;X-ADDRESS=K1 Speed West South Airport Road Traverse City MI 49686 United States;X-APPLE-RADIUS=500;X-TITLE=West South Airport Road:geo:-85.5993179,44.7349488
END:VEVENT
BEGIN:VEVENT
DTSTART;VALUE=DATE:20251111
DTEND;VALUE=DATE:20251112
DTSTAMP:20260422T181905
CREATED:20250818T141252Z
LAST-MODIFIED:20250818T141502Z
UID:10014212-1762819200-1762905599@enjoywhereyouare.today
SUMMARY:Tuesday Special
DESCRIPTION:Every Tuesday! Load up your account with races. Use them anytime.
URL:https://enjoywhereyouare.today/events/tuesday-special/2025-11-11/
LOCATION:K1 Speed\, West South Airport Road\, Traverse City\, MI\, 49686\, United States
CATEGORIES:Daily Specials
ATTACH;FMTTYPE=image/jpeg:https://enjoywhereyouare.today/wp-content/uploads/2025/08/K1-Speed-Tues-Special.jpg
GEO:44.7349488;-85.5993179
X-APPLE-STRUCTURED-LOCATION;VALUE=URI;X-ADDRESS=K1 Speed West South Airport Road Traverse City MI 49686 United States;X-APPLE-RADIUS=500;X-TITLE=West South Airport Road:geo:-85.5993179,44.7349488
END:VEVENT
BEGIN:VEVENT
DTSTART;VALUE=DATE:20251104
DTEND;VALUE=DATE:20251105
DTSTAMP:20260422T181905
CREATED:20250818T141252Z
LAST-MODIFIED:20250818T141502Z
UID:10014211-1762214400-1762300799@enjoywhereyouare.today
SUMMARY:Tuesday Special
DESCRIPTION:Every Tuesday! Load up your account with races. Use them anytime.
URL:https://enjoywhereyouare.today/events/tuesday-special/2025-11-04/
LOCATION:K1 Speed\, West South Airport Road\, Traverse City\, MI\, 49686\, United States
CATEGORIES:Daily Specials
ATTACH;FMTTYPE=image/jpeg:https://enjoywhereyouare.today/wp-content/uploads/2025/08/K1-Speed-Tues-Special.jpg
GEO:44.7349488;-85.5993179
X-APPLE-STRUCTURED-LOCATION;VALUE=URI;X-ADDRESS=K1 Speed West South Airport Road Traverse City MI 49686 United States;X-APPLE-RADIUS=500;X-TITLE=West South Airport Road:geo:-85.5993179,44.7349488
END:VEVENT
BEGIN:VEVENT
DTSTART;VALUE=DATE:20251028
DTEND;VALUE=DATE:20251029
DTSTAMP:20260422T181905
CREATED:20250818T141252Z
LAST-MODIFIED:20250818T141502Z
UID:10014210-1761609600-1761695999@enjoywhereyouare.today
SUMMARY:Tuesday Special
DESCRIPTION:Every Tuesday! Load up your account with races. Use them anytime.
URL:https://enjoywhereyouare.today/events/tuesday-special/2025-10-28/
LOCATION:K1 Speed\, West South Airport Road\, Traverse City\, MI\, 49686\, United States
CATEGORIES:Daily Specials
ATTACH;FMTTYPE=image/jpeg:https://enjoywhereyouare.today/wp-content/uploads/2025/08/K1-Speed-Tues-Special.jpg
GEO:44.7349488;-85.5993179
X-APPLE-STRUCTURED-LOCATION;VALUE=URI;X-ADDRESS=K1 Speed West South Airport Road Traverse City MI 49686 United States;X-APPLE-RADIUS=500;X-TITLE=West South Airport Road:geo:-85.5993179,44.7349488
END:VEVENT
BEGIN:VEVENT
DTSTART;VALUE=DATE:20251021
DTEND;VALUE=DATE:20251022
DTSTAMP:20260422T181905
CREATED:20250818T141252Z
LAST-MODIFIED:20250818T141502Z
UID:10014209-1761004800-1761091199@enjoywhereyouare.today
SUMMARY:Tuesday Special
DESCRIPTION:Every Tuesday! Load up your account with races. Use them anytime.
URL:https://enjoywhereyouare.today/events/tuesday-special/2025-10-21/
LOCATION:K1 Speed\, West South Airport Road\, Traverse City\, MI\, 49686\, United States
CATEGORIES:Daily Specials
ATTACH;FMTTYPE=image/jpeg:https://enjoywhereyouare.today/wp-content/uploads/2025/08/K1-Speed-Tues-Special.jpg
GEO:44.7349488;-85.5993179
X-APPLE-STRUCTURED-LOCATION;VALUE=URI;X-ADDRESS=K1 Speed West South Airport Road Traverse City MI 49686 United States;X-APPLE-RADIUS=500;X-TITLE=West South Airport Road:geo:-85.5993179,44.7349488
END:VEVENT
BEGIN:VEVENT
DTSTART;VALUE=DATE:20251014
DTEND;VALUE=DATE:20251015
DTSTAMP:20260422T181905
CREATED:20250818T141252Z
LAST-MODIFIED:20250818T141502Z
UID:10014208-1760400000-1760486399@enjoywhereyouare.today
SUMMARY:Tuesday Special
DESCRIPTION:Every Tuesday! Load up your account with races. Use them anytime.
URL:https://enjoywhereyouare.today/events/tuesday-special/2025-10-14/
LOCATION:K1 Speed\, West South Airport Road\, Traverse City\, MI\, 49686\, United States
CATEGORIES:Daily Specials
ATTACH;FMTTYPE=image/jpeg:https://enjoywhereyouare.today/wp-content/uploads/2025/08/K1-Speed-Tues-Special.jpg
GEO:44.7349488;-85.5993179
X-APPLE-STRUCTURED-LOCATION;VALUE=URI;X-ADDRESS=K1 Speed West South Airport Road Traverse City MI 49686 United States;X-APPLE-RADIUS=500;X-TITLE=West South Airport Road:geo:-85.5993179,44.7349488
END:VEVENT
BEGIN:VEVENT
DTSTART;VALUE=DATE:20251007
DTEND;VALUE=DATE:20251008
DTSTAMP:20260422T181905
CREATED:20250818T141252Z
LAST-MODIFIED:20250818T141502Z
UID:10014207-1759795200-1759881599@enjoywhereyouare.today
SUMMARY:Tuesday Special
DESCRIPTION:Every Tuesday! Load up your account with races. Use them anytime.
URL:https://enjoywhereyouare.today/events/tuesday-special/2025-10-07/
LOCATION:K1 Speed\, West South Airport Road\, Traverse City\, MI\, 49686\, United States
CATEGORIES:Daily Specials
ATTACH;FMTTYPE=image/jpeg:https://enjoywhereyouare.today/wp-content/uploads/2025/08/K1-Speed-Tues-Special.jpg
GEO:44.7349488;-85.5993179
X-APPLE-STRUCTURED-LOCATION;VALUE=URI;X-ADDRESS=K1 Speed West South Airport Road Traverse City MI 49686 United States;X-APPLE-RADIUS=500;X-TITLE=West South Airport Road:geo:-85.5993179,44.7349488
END:VEVENT
BEGIN:VEVENT
DTSTART;VALUE=DATE:20250930
DTEND;VALUE=DATE:20251001
DTSTAMP:20260422T181905
CREATED:20250818T141252Z
LAST-MODIFIED:20250818T141502Z
UID:10014206-1759190400-1759276799@enjoywhereyouare.today
SUMMARY:Tuesday Special
DESCRIPTION:Every Tuesday! Load up your account with races. Use them anytime.
URL:https://enjoywhereyouare.today/events/tuesday-special/2025-09-30/
LOCATION:K1 Speed\, West South Airport Road\, Traverse City\, MI\, 49686\, United States
CATEGORIES:Daily Specials
ATTACH;FMTTYPE=image/jpeg:https://enjoywhereyouare.today/wp-content/uploads/2025/08/K1-Speed-Tues-Special.jpg
GEO:44.7349488;-85.5993179
X-APPLE-STRUCTURED-LOCATION;VALUE=URI;X-ADDRESS=K1 Speed West South Airport Road Traverse City MI 49686 United States;X-APPLE-RADIUS=500;X-TITLE=West South Airport Road:geo:-85.5993179,44.7349488
END:VEVENT
END:VCALENDAR