BEGIN:VCALENDAR
VERSION:2.0
PRODID:-//Enjoy Where You Are - ECPv6.5.2//NONSGML v1.0//EN
CALSCALE:GREGORIAN
METHOD:PUBLISH
X-ORIGINAL-URL:https://enjoywhereyouare.today
X-WR-CALDESC:Events for Enjoy Where You Are
REFRESH-INTERVAL;VALUE=DURATION:PT1H
X-Robots-Tag:noindex
X-PUBLISHED-TTL:PT1H
BEGIN:VTIMEZONE
TZID:America/New_York
BEGIN:DAYLIGHT
TZOFFSETFROM:-0500
TZOFFSETTO:-0400
TZNAME:EDT
DTSTART:20240310T070000
END:DAYLIGHT
BEGIN:STANDARD
TZOFFSETFROM:-0400
TZOFFSETTO:-0500
TZNAME:EST
DTSTART:20241103T060000
END:STANDARD
END:VTIMEZONE
BEGIN:VEVENT
DTSTART;TZID=America/New_York:20241011T190000
DTEND;TZID=America/New_York:20241011T223000
DTSTAMP:20260425T081017
CREATED:20241004T161951Z
LAST-MODIFIED:20241004T194659Z
UID:10009649-1728673200-1728685800@enjoywhereyouare.today
SUMMARY:Uncork Up North
DESCRIPTION:A BENEFIT FOR BREAST CANCER \nUncork for a Cure travels to Traverse City to bring their signature event\, Uncork Up North to the highly exclusive Hagerty Garage.\nFollowing the success of last year’s inaugural event\, this year promises to be an even more memorable occasion.\nGuests can enjoy a strolling dinner\, curated by Northern Michigan’s most renowned chefs\, each bringing their unique culinary expertise to the table. Wine pairings will be expertly chosen by owner and Advance Sommelier\, Amanda Danielson of Trattoria Stella and an esteemed team of wine professionals across the state. \nVIP HOUR 6-7pm \nTICKETS (here)
URL:https://enjoywhereyouare.today/events/uncork-up-north/
LOCATION:Hagerty Garage\, Aero-Park Drive\, Traverse City\, Michigan\, 49686\, United States
CATEGORIES:Festivals and Events
ATTACH;FMTTYPE=image/png:https://enjoywhereyouare.today/wp-content/uploads/2024/10/Uncork-Up-North.png
GEO:44.7423465;-85.5642964
X-APPLE-STRUCTURED-LOCATION;VALUE=URI;X-ADDRESS=Hagerty Garage Aero-Park Drive Traverse City Michigan 49686 United States;X-APPLE-RADIUS=500;X-TITLE=Aero-Park Drive:geo:-85.5642964,44.7423465
END:VEVENT
END:VCALENDAR