BEGIN:VCALENDAR
VERSION:2.0
PRODID:-//Enjoy Where You Are - ECPv6.5.2//NONSGML v1.0//EN
CALSCALE:GREGORIAN
METHOD:PUBLISH
X-WR-CALNAME:Enjoy Where You Are
X-ORIGINAL-URL:https://enjoywhereyouare.today
X-WR-CALDESC:Events for Enjoy Where You Are
REFRESH-INTERVAL;VALUE=DURATION:PT1H
X-Robots-Tag:noindex
X-PUBLISHED-TTL:PT1H
BEGIN:VTIMEZONE
TZID:America/New_York
BEGIN:DAYLIGHT
TZOFFSETFROM:-0500
TZOFFSETTO:-0400
TZNAME:EDT
DTSTART:20260308T070000
END:DAYLIGHT
BEGIN:STANDARD
TZOFFSETFROM:-0400
TZOFFSETTO:-0500
TZNAME:EST
DTSTART:20261101T060000
END:STANDARD
END:VTIMEZONE
BEGIN:VEVENT
DTSTART;TZID=America/New_York:20260211T160000
DTEND;TZID=America/New_York:20260211T180000
DTSTAMP:20260422T194720
CREATED:20251126T131435Z
LAST-MODIFIED:20260126T224503Z
UID:10014984-1770825600-1770832800@enjoywhereyouare.today
SUMMARY:Happy Hour
DESCRIPTION:$4 Canned Cocktails \n1/2 Off Classic Cocktails & Spirit + Mixers
URL:https://enjoywhereyouare.today/events/happy-hour-7/2026-02-11/
LOCATION:Gypsy Spirits\, West Front Street\, Traverse City\, MI\, 49684\, United States
CATEGORIES:*Downtown TC and Traverse City,Daily Specials
ATTACH;FMTTYPE=image/jpeg:https://enjoywhereyouare.today/wp-content/uploads/2025/11/Gypsy-Spirits.jpg
GEO:44.7635954;-85.6270257
X-APPLE-STRUCTURED-LOCATION;VALUE=URI;X-ADDRESS=Gypsy Spirits West Front Street Traverse City MI 49684 United States;X-APPLE-RADIUS=500;X-TITLE=West Front Street:geo:-85.6270257,44.7635954
END:VEVENT
BEGIN:VEVENT
DTSTART;TZID=America/New_York:20260210T160000
DTEND;TZID=America/New_York:20260210T220000
DTSTAMP:20260422T194720
CREATED:20260129T150516Z
LAST-MODIFIED:20260129T150516Z
UID:10015931-1770739200-1770760800@enjoywhereyouare.today
SUMMARY:TINI TUESDAYS
DESCRIPTION:$7 Dirty and Dry Martinis all night!
URL:https://enjoywhereyouare.today/events/tini-tuesdays/2026-02-10/
LOCATION:Gypsy Spirits\, West Front Street\, Traverse City\, MI\, 49684\, United States
CATEGORIES:Daily Specials
ATTACH;FMTTYPE=image/png:https://enjoywhereyouare.today/wp-content/uploads/2026/01/Gypsy-Tini-Tuesday.png
GEO:44.7635954;-85.6270257
X-APPLE-STRUCTURED-LOCATION;VALUE=URI;X-ADDRESS=Gypsy Spirits West Front Street Traverse City MI 49684 United States;X-APPLE-RADIUS=500;X-TITLE=West Front Street:geo:-85.6270257,44.7635954
END:VEVENT
BEGIN:VEVENT
DTSTART;TZID=America/New_York:20260210T160000
DTEND;TZID=America/New_York:20260210T180000
DTSTAMP:20260422T194720
CREATED:20251126T131435Z
LAST-MODIFIED:20260126T224503Z
UID:10014983-1770739200-1770746400@enjoywhereyouare.today
SUMMARY:Happy Hour
DESCRIPTION:$4 Canned Cocktails \n1/2 Off Classic Cocktails & Spirit + Mixers
URL:https://enjoywhereyouare.today/events/happy-hour-7/2026-02-10/
LOCATION:Gypsy Spirits\, West Front Street\, Traverse City\, MI\, 49684\, United States
CATEGORIES:*Downtown TC and Traverse City,Daily Specials
ATTACH;FMTTYPE=image/jpeg:https://enjoywhereyouare.today/wp-content/uploads/2025/11/Gypsy-Spirits.jpg
GEO:44.7635954;-85.6270257
X-APPLE-STRUCTURED-LOCATION;VALUE=URI;X-ADDRESS=Gypsy Spirits West Front Street Traverse City MI 49684 United States;X-APPLE-RADIUS=500;X-TITLE=West Front Street:geo:-85.6270257,44.7635954
END:VEVENT
BEGIN:VEVENT
DTSTART;TZID=America/New_York:20260209T160000
DTEND;TZID=America/New_York:20260209T220000
DTSTAMP:20260422T194720
CREATED:20260126T224043Z
LAST-MODIFIED:20260128T182139Z
UID:10015720-1770652800-1770674400@enjoywhereyouare.today
SUMMARY:MENS NIGHT
DESCRIPTION:1/2 OFF All Drinks!
URL:https://enjoywhereyouare.today/events/mens-night-2/2026-02-09/
LOCATION:Gypsy Spirits\, West Front Street\, Traverse City\, MI\, 49684\, United States
CATEGORIES:*Downtown TC and Traverse City,Daily Specials
ATTACH;FMTTYPE=image/png:https://enjoywhereyouare.today/wp-content/uploads/2026/01/Gypsy-Mens-Night-2.png
GEO:44.7635954;-85.6270257
X-APPLE-STRUCTURED-LOCATION;VALUE=URI;X-ADDRESS=Gypsy Spirits West Front Street Traverse City MI 49684 United States;X-APPLE-RADIUS=500;X-TITLE=West Front Street:geo:-85.6270257,44.7635954
END:VEVENT
BEGIN:VEVENT
DTSTART;TZID=America/New_York:20260209T160000
DTEND;TZID=America/New_York:20260209T180000
DTSTAMP:20260422T194720
CREATED:20251126T131435Z
LAST-MODIFIED:20260126T224503Z
UID:10014982-1770652800-1770660000@enjoywhereyouare.today
SUMMARY:Happy Hour
DESCRIPTION:$4 Canned Cocktails \n1/2 Off Classic Cocktails & Spirit + Mixers
URL:https://enjoywhereyouare.today/events/happy-hour-7/2026-02-09/
LOCATION:Gypsy Spirits\, West Front Street\, Traverse City\, MI\, 49684\, United States
CATEGORIES:*Downtown TC and Traverse City,Daily Specials
ATTACH;FMTTYPE=image/jpeg:https://enjoywhereyouare.today/wp-content/uploads/2025/11/Gypsy-Spirits.jpg
GEO:44.7635954;-85.6270257
X-APPLE-STRUCTURED-LOCATION;VALUE=URI;X-ADDRESS=Gypsy Spirits West Front Street Traverse City MI 49684 United States;X-APPLE-RADIUS=500;X-TITLE=West Front Street:geo:-85.6270257,44.7635954
END:VEVENT
BEGIN:VEVENT
DTSTART;TZID=America/New_York:20260205T160000
DTEND;TZID=America/New_York:20260205T220000
DTSTAMP:20260422T194720
CREATED:20260127T162238Z
LAST-MODIFIED:20260129T142759Z
UID:10015825-1770307200-1770328800@enjoywhereyouare.today
SUMMARY:LADIES NIGHT
DESCRIPTION:1/2 OFF All Drinks!
URL:https://enjoywhereyouare.today/events/ladies-night-2/2026-02-05/
LOCATION:Gypsy Spirits\, West Front Street\, Traverse City\, MI\, 49684\, United States
CATEGORIES:*Downtown TC and Traverse City,Daily Specials
ATTACH;FMTTYPE=image/png:https://enjoywhereyouare.today/wp-content/uploads/2026/01/Gypsy-Ladies-Night-1.png
GEO:44.7635954;-85.6270257
X-APPLE-STRUCTURED-LOCATION;VALUE=URI;X-ADDRESS=Gypsy Spirits West Front Street Traverse City MI 49684 United States;X-APPLE-RADIUS=500;X-TITLE=West Front Street:geo:-85.6270257,44.7635954
END:VEVENT
BEGIN:VEVENT
DTSTART;TZID=America/New_York:20260205T160000
DTEND;TZID=America/New_York:20260205T180000
DTSTAMP:20260422T194720
CREATED:20251126T131435Z
LAST-MODIFIED:20260126T224503Z
UID:10014978-1770307200-1770314400@enjoywhereyouare.today
SUMMARY:Happy Hour
DESCRIPTION:$4 Canned Cocktails \n1/2 Off Classic Cocktails & Spirit + Mixers
URL:https://enjoywhereyouare.today/events/happy-hour-7/2026-02-05/
LOCATION:Gypsy Spirits\, West Front Street\, Traverse City\, MI\, 49684\, United States
CATEGORIES:*Downtown TC and Traverse City,Daily Specials
ATTACH;FMTTYPE=image/jpeg:https://enjoywhereyouare.today/wp-content/uploads/2025/11/Gypsy-Spirits.jpg
GEO:44.7635954;-85.6270257
X-APPLE-STRUCTURED-LOCATION;VALUE=URI;X-ADDRESS=Gypsy Spirits West Front Street Traverse City MI 49684 United States;X-APPLE-RADIUS=500;X-TITLE=West Front Street:geo:-85.6270257,44.7635954
END:VEVENT
BEGIN:VEVENT
DTSTART;TZID=America/New_York:20260204T170000
DTEND;TZID=America/New_York:20260204T210000
DTSTAMP:20260422T194720
CREATED:20260127T195116Z
LAST-MODIFIED:20260129T161720Z
UID:10015947-1770224400-1770238800@enjoywhereyouare.today
SUMMARY:MOVIE NIGHT!
DESCRIPTION:MOVIE WATCH PARTY!\nDouble Feature every Wednesday!\nJanuary 28th\n5pm – Blades of Glory\n7pm – I\, Tonya \nFebruary 4th\n5pm – Mighty Ducks\n7pm – Cool Runnings
URL:https://enjoywhereyouare.today/events/movie-night-2/2026-02-04/
LOCATION:Gypsy Spirits\, West Front Street\, Traverse City\, MI\, 49684\, United States
CATEGORIES:*Downtown TC and Traverse City,Daily Specials
ATTACH;FMTTYPE=image/png:https://enjoywhereyouare.today/wp-content/uploads/2026/01/Gypsy-Watch-Party-2.png
GEO:44.7635954;-85.6270257
X-APPLE-STRUCTURED-LOCATION;VALUE=URI;X-ADDRESS=Gypsy Spirits West Front Street Traverse City MI 49684 United States;X-APPLE-RADIUS=500;X-TITLE=West Front Street:geo:-85.6270257,44.7635954
END:VEVENT
BEGIN:VEVENT
DTSTART;TZID=America/New_York:20260204T160000
DTEND;TZID=America/New_York:20260204T180000
DTSTAMP:20260422T194720
CREATED:20251126T131435Z
LAST-MODIFIED:20260126T224503Z
UID:10014977-1770220800-1770228000@enjoywhereyouare.today
SUMMARY:Happy Hour
DESCRIPTION:$4 Canned Cocktails \n1/2 Off Classic Cocktails & Spirit + Mixers
URL:https://enjoywhereyouare.today/events/happy-hour-7/2026-02-04/
LOCATION:Gypsy Spirits\, West Front Street\, Traverse City\, MI\, 49684\, United States
CATEGORIES:*Downtown TC and Traverse City,Daily Specials
ATTACH;FMTTYPE=image/jpeg:https://enjoywhereyouare.today/wp-content/uploads/2025/11/Gypsy-Spirits.jpg
GEO:44.7635954;-85.6270257
X-APPLE-STRUCTURED-LOCATION;VALUE=URI;X-ADDRESS=Gypsy Spirits West Front Street Traverse City MI 49684 United States;X-APPLE-RADIUS=500;X-TITLE=West Front Street:geo:-85.6270257,44.7635954
END:VEVENT
BEGIN:VEVENT
DTSTART;TZID=America/New_York:20260203T160000
DTEND;TZID=America/New_York:20260203T220000
DTSTAMP:20260422T194720
CREATED:20260129T150516Z
LAST-MODIFIED:20260129T150516Z
UID:10015930-1770134400-1770156000@enjoywhereyouare.today
SUMMARY:TINI TUESDAYS
DESCRIPTION:$7 Dirty and Dry Martinis all night!
URL:https://enjoywhereyouare.today/events/tini-tuesdays/2026-02-03/
LOCATION:Gypsy Spirits\, West Front Street\, Traverse City\, MI\, 49684\, United States
CATEGORIES:Daily Specials
ATTACH;FMTTYPE=image/png:https://enjoywhereyouare.today/wp-content/uploads/2026/01/Gypsy-Tini-Tuesday.png
GEO:44.7635954;-85.6270257
X-APPLE-STRUCTURED-LOCATION;VALUE=URI;X-ADDRESS=Gypsy Spirits West Front Street Traverse City MI 49684 United States;X-APPLE-RADIUS=500;X-TITLE=West Front Street:geo:-85.6270257,44.7635954
END:VEVENT
BEGIN:VEVENT
DTSTART;TZID=America/New_York:20260203T160000
DTEND;TZID=America/New_York:20260203T180000
DTSTAMP:20260422T194720
CREATED:20251126T131435Z
LAST-MODIFIED:20260126T224503Z
UID:10014976-1770134400-1770141600@enjoywhereyouare.today
SUMMARY:Happy Hour
DESCRIPTION:$4 Canned Cocktails \n1/2 Off Classic Cocktails & Spirit + Mixers
URL:https://enjoywhereyouare.today/events/happy-hour-7/2026-02-03/
LOCATION:Gypsy Spirits\, West Front Street\, Traverse City\, MI\, 49684\, United States
CATEGORIES:*Downtown TC and Traverse City,Daily Specials
ATTACH;FMTTYPE=image/jpeg:https://enjoywhereyouare.today/wp-content/uploads/2025/11/Gypsy-Spirits.jpg
GEO:44.7635954;-85.6270257
X-APPLE-STRUCTURED-LOCATION;VALUE=URI;X-ADDRESS=Gypsy Spirits West Front Street Traverse City MI 49684 United States;X-APPLE-RADIUS=500;X-TITLE=West Front Street:geo:-85.6270257,44.7635954
END:VEVENT
BEGIN:VEVENT
DTSTART;TZID=America/New_York:20260202T160000
DTEND;TZID=America/New_York:20260202T220000
DTSTAMP:20260422T194720
CREATED:20260126T224043Z
LAST-MODIFIED:20260128T182139Z
UID:10015719-1770048000-1770069600@enjoywhereyouare.today
SUMMARY:MENS NIGHT
DESCRIPTION:1/2 OFF All Drinks!
URL:https://enjoywhereyouare.today/events/mens-night-2/2026-02-02/
LOCATION:Gypsy Spirits\, West Front Street\, Traverse City\, MI\, 49684\, United States
CATEGORIES:*Downtown TC and Traverse City,Daily Specials
ATTACH;FMTTYPE=image/png:https://enjoywhereyouare.today/wp-content/uploads/2026/01/Gypsy-Mens-Night-2.png
GEO:44.7635954;-85.6270257
X-APPLE-STRUCTURED-LOCATION;VALUE=URI;X-ADDRESS=Gypsy Spirits West Front Street Traverse City MI 49684 United States;X-APPLE-RADIUS=500;X-TITLE=West Front Street:geo:-85.6270257,44.7635954
END:VEVENT
BEGIN:VEVENT
DTSTART;TZID=America/New_York:20260202T160000
DTEND;TZID=America/New_York:20260202T180000
DTSTAMP:20260422T194720
CREATED:20251126T131435Z
LAST-MODIFIED:20260126T224503Z
UID:10014975-1770048000-1770055200@enjoywhereyouare.today
SUMMARY:Happy Hour
DESCRIPTION:$4 Canned Cocktails \n1/2 Off Classic Cocktails & Spirit + Mixers
URL:https://enjoywhereyouare.today/events/happy-hour-7/2026-02-02/
LOCATION:Gypsy Spirits\, West Front Street\, Traverse City\, MI\, 49684\, United States
CATEGORIES:*Downtown TC and Traverse City,Daily Specials
ATTACH;FMTTYPE=image/jpeg:https://enjoywhereyouare.today/wp-content/uploads/2025/11/Gypsy-Spirits.jpg
GEO:44.7635954;-85.6270257
X-APPLE-STRUCTURED-LOCATION;VALUE=URI;X-ADDRESS=Gypsy Spirits West Front Street Traverse City MI 49684 United States;X-APPLE-RADIUS=500;X-TITLE=West Front Street:geo:-85.6270257,44.7635954
END:VEVENT
BEGIN:VEVENT
DTSTART;TZID=America/New_York:20260129T160000
DTEND;TZID=America/New_York:20260129T220000
DTSTAMP:20260422T194720
CREATED:20260127T162238Z
LAST-MODIFIED:20260129T142759Z
UID:10015824-1769702400-1769724000@enjoywhereyouare.today
SUMMARY:LADIES NIGHT
DESCRIPTION:1/2 OFF All Drinks!
URL:https://enjoywhereyouare.today/events/ladies-night-2/2026-01-29/
LOCATION:Gypsy Spirits\, West Front Street\, Traverse City\, MI\, 49684\, United States
CATEGORIES:*Downtown TC and Traverse City,Daily Specials
ATTACH;FMTTYPE=image/png:https://enjoywhereyouare.today/wp-content/uploads/2026/01/Gypsy-Ladies-Night-1.png
GEO:44.7635954;-85.6270257
X-APPLE-STRUCTURED-LOCATION;VALUE=URI;X-ADDRESS=Gypsy Spirits West Front Street Traverse City MI 49684 United States;X-APPLE-RADIUS=500;X-TITLE=West Front Street:geo:-85.6270257,44.7635954
END:VEVENT
BEGIN:VEVENT
DTSTART;TZID=America/New_York:20260129T160000
DTEND;TZID=America/New_York:20260129T180000
DTSTAMP:20260422T194720
CREATED:20251126T131435Z
LAST-MODIFIED:20260126T224503Z
UID:10014971-1769702400-1769709600@enjoywhereyouare.today
SUMMARY:Happy Hour
DESCRIPTION:$4 Canned Cocktails \n1/2 Off Classic Cocktails & Spirit + Mixers
URL:https://enjoywhereyouare.today/events/happy-hour-7/2026-01-29/
LOCATION:Gypsy Spirits\, West Front Street\, Traverse City\, MI\, 49684\, United States
CATEGORIES:*Downtown TC and Traverse City,Daily Specials
ATTACH;FMTTYPE=image/jpeg:https://enjoywhereyouare.today/wp-content/uploads/2025/11/Gypsy-Spirits.jpg
GEO:44.7635954;-85.6270257
X-APPLE-STRUCTURED-LOCATION;VALUE=URI;X-ADDRESS=Gypsy Spirits West Front Street Traverse City MI 49684 United States;X-APPLE-RADIUS=500;X-TITLE=West Front Street:geo:-85.6270257,44.7635954
END:VEVENT
BEGIN:VEVENT
DTSTART;TZID=America/New_York:20260128T170000
DTEND;TZID=America/New_York:20260128T210000
DTSTAMP:20260422T194720
CREATED:20260127T195116Z
LAST-MODIFIED:20260129T161720Z
UID:10015877-1769619600-1769634000@enjoywhereyouare.today
SUMMARY:MOVIE NIGHT!
DESCRIPTION:MOVIE WATCH PARTY!\nDouble Feature every Wednesday!\nJanuary 28th\n5pm – Blades of Glory\n7pm – I\, Tonya \nFebruary 4th\n5pm – Mighty Ducks\n7pm – Cool Runnings
URL:https://enjoywhereyouare.today/events/movie-night-2/2026-01-28/
LOCATION:Gypsy Spirits\, West Front Street\, Traverse City\, MI\, 49684\, United States
CATEGORIES:*Downtown TC and Traverse City,Daily Specials
ATTACH;FMTTYPE=image/png:https://enjoywhereyouare.today/wp-content/uploads/2026/01/Gypsy-Watch-Party-2.png
GEO:44.7635954;-85.6270257
X-APPLE-STRUCTURED-LOCATION;VALUE=URI;X-ADDRESS=Gypsy Spirits West Front Street Traverse City MI 49684 United States;X-APPLE-RADIUS=500;X-TITLE=West Front Street:geo:-85.6270257,44.7635954
END:VEVENT
BEGIN:VEVENT
DTSTART;TZID=America/New_York:20260128T160000
DTEND;TZID=America/New_York:20260128T180000
DTSTAMP:20260422T194720
CREATED:20251126T131435Z
LAST-MODIFIED:20260126T224503Z
UID:10014970-1769616000-1769623200@enjoywhereyouare.today
SUMMARY:Happy Hour
DESCRIPTION:$4 Canned Cocktails \n1/2 Off Classic Cocktails & Spirit + Mixers
URL:https://enjoywhereyouare.today/events/happy-hour-7/2026-01-28/
LOCATION:Gypsy Spirits\, West Front Street\, Traverse City\, MI\, 49684\, United States
CATEGORIES:*Downtown TC and Traverse City,Daily Specials
ATTACH;FMTTYPE=image/jpeg:https://enjoywhereyouare.today/wp-content/uploads/2025/11/Gypsy-Spirits.jpg
GEO:44.7635954;-85.6270257
X-APPLE-STRUCTURED-LOCATION;VALUE=URI;X-ADDRESS=Gypsy Spirits West Front Street Traverse City MI 49684 United States;X-APPLE-RADIUS=500;X-TITLE=West Front Street:geo:-85.6270257,44.7635954
END:VEVENT
BEGIN:VEVENT
DTSTART;TZID=America/New_York:20260127T160000
DTEND;TZID=America/New_York:20260127T220000
DTSTAMP:20260422T194720
CREATED:20260129T150516Z
LAST-MODIFIED:20260129T150516Z
UID:10015929-1769529600-1769551200@enjoywhereyouare.today
SUMMARY:TINI TUESDAYS
DESCRIPTION:$7 Dirty and Dry Martinis all night!
URL:https://enjoywhereyouare.today/events/tini-tuesdays/2026-01-27/
LOCATION:Gypsy Spirits\, West Front Street\, Traverse City\, MI\, 49684\, United States
CATEGORIES:Daily Specials
ATTACH;FMTTYPE=image/png:https://enjoywhereyouare.today/wp-content/uploads/2026/01/Gypsy-Tini-Tuesday.png
GEO:44.7635954;-85.6270257
X-APPLE-STRUCTURED-LOCATION;VALUE=URI;X-ADDRESS=Gypsy Spirits West Front Street Traverse City MI 49684 United States;X-APPLE-RADIUS=500;X-TITLE=West Front Street:geo:-85.6270257,44.7635954
END:VEVENT
BEGIN:VEVENT
DTSTART;TZID=America/New_York:20260127T160000
DTEND;TZID=America/New_York:20260127T180000
DTSTAMP:20260422T194720
CREATED:20251126T131435Z
LAST-MODIFIED:20260126T224503Z
UID:10014969-1769529600-1769536800@enjoywhereyouare.today
SUMMARY:Happy Hour
DESCRIPTION:$4 Canned Cocktails \n1/2 Off Classic Cocktails & Spirit + Mixers
URL:https://enjoywhereyouare.today/events/happy-hour-7/2026-01-27/
LOCATION:Gypsy Spirits\, West Front Street\, Traverse City\, MI\, 49684\, United States
CATEGORIES:*Downtown TC and Traverse City,Daily Specials
ATTACH;FMTTYPE=image/jpeg:https://enjoywhereyouare.today/wp-content/uploads/2025/11/Gypsy-Spirits.jpg
GEO:44.7635954;-85.6270257
X-APPLE-STRUCTURED-LOCATION;VALUE=URI;X-ADDRESS=Gypsy Spirits West Front Street Traverse City MI 49684 United States;X-APPLE-RADIUS=500;X-TITLE=West Front Street:geo:-85.6270257,44.7635954
END:VEVENT
BEGIN:VEVENT
DTSTART;TZID=America/New_York:20260126T160000
DTEND;TZID=America/New_York:20260126T220000
DTSTAMP:20260422T194720
CREATED:20260127T194920Z
LAST-MODIFIED:20260129T144207Z
UID:10015876-1769443200-1769464800@enjoywhereyouare.today
SUMMARY:MOVIE NIGHT!
DESCRIPTION:MOVIE WATCH PARTY!\nDouble Feature every Wednesday!\nJanuary 28th\n5pm – Blades of Glory\n7pm – I\, Tonya \nFebruary 4th\n5pm – Mighty Ducks\n7pm – Cool Runnings
URL:https://enjoywhereyouare.today/events/movie-night/2026-01-26/
LOCATION:Gypsy Spirits\, West Front Street\, Traverse City\, MI\, 49684\, United States
CATEGORIES:*Downtown TC and Traverse City,Daily Specials
ATTACH;FMTTYPE=image/png:https://enjoywhereyouare.today/wp-content/uploads/2026/01/Gypsy-Watch-Party-1.png
GEO:44.7635954;-85.6270257
X-APPLE-STRUCTURED-LOCATION;VALUE=URI;X-ADDRESS=Gypsy Spirits West Front Street Traverse City MI 49684 United States;X-APPLE-RADIUS=500;X-TITLE=West Front Street:geo:-85.6270257,44.7635954
END:VEVENT
BEGIN:VEVENT
DTSTART;TZID=America/New_York:20260126T160000
DTEND;TZID=America/New_York:20260126T220000
DTSTAMP:20260422T194720
CREATED:20260126T224043Z
LAST-MODIFIED:20260128T182139Z
UID:10015718-1769443200-1769464800@enjoywhereyouare.today
SUMMARY:MENS NIGHT
DESCRIPTION:1/2 OFF All Drinks!
URL:https://enjoywhereyouare.today/events/mens-night-2/2026-01-26/
LOCATION:Gypsy Spirits\, West Front Street\, Traverse City\, MI\, 49684\, United States
CATEGORIES:*Downtown TC and Traverse City,Daily Specials
ATTACH;FMTTYPE=image/png:https://enjoywhereyouare.today/wp-content/uploads/2026/01/Gypsy-Mens-Night-2.png
GEO:44.7635954;-85.6270257
X-APPLE-STRUCTURED-LOCATION;VALUE=URI;X-ADDRESS=Gypsy Spirits West Front Street Traverse City MI 49684 United States;X-APPLE-RADIUS=500;X-TITLE=West Front Street:geo:-85.6270257,44.7635954
END:VEVENT
BEGIN:VEVENT
DTSTART;TZID=America/New_York:20260126T160000
DTEND;TZID=America/New_York:20260126T180000
DTSTAMP:20260422T194720
CREATED:20251126T131435Z
LAST-MODIFIED:20260126T224503Z
UID:10014968-1769443200-1769450400@enjoywhereyouare.today
SUMMARY:Happy Hour
DESCRIPTION:$4 Canned Cocktails \n1/2 Off Classic Cocktails & Spirit + Mixers
URL:https://enjoywhereyouare.today/events/happy-hour-7/2026-01-26/
LOCATION:Gypsy Spirits\, West Front Street\, Traverse City\, MI\, 49684\, United States
CATEGORIES:*Downtown TC and Traverse City,Daily Specials
ATTACH;FMTTYPE=image/jpeg:https://enjoywhereyouare.today/wp-content/uploads/2025/11/Gypsy-Spirits.jpg
GEO:44.7635954;-85.6270257
X-APPLE-STRUCTURED-LOCATION;VALUE=URI;X-ADDRESS=Gypsy Spirits West Front Street Traverse City MI 49684 United States;X-APPLE-RADIUS=500;X-TITLE=West Front Street:geo:-85.6270257,44.7635954
END:VEVENT
BEGIN:VEVENT
DTSTART;TZID=America/New_York:20260122T160000
DTEND;TZID=America/New_York:20260122T180000
DTSTAMP:20260422T194720
CREATED:20251126T131435Z
LAST-MODIFIED:20260126T224503Z
UID:10014964-1769097600-1769104800@enjoywhereyouare.today
SUMMARY:Happy Hour
DESCRIPTION:$4 Canned Cocktails \n1/2 Off Classic Cocktails & Spirit + Mixers
URL:https://enjoywhereyouare.today/events/happy-hour-7/2026-01-22/
LOCATION:Gypsy Spirits\, West Front Street\, Traverse City\, MI\, 49684\, United States
CATEGORIES:*Downtown TC and Traverse City,Daily Specials
ATTACH;FMTTYPE=image/jpeg:https://enjoywhereyouare.today/wp-content/uploads/2025/11/Gypsy-Spirits.jpg
GEO:44.7635954;-85.6270257
X-APPLE-STRUCTURED-LOCATION;VALUE=URI;X-ADDRESS=Gypsy Spirits West Front Street Traverse City MI 49684 United States;X-APPLE-RADIUS=500;X-TITLE=West Front Street:geo:-85.6270257,44.7635954
END:VEVENT
BEGIN:VEVENT
DTSTART;TZID=America/New_York:20260121T160000
DTEND;TZID=America/New_York:20260121T180000
DTSTAMP:20260422T194720
CREATED:20251126T131435Z
LAST-MODIFIED:20260126T224503Z
UID:10014963-1769011200-1769018400@enjoywhereyouare.today
SUMMARY:Happy Hour
DESCRIPTION:$4 Canned Cocktails \n1/2 Off Classic Cocktails & Spirit + Mixers
URL:https://enjoywhereyouare.today/events/happy-hour-7/2026-01-21/
LOCATION:Gypsy Spirits\, West Front Street\, Traverse City\, MI\, 49684\, United States
CATEGORIES:*Downtown TC and Traverse City,Daily Specials
ATTACH;FMTTYPE=image/jpeg:https://enjoywhereyouare.today/wp-content/uploads/2025/11/Gypsy-Spirits.jpg
GEO:44.7635954;-85.6270257
X-APPLE-STRUCTURED-LOCATION;VALUE=URI;X-ADDRESS=Gypsy Spirits West Front Street Traverse City MI 49684 United States;X-APPLE-RADIUS=500;X-TITLE=West Front Street:geo:-85.6270257,44.7635954
END:VEVENT
BEGIN:VEVENT
DTSTART;TZID=America/New_York:20260120T160000
DTEND;TZID=America/New_York:20260120T180000
DTSTAMP:20260422T194720
CREATED:20251126T131435Z
LAST-MODIFIED:20260126T224503Z
UID:10014962-1768924800-1768932000@enjoywhereyouare.today
SUMMARY:Happy Hour
DESCRIPTION:$4 Canned Cocktails \n1/2 Off Classic Cocktails & Spirit + Mixers
URL:https://enjoywhereyouare.today/events/happy-hour-7/2026-01-20/
LOCATION:Gypsy Spirits\, West Front Street\, Traverse City\, MI\, 49684\, United States
CATEGORIES:*Downtown TC and Traverse City,Daily Specials
ATTACH;FMTTYPE=image/jpeg:https://enjoywhereyouare.today/wp-content/uploads/2025/11/Gypsy-Spirits.jpg
GEO:44.7635954;-85.6270257
X-APPLE-STRUCTURED-LOCATION;VALUE=URI;X-ADDRESS=Gypsy Spirits West Front Street Traverse City MI 49684 United States;X-APPLE-RADIUS=500;X-TITLE=West Front Street:geo:-85.6270257,44.7635954
END:VEVENT
BEGIN:VEVENT
DTSTART;TZID=America/New_York:20260119T160000
DTEND;TZID=America/New_York:20260119T180000
DTSTAMP:20260422T194720
CREATED:20251126T131435Z
LAST-MODIFIED:20260126T224503Z
UID:10014961-1768838400-1768845600@enjoywhereyouare.today
SUMMARY:Happy Hour
DESCRIPTION:$4 Canned Cocktails \n1/2 Off Classic Cocktails & Spirit + Mixers
URL:https://enjoywhereyouare.today/events/happy-hour-7/2026-01-19/
LOCATION:Gypsy Spirits\, West Front Street\, Traverse City\, MI\, 49684\, United States
CATEGORIES:*Downtown TC and Traverse City,Daily Specials
ATTACH;FMTTYPE=image/jpeg:https://enjoywhereyouare.today/wp-content/uploads/2025/11/Gypsy-Spirits.jpg
GEO:44.7635954;-85.6270257
X-APPLE-STRUCTURED-LOCATION;VALUE=URI;X-ADDRESS=Gypsy Spirits West Front Street Traverse City MI 49684 United States;X-APPLE-RADIUS=500;X-TITLE=West Front Street:geo:-85.6270257,44.7635954
END:VEVENT
BEGIN:VEVENT
DTSTART;TZID=America/New_York:20260115T160000
DTEND;TZID=America/New_York:20260115T180000
DTSTAMP:20260422T194720
CREATED:20251126T131435Z
LAST-MODIFIED:20260126T224503Z
UID:10014957-1768492800-1768500000@enjoywhereyouare.today
SUMMARY:Happy Hour
DESCRIPTION:$4 Canned Cocktails \n1/2 Off Classic Cocktails & Spirit + Mixers
URL:https://enjoywhereyouare.today/events/happy-hour-7/2026-01-15/
LOCATION:Gypsy Spirits\, West Front Street\, Traverse City\, MI\, 49684\, United States
CATEGORIES:*Downtown TC and Traverse City,Daily Specials
ATTACH;FMTTYPE=image/jpeg:https://enjoywhereyouare.today/wp-content/uploads/2025/11/Gypsy-Spirits.jpg
GEO:44.7635954;-85.6270257
X-APPLE-STRUCTURED-LOCATION;VALUE=URI;X-ADDRESS=Gypsy Spirits West Front Street Traverse City MI 49684 United States;X-APPLE-RADIUS=500;X-TITLE=West Front Street:geo:-85.6270257,44.7635954
END:VEVENT
BEGIN:VEVENT
DTSTART;TZID=America/New_York:20260114T160000
DTEND;TZID=America/New_York:20260114T180000
DTSTAMP:20260422T194720
CREATED:20251126T131435Z
LAST-MODIFIED:20260126T224503Z
UID:10014956-1768406400-1768413600@enjoywhereyouare.today
SUMMARY:Happy Hour
DESCRIPTION:$4 Canned Cocktails \n1/2 Off Classic Cocktails & Spirit + Mixers
URL:https://enjoywhereyouare.today/events/happy-hour-7/2026-01-14/
LOCATION:Gypsy Spirits\, West Front Street\, Traverse City\, MI\, 49684\, United States
CATEGORIES:*Downtown TC and Traverse City,Daily Specials
ATTACH;FMTTYPE=image/jpeg:https://enjoywhereyouare.today/wp-content/uploads/2025/11/Gypsy-Spirits.jpg
GEO:44.7635954;-85.6270257
X-APPLE-STRUCTURED-LOCATION;VALUE=URI;X-ADDRESS=Gypsy Spirits West Front Street Traverse City MI 49684 United States;X-APPLE-RADIUS=500;X-TITLE=West Front Street:geo:-85.6270257,44.7635954
END:VEVENT
BEGIN:VEVENT
DTSTART;TZID=America/New_York:20260113T160000
DTEND;TZID=America/New_York:20260113T180000
DTSTAMP:20260422T194720
CREATED:20251126T131435Z
LAST-MODIFIED:20260126T224503Z
UID:10014955-1768320000-1768327200@enjoywhereyouare.today
SUMMARY:Happy Hour
DESCRIPTION:$4 Canned Cocktails \n1/2 Off Classic Cocktails & Spirit + Mixers
URL:https://enjoywhereyouare.today/events/happy-hour-7/2026-01-13/
LOCATION:Gypsy Spirits\, West Front Street\, Traverse City\, MI\, 49684\, United States
CATEGORIES:*Downtown TC and Traverse City,Daily Specials
ATTACH;FMTTYPE=image/jpeg:https://enjoywhereyouare.today/wp-content/uploads/2025/11/Gypsy-Spirits.jpg
GEO:44.7635954;-85.6270257
X-APPLE-STRUCTURED-LOCATION;VALUE=URI;X-ADDRESS=Gypsy Spirits West Front Street Traverse City MI 49684 United States;X-APPLE-RADIUS=500;X-TITLE=West Front Street:geo:-85.6270257,44.7635954
END:VEVENT
BEGIN:VEVENT
DTSTART;TZID=America/New_York:20260112T160000
DTEND;TZID=America/New_York:20260112T180000
DTSTAMP:20260422T194720
CREATED:20251126T131435Z
LAST-MODIFIED:20260126T224503Z
UID:10014954-1768233600-1768240800@enjoywhereyouare.today
SUMMARY:Happy Hour
DESCRIPTION:$4 Canned Cocktails \n1/2 Off Classic Cocktails & Spirit + Mixers
URL:https://enjoywhereyouare.today/events/happy-hour-7/2026-01-12/
LOCATION:Gypsy Spirits\, West Front Street\, Traverse City\, MI\, 49684\, United States
CATEGORIES:*Downtown TC and Traverse City,Daily Specials
ATTACH;FMTTYPE=image/jpeg:https://enjoywhereyouare.today/wp-content/uploads/2025/11/Gypsy-Spirits.jpg
GEO:44.7635954;-85.6270257
X-APPLE-STRUCTURED-LOCATION;VALUE=URI;X-ADDRESS=Gypsy Spirits West Front Street Traverse City MI 49684 United States;X-APPLE-RADIUS=500;X-TITLE=West Front Street:geo:-85.6270257,44.7635954
END:VEVENT
END:VCALENDAR