BEGIN:VCALENDAR
VERSION:2.0
PRODID:-//Enjoy Where You Are - ECPv6.5.2//NONSGML v1.0//EN
CALSCALE:GREGORIAN
METHOD:PUBLISH
X-WR-CALNAME:Enjoy Where You Are
X-ORIGINAL-URL:https://enjoywhereyouare.today
X-WR-CALDESC:Events for Enjoy Where You Are
REFRESH-INTERVAL;VALUE=DURATION:PT1H
X-Robots-Tag:noindex
X-PUBLISHED-TTL:PT1H
BEGIN:VTIMEZONE
TZID:America/New_York
BEGIN:DAYLIGHT
TZOFFSETFROM:-0500
TZOFFSETTO:-0400
TZNAME:EDT
DTSTART:20260308T070000
END:DAYLIGHT
BEGIN:STANDARD
TZOFFSETFROM:-0400
TZOFFSETTO:-0500
TZNAME:EST
DTSTART:20261101T060000
END:STANDARD
END:VTIMEZONE
BEGIN:VEVENT
DTSTART;TZID=America/New_York:20260629T160000
DTEND;TZID=America/New_York:20260629T180000
DTSTAMP:20260422T164716
CREATED:20251126T131435Z
LAST-MODIFIED:20260126T224503Z
UID:10015122-1782748800-1782756000@enjoywhereyouare.today
SUMMARY:Happy Hour
DESCRIPTION:$4 Canned Cocktails \n1/2 Off Classic Cocktails & Spirit + Mixers
URL:https://enjoywhereyouare.today/events/happy-hour-7/2026-06-29/
LOCATION:Gypsy Spirits\, West Front Street\, Traverse City\, MI\, 49684\, United States
CATEGORIES:*Downtown TC and Traverse City,Daily Specials
ATTACH;FMTTYPE=image/jpeg:https://enjoywhereyouare.today/wp-content/uploads/2025/11/Gypsy-Spirits.jpg
GEO:44.7635954;-85.6270257
X-APPLE-STRUCTURED-LOCATION;VALUE=URI;X-ADDRESS=Gypsy Spirits West Front Street Traverse City MI 49684 United States;X-APPLE-RADIUS=500;X-TITLE=West Front Street:geo:-85.6270257,44.7635954
END:VEVENT
BEGIN:VEVENT
DTSTART;TZID=America/New_York:20260630T160000
DTEND;TZID=America/New_York:20260630T180000
DTSTAMP:20260422T164716
CREATED:20251126T131435Z
LAST-MODIFIED:20260126T224503Z
UID:10015123-1782835200-1782842400@enjoywhereyouare.today
SUMMARY:Happy Hour
DESCRIPTION:$4 Canned Cocktails \n1/2 Off Classic Cocktails & Spirit + Mixers
URL:https://enjoywhereyouare.today/events/happy-hour-7/2026-06-30/
LOCATION:Gypsy Spirits\, West Front Street\, Traverse City\, MI\, 49684\, United States
CATEGORIES:*Downtown TC and Traverse City,Daily Specials
ATTACH;FMTTYPE=image/jpeg:https://enjoywhereyouare.today/wp-content/uploads/2025/11/Gypsy-Spirits.jpg
GEO:44.7635954;-85.6270257
X-APPLE-STRUCTURED-LOCATION;VALUE=URI;X-ADDRESS=Gypsy Spirits West Front Street Traverse City MI 49684 United States;X-APPLE-RADIUS=500;X-TITLE=West Front Street:geo:-85.6270257,44.7635954
END:VEVENT
BEGIN:VEVENT
DTSTART;TZID=America/New_York:20260701T160000
DTEND;TZID=America/New_York:20260701T180000
DTSTAMP:20260422T164716
CREATED:20251126T131435Z
LAST-MODIFIED:20260126T224503Z
UID:10015124-1782921600-1782928800@enjoywhereyouare.today
SUMMARY:Happy Hour
DESCRIPTION:$4 Canned Cocktails \n1/2 Off Classic Cocktails & Spirit + Mixers
URL:https://enjoywhereyouare.today/events/happy-hour-7/2026-07-01/
LOCATION:Gypsy Spirits\, West Front Street\, Traverse City\, MI\, 49684\, United States
CATEGORIES:*Downtown TC and Traverse City,Daily Specials
ATTACH;FMTTYPE=image/jpeg:https://enjoywhereyouare.today/wp-content/uploads/2025/11/Gypsy-Spirits.jpg
GEO:44.7635954;-85.6270257
X-APPLE-STRUCTURED-LOCATION;VALUE=URI;X-ADDRESS=Gypsy Spirits West Front Street Traverse City MI 49684 United States;X-APPLE-RADIUS=500;X-TITLE=West Front Street:geo:-85.6270257,44.7635954
END:VEVENT
BEGIN:VEVENT
DTSTART;TZID=America/New_York:20260702T160000
DTEND;TZID=America/New_York:20260702T180000
DTSTAMP:20260422T164716
CREATED:20251126T131435Z
LAST-MODIFIED:20260126T224503Z
UID:10015125-1783008000-1783015200@enjoywhereyouare.today
SUMMARY:Happy Hour
DESCRIPTION:$4 Canned Cocktails \n1/2 Off Classic Cocktails & Spirit + Mixers
URL:https://enjoywhereyouare.today/events/happy-hour-7/2026-07-02/
LOCATION:Gypsy Spirits\, West Front Street\, Traverse City\, MI\, 49684\, United States
CATEGORIES:*Downtown TC and Traverse City,Daily Specials
ATTACH;FMTTYPE=image/jpeg:https://enjoywhereyouare.today/wp-content/uploads/2025/11/Gypsy-Spirits.jpg
GEO:44.7635954;-85.6270257
X-APPLE-STRUCTURED-LOCATION;VALUE=URI;X-ADDRESS=Gypsy Spirits West Front Street Traverse City MI 49684 United States;X-APPLE-RADIUS=500;X-TITLE=West Front Street:geo:-85.6270257,44.7635954
END:VEVENT
BEGIN:VEVENT
DTSTART;TZID=America/New_York:20260706T160000
DTEND;TZID=America/New_York:20260706T180000
DTSTAMP:20260422T164716
CREATED:20251126T131435Z
LAST-MODIFIED:20260126T224503Z
UID:10015129-1783353600-1783360800@enjoywhereyouare.today
SUMMARY:Happy Hour
DESCRIPTION:$4 Canned Cocktails \n1/2 Off Classic Cocktails & Spirit + Mixers
URL:https://enjoywhereyouare.today/events/happy-hour-7/2026-07-06/
LOCATION:Gypsy Spirits\, West Front Street\, Traverse City\, MI\, 49684\, United States
CATEGORIES:*Downtown TC and Traverse City,Daily Specials
ATTACH;FMTTYPE=image/jpeg:https://enjoywhereyouare.today/wp-content/uploads/2025/11/Gypsy-Spirits.jpg
GEO:44.7635954;-85.6270257
X-APPLE-STRUCTURED-LOCATION;VALUE=URI;X-ADDRESS=Gypsy Spirits West Front Street Traverse City MI 49684 United States;X-APPLE-RADIUS=500;X-TITLE=West Front Street:geo:-85.6270257,44.7635954
END:VEVENT
BEGIN:VEVENT
DTSTART;TZID=America/New_York:20260707T160000
DTEND;TZID=America/New_York:20260707T180000
DTSTAMP:20260422T164716
CREATED:20251126T131435Z
LAST-MODIFIED:20260126T224503Z
UID:10015130-1783440000-1783447200@enjoywhereyouare.today
SUMMARY:Happy Hour
DESCRIPTION:$4 Canned Cocktails \n1/2 Off Classic Cocktails & Spirit + Mixers
URL:https://enjoywhereyouare.today/events/happy-hour-7/2026-07-07/
LOCATION:Gypsy Spirits\, West Front Street\, Traverse City\, MI\, 49684\, United States
CATEGORIES:*Downtown TC and Traverse City,Daily Specials
ATTACH;FMTTYPE=image/jpeg:https://enjoywhereyouare.today/wp-content/uploads/2025/11/Gypsy-Spirits.jpg
GEO:44.7635954;-85.6270257
X-APPLE-STRUCTURED-LOCATION;VALUE=URI;X-ADDRESS=Gypsy Spirits West Front Street Traverse City MI 49684 United States;X-APPLE-RADIUS=500;X-TITLE=West Front Street:geo:-85.6270257,44.7635954
END:VEVENT
BEGIN:VEVENT
DTSTART;TZID=America/New_York:20260708T160000
DTEND;TZID=America/New_York:20260708T180000
DTSTAMP:20260422T164716
CREATED:20251126T131435Z
LAST-MODIFIED:20260126T224503Z
UID:10015131-1783526400-1783533600@enjoywhereyouare.today
SUMMARY:Happy Hour
DESCRIPTION:$4 Canned Cocktails \n1/2 Off Classic Cocktails & Spirit + Mixers
URL:https://enjoywhereyouare.today/events/happy-hour-7/2026-07-08/
LOCATION:Gypsy Spirits\, West Front Street\, Traverse City\, MI\, 49684\, United States
CATEGORIES:*Downtown TC and Traverse City,Daily Specials
ATTACH;FMTTYPE=image/jpeg:https://enjoywhereyouare.today/wp-content/uploads/2025/11/Gypsy-Spirits.jpg
GEO:44.7635954;-85.6270257
X-APPLE-STRUCTURED-LOCATION;VALUE=URI;X-ADDRESS=Gypsy Spirits West Front Street Traverse City MI 49684 United States;X-APPLE-RADIUS=500;X-TITLE=West Front Street:geo:-85.6270257,44.7635954
END:VEVENT
BEGIN:VEVENT
DTSTART;TZID=America/New_York:20260709T160000
DTEND;TZID=America/New_York:20260709T180000
DTSTAMP:20260422T164716
CREATED:20251126T131435Z
LAST-MODIFIED:20260126T224503Z
UID:10015132-1783612800-1783620000@enjoywhereyouare.today
SUMMARY:Happy Hour
DESCRIPTION:$4 Canned Cocktails \n1/2 Off Classic Cocktails & Spirit + Mixers
URL:https://enjoywhereyouare.today/events/happy-hour-7/2026-07-09/
LOCATION:Gypsy Spirits\, West Front Street\, Traverse City\, MI\, 49684\, United States
CATEGORIES:*Downtown TC and Traverse City,Daily Specials
ATTACH;FMTTYPE=image/jpeg:https://enjoywhereyouare.today/wp-content/uploads/2025/11/Gypsy-Spirits.jpg
GEO:44.7635954;-85.6270257
X-APPLE-STRUCTURED-LOCATION;VALUE=URI;X-ADDRESS=Gypsy Spirits West Front Street Traverse City MI 49684 United States;X-APPLE-RADIUS=500;X-TITLE=West Front Street:geo:-85.6270257,44.7635954
END:VEVENT
BEGIN:VEVENT
DTSTART;TZID=America/New_York:20260713T160000
DTEND;TZID=America/New_York:20260713T180000
DTSTAMP:20260422T164716
CREATED:20251126T131435Z
LAST-MODIFIED:20260126T224503Z
UID:10015136-1783958400-1783965600@enjoywhereyouare.today
SUMMARY:Happy Hour
DESCRIPTION:$4 Canned Cocktails \n1/2 Off Classic Cocktails & Spirit + Mixers
URL:https://enjoywhereyouare.today/events/happy-hour-7/2026-07-13/
LOCATION:Gypsy Spirits\, West Front Street\, Traverse City\, MI\, 49684\, United States
CATEGORIES:*Downtown TC and Traverse City,Daily Specials
ATTACH;FMTTYPE=image/jpeg:https://enjoywhereyouare.today/wp-content/uploads/2025/11/Gypsy-Spirits.jpg
GEO:44.7635954;-85.6270257
X-APPLE-STRUCTURED-LOCATION;VALUE=URI;X-ADDRESS=Gypsy Spirits West Front Street Traverse City MI 49684 United States;X-APPLE-RADIUS=500;X-TITLE=West Front Street:geo:-85.6270257,44.7635954
END:VEVENT
BEGIN:VEVENT
DTSTART;TZID=America/New_York:20260714T160000
DTEND;TZID=America/New_York:20260714T180000
DTSTAMP:20260422T164716
CREATED:20251126T131435Z
LAST-MODIFIED:20260126T224503Z
UID:10015137-1784044800-1784052000@enjoywhereyouare.today
SUMMARY:Happy Hour
DESCRIPTION:$4 Canned Cocktails \n1/2 Off Classic Cocktails & Spirit + Mixers
URL:https://enjoywhereyouare.today/events/happy-hour-7/2026-07-14/
LOCATION:Gypsy Spirits\, West Front Street\, Traverse City\, MI\, 49684\, United States
CATEGORIES:*Downtown TC and Traverse City,Daily Specials
ATTACH;FMTTYPE=image/jpeg:https://enjoywhereyouare.today/wp-content/uploads/2025/11/Gypsy-Spirits.jpg
GEO:44.7635954;-85.6270257
X-APPLE-STRUCTURED-LOCATION;VALUE=URI;X-ADDRESS=Gypsy Spirits West Front Street Traverse City MI 49684 United States;X-APPLE-RADIUS=500;X-TITLE=West Front Street:geo:-85.6270257,44.7635954
END:VEVENT
BEGIN:VEVENT
DTSTART;TZID=America/New_York:20260715T160000
DTEND;TZID=America/New_York:20260715T180000
DTSTAMP:20260422T164716
CREATED:20251126T131435Z
LAST-MODIFIED:20260126T224503Z
UID:10015138-1784131200-1784138400@enjoywhereyouare.today
SUMMARY:Happy Hour
DESCRIPTION:$4 Canned Cocktails \n1/2 Off Classic Cocktails & Spirit + Mixers
URL:https://enjoywhereyouare.today/events/happy-hour-7/2026-07-15/
LOCATION:Gypsy Spirits\, West Front Street\, Traverse City\, MI\, 49684\, United States
CATEGORIES:*Downtown TC and Traverse City,Daily Specials
ATTACH;FMTTYPE=image/jpeg:https://enjoywhereyouare.today/wp-content/uploads/2025/11/Gypsy-Spirits.jpg
GEO:44.7635954;-85.6270257
X-APPLE-STRUCTURED-LOCATION;VALUE=URI;X-ADDRESS=Gypsy Spirits West Front Street Traverse City MI 49684 United States;X-APPLE-RADIUS=500;X-TITLE=West Front Street:geo:-85.6270257,44.7635954
END:VEVENT
BEGIN:VEVENT
DTSTART;TZID=America/New_York:20260716T160000
DTEND;TZID=America/New_York:20260716T180000
DTSTAMP:20260422T164716
CREATED:20251126T131435Z
LAST-MODIFIED:20260126T224503Z
UID:10015139-1784217600-1784224800@enjoywhereyouare.today
SUMMARY:Happy Hour
DESCRIPTION:$4 Canned Cocktails \n1/2 Off Classic Cocktails & Spirit + Mixers
URL:https://enjoywhereyouare.today/events/happy-hour-7/2026-07-16/
LOCATION:Gypsy Spirits\, West Front Street\, Traverse City\, MI\, 49684\, United States
CATEGORIES:*Downtown TC and Traverse City,Daily Specials
ATTACH;FMTTYPE=image/jpeg:https://enjoywhereyouare.today/wp-content/uploads/2025/11/Gypsy-Spirits.jpg
GEO:44.7635954;-85.6270257
X-APPLE-STRUCTURED-LOCATION;VALUE=URI;X-ADDRESS=Gypsy Spirits West Front Street Traverse City MI 49684 United States;X-APPLE-RADIUS=500;X-TITLE=West Front Street:geo:-85.6270257,44.7635954
END:VEVENT
BEGIN:VEVENT
DTSTART;TZID=America/New_York:20260720T160000
DTEND;TZID=America/New_York:20260720T180000
DTSTAMP:20260422T164716
CREATED:20251126T131435Z
LAST-MODIFIED:20260126T224503Z
UID:10015143-1784563200-1784570400@enjoywhereyouare.today
SUMMARY:Happy Hour
DESCRIPTION:$4 Canned Cocktails \n1/2 Off Classic Cocktails & Spirit + Mixers
URL:https://enjoywhereyouare.today/events/happy-hour-7/2026-07-20/
LOCATION:Gypsy Spirits\, West Front Street\, Traverse City\, MI\, 49684\, United States
CATEGORIES:*Downtown TC and Traverse City,Daily Specials
ATTACH;FMTTYPE=image/jpeg:https://enjoywhereyouare.today/wp-content/uploads/2025/11/Gypsy-Spirits.jpg
GEO:44.7635954;-85.6270257
X-APPLE-STRUCTURED-LOCATION;VALUE=URI;X-ADDRESS=Gypsy Spirits West Front Street Traverse City MI 49684 United States;X-APPLE-RADIUS=500;X-TITLE=West Front Street:geo:-85.6270257,44.7635954
END:VEVENT
BEGIN:VEVENT
DTSTART;TZID=America/New_York:20260721T160000
DTEND;TZID=America/New_York:20260721T180000
DTSTAMP:20260422T164716
CREATED:20251126T131435Z
LAST-MODIFIED:20260126T224503Z
UID:10015144-1784649600-1784656800@enjoywhereyouare.today
SUMMARY:Happy Hour
DESCRIPTION:$4 Canned Cocktails \n1/2 Off Classic Cocktails & Spirit + Mixers
URL:https://enjoywhereyouare.today/events/happy-hour-7/2026-07-21/
LOCATION:Gypsy Spirits\, West Front Street\, Traverse City\, MI\, 49684\, United States
CATEGORIES:*Downtown TC and Traverse City,Daily Specials
ATTACH;FMTTYPE=image/jpeg:https://enjoywhereyouare.today/wp-content/uploads/2025/11/Gypsy-Spirits.jpg
GEO:44.7635954;-85.6270257
X-APPLE-STRUCTURED-LOCATION;VALUE=URI;X-ADDRESS=Gypsy Spirits West Front Street Traverse City MI 49684 United States;X-APPLE-RADIUS=500;X-TITLE=West Front Street:geo:-85.6270257,44.7635954
END:VEVENT
BEGIN:VEVENT
DTSTART;TZID=America/New_York:20260722T160000
DTEND;TZID=America/New_York:20260722T180000
DTSTAMP:20260422T164716
CREATED:20251126T131435Z
LAST-MODIFIED:20260126T224503Z
UID:10015145-1784736000-1784743200@enjoywhereyouare.today
SUMMARY:Happy Hour
DESCRIPTION:$4 Canned Cocktails \n1/2 Off Classic Cocktails & Spirit + Mixers
URL:https://enjoywhereyouare.today/events/happy-hour-7/2026-07-22/
LOCATION:Gypsy Spirits\, West Front Street\, Traverse City\, MI\, 49684\, United States
CATEGORIES:*Downtown TC and Traverse City,Daily Specials
ATTACH;FMTTYPE=image/jpeg:https://enjoywhereyouare.today/wp-content/uploads/2025/11/Gypsy-Spirits.jpg
GEO:44.7635954;-85.6270257
X-APPLE-STRUCTURED-LOCATION;VALUE=URI;X-ADDRESS=Gypsy Spirits West Front Street Traverse City MI 49684 United States;X-APPLE-RADIUS=500;X-TITLE=West Front Street:geo:-85.6270257,44.7635954
END:VEVENT
BEGIN:VEVENT
DTSTART;TZID=America/New_York:20260723T160000
DTEND;TZID=America/New_York:20260723T180000
DTSTAMP:20260422T164716
CREATED:20251126T131435Z
LAST-MODIFIED:20260126T224503Z
UID:10015146-1784822400-1784829600@enjoywhereyouare.today
SUMMARY:Happy Hour
DESCRIPTION:$4 Canned Cocktails \n1/2 Off Classic Cocktails & Spirit + Mixers
URL:https://enjoywhereyouare.today/events/happy-hour-7/2026-07-23/
LOCATION:Gypsy Spirits\, West Front Street\, Traverse City\, MI\, 49684\, United States
CATEGORIES:*Downtown TC and Traverse City,Daily Specials
ATTACH;FMTTYPE=image/jpeg:https://enjoywhereyouare.today/wp-content/uploads/2025/11/Gypsy-Spirits.jpg
GEO:44.7635954;-85.6270257
X-APPLE-STRUCTURED-LOCATION;VALUE=URI;X-ADDRESS=Gypsy Spirits West Front Street Traverse City MI 49684 United States;X-APPLE-RADIUS=500;X-TITLE=West Front Street:geo:-85.6270257,44.7635954
END:VEVENT
BEGIN:VEVENT
DTSTART;TZID=America/New_York:20260727T160000
DTEND;TZID=America/New_York:20260727T180000
DTSTAMP:20260422T164716
CREATED:20251126T131435Z
LAST-MODIFIED:20260126T224503Z
UID:10015150-1785168000-1785175200@enjoywhereyouare.today
SUMMARY:Happy Hour
DESCRIPTION:$4 Canned Cocktails \n1/2 Off Classic Cocktails & Spirit + Mixers
URL:https://enjoywhereyouare.today/events/happy-hour-7/2026-07-27/
LOCATION:Gypsy Spirits\, West Front Street\, Traverse City\, MI\, 49684\, United States
CATEGORIES:*Downtown TC and Traverse City,Daily Specials
ATTACH;FMTTYPE=image/jpeg:https://enjoywhereyouare.today/wp-content/uploads/2025/11/Gypsy-Spirits.jpg
GEO:44.7635954;-85.6270257
X-APPLE-STRUCTURED-LOCATION;VALUE=URI;X-ADDRESS=Gypsy Spirits West Front Street Traverse City MI 49684 United States;X-APPLE-RADIUS=500;X-TITLE=West Front Street:geo:-85.6270257,44.7635954
END:VEVENT
BEGIN:VEVENT
DTSTART;TZID=America/New_York:20260728T160000
DTEND;TZID=America/New_York:20260728T180000
DTSTAMP:20260422T164716
CREATED:20251126T131435Z
LAST-MODIFIED:20260126T224503Z
UID:10015151-1785254400-1785261600@enjoywhereyouare.today
SUMMARY:Happy Hour
DESCRIPTION:$4 Canned Cocktails \n1/2 Off Classic Cocktails & Spirit + Mixers
URL:https://enjoywhereyouare.today/events/happy-hour-7/2026-07-28/
LOCATION:Gypsy Spirits\, West Front Street\, Traverse City\, MI\, 49684\, United States
CATEGORIES:*Downtown TC and Traverse City,Daily Specials
ATTACH;FMTTYPE=image/jpeg:https://enjoywhereyouare.today/wp-content/uploads/2025/11/Gypsy-Spirits.jpg
GEO:44.7635954;-85.6270257
X-APPLE-STRUCTURED-LOCATION;VALUE=URI;X-ADDRESS=Gypsy Spirits West Front Street Traverse City MI 49684 United States;X-APPLE-RADIUS=500;X-TITLE=West Front Street:geo:-85.6270257,44.7635954
END:VEVENT
BEGIN:VEVENT
DTSTART;TZID=America/New_York:20260729T160000
DTEND;TZID=America/New_York:20260729T180000
DTSTAMP:20260422T164716
CREATED:20251126T131435Z
LAST-MODIFIED:20260126T224503Z
UID:10015152-1785340800-1785348000@enjoywhereyouare.today
SUMMARY:Happy Hour
DESCRIPTION:$4 Canned Cocktails \n1/2 Off Classic Cocktails & Spirit + Mixers
URL:https://enjoywhereyouare.today/events/happy-hour-7/2026-07-29/
LOCATION:Gypsy Spirits\, West Front Street\, Traverse City\, MI\, 49684\, United States
CATEGORIES:*Downtown TC and Traverse City,Daily Specials
ATTACH;FMTTYPE=image/jpeg:https://enjoywhereyouare.today/wp-content/uploads/2025/11/Gypsy-Spirits.jpg
GEO:44.7635954;-85.6270257
X-APPLE-STRUCTURED-LOCATION;VALUE=URI;X-ADDRESS=Gypsy Spirits West Front Street Traverse City MI 49684 United States;X-APPLE-RADIUS=500;X-TITLE=West Front Street:geo:-85.6270257,44.7635954
END:VEVENT
BEGIN:VEVENT
DTSTART;TZID=America/New_York:20260730T160000
DTEND;TZID=America/New_York:20260730T180000
DTSTAMP:20260422T164716
CREATED:20251126T131435Z
LAST-MODIFIED:20260126T224503Z
UID:10015153-1785427200-1785434400@enjoywhereyouare.today
SUMMARY:Happy Hour
DESCRIPTION:$4 Canned Cocktails \n1/2 Off Classic Cocktails & Spirit + Mixers
URL:https://enjoywhereyouare.today/events/happy-hour-7/2026-07-30/
LOCATION:Gypsy Spirits\, West Front Street\, Traverse City\, MI\, 49684\, United States
CATEGORIES:*Downtown TC and Traverse City,Daily Specials
ATTACH;FMTTYPE=image/jpeg:https://enjoywhereyouare.today/wp-content/uploads/2025/11/Gypsy-Spirits.jpg
GEO:44.7635954;-85.6270257
X-APPLE-STRUCTURED-LOCATION;VALUE=URI;X-ADDRESS=Gypsy Spirits West Front Street Traverse City MI 49684 United States;X-APPLE-RADIUS=500;X-TITLE=West Front Street:geo:-85.6270257,44.7635954
END:VEVENT
BEGIN:VEVENT
DTSTART;TZID=America/New_York:20260803T160000
DTEND;TZID=America/New_York:20260803T180000
DTSTAMP:20260422T164716
CREATED:20251126T131435Z
LAST-MODIFIED:20260126T224503Z
UID:10015157-1785772800-1785780000@enjoywhereyouare.today
SUMMARY:Happy Hour
DESCRIPTION:$4 Canned Cocktails \n1/2 Off Classic Cocktails & Spirit + Mixers
URL:https://enjoywhereyouare.today/events/happy-hour-7/2026-08-03/
LOCATION:Gypsy Spirits\, West Front Street\, Traverse City\, MI\, 49684\, United States
CATEGORIES:*Downtown TC and Traverse City,Daily Specials
ATTACH;FMTTYPE=image/jpeg:https://enjoywhereyouare.today/wp-content/uploads/2025/11/Gypsy-Spirits.jpg
GEO:44.7635954;-85.6270257
X-APPLE-STRUCTURED-LOCATION;VALUE=URI;X-ADDRESS=Gypsy Spirits West Front Street Traverse City MI 49684 United States;X-APPLE-RADIUS=500;X-TITLE=West Front Street:geo:-85.6270257,44.7635954
END:VEVENT
BEGIN:VEVENT
DTSTART;TZID=America/New_York:20260804T160000
DTEND;TZID=America/New_York:20260804T180000
DTSTAMP:20260422T164716
CREATED:20251126T131435Z
LAST-MODIFIED:20260126T224503Z
UID:10015158-1785859200-1785866400@enjoywhereyouare.today
SUMMARY:Happy Hour
DESCRIPTION:$4 Canned Cocktails \n1/2 Off Classic Cocktails & Spirit + Mixers
URL:https://enjoywhereyouare.today/events/happy-hour-7/2026-08-04/
LOCATION:Gypsy Spirits\, West Front Street\, Traverse City\, MI\, 49684\, United States
CATEGORIES:*Downtown TC and Traverse City,Daily Specials
ATTACH;FMTTYPE=image/jpeg:https://enjoywhereyouare.today/wp-content/uploads/2025/11/Gypsy-Spirits.jpg
GEO:44.7635954;-85.6270257
X-APPLE-STRUCTURED-LOCATION;VALUE=URI;X-ADDRESS=Gypsy Spirits West Front Street Traverse City MI 49684 United States;X-APPLE-RADIUS=500;X-TITLE=West Front Street:geo:-85.6270257,44.7635954
END:VEVENT
BEGIN:VEVENT
DTSTART;TZID=America/New_York:20260805T160000
DTEND;TZID=America/New_York:20260805T180000
DTSTAMP:20260422T164716
CREATED:20251126T131435Z
LAST-MODIFIED:20260126T224503Z
UID:10015159-1785945600-1785952800@enjoywhereyouare.today
SUMMARY:Happy Hour
DESCRIPTION:$4 Canned Cocktails \n1/2 Off Classic Cocktails & Spirit + Mixers
URL:https://enjoywhereyouare.today/events/happy-hour-7/2026-08-05/
LOCATION:Gypsy Spirits\, West Front Street\, Traverse City\, MI\, 49684\, United States
CATEGORIES:*Downtown TC and Traverse City,Daily Specials
ATTACH;FMTTYPE=image/jpeg:https://enjoywhereyouare.today/wp-content/uploads/2025/11/Gypsy-Spirits.jpg
GEO:44.7635954;-85.6270257
X-APPLE-STRUCTURED-LOCATION;VALUE=URI;X-ADDRESS=Gypsy Spirits West Front Street Traverse City MI 49684 United States;X-APPLE-RADIUS=500;X-TITLE=West Front Street:geo:-85.6270257,44.7635954
END:VEVENT
BEGIN:VEVENT
DTSTART;TZID=America/New_York:20260806T160000
DTEND;TZID=America/New_York:20260806T180000
DTSTAMP:20260422T164716
CREATED:20251126T131435Z
LAST-MODIFIED:20260126T224503Z
UID:10015160-1786032000-1786039200@enjoywhereyouare.today
SUMMARY:Happy Hour
DESCRIPTION:$4 Canned Cocktails \n1/2 Off Classic Cocktails & Spirit + Mixers
URL:https://enjoywhereyouare.today/events/happy-hour-7/2026-08-06/
LOCATION:Gypsy Spirits\, West Front Street\, Traverse City\, MI\, 49684\, United States
CATEGORIES:*Downtown TC and Traverse City,Daily Specials
ATTACH;FMTTYPE=image/jpeg:https://enjoywhereyouare.today/wp-content/uploads/2025/11/Gypsy-Spirits.jpg
GEO:44.7635954;-85.6270257
X-APPLE-STRUCTURED-LOCATION;VALUE=URI;X-ADDRESS=Gypsy Spirits West Front Street Traverse City MI 49684 United States;X-APPLE-RADIUS=500;X-TITLE=West Front Street:geo:-85.6270257,44.7635954
END:VEVENT
BEGIN:VEVENT
DTSTART;TZID=America/New_York:20260810T160000
DTEND;TZID=America/New_York:20260810T180000
DTSTAMP:20260422T164716
CREATED:20251126T131435Z
LAST-MODIFIED:20260126T224503Z
UID:10015164-1786377600-1786384800@enjoywhereyouare.today
SUMMARY:Happy Hour
DESCRIPTION:$4 Canned Cocktails \n1/2 Off Classic Cocktails & Spirit + Mixers
URL:https://enjoywhereyouare.today/events/happy-hour-7/2026-08-10/
LOCATION:Gypsy Spirits\, West Front Street\, Traverse City\, MI\, 49684\, United States
CATEGORIES:*Downtown TC and Traverse City,Daily Specials
ATTACH;FMTTYPE=image/jpeg:https://enjoywhereyouare.today/wp-content/uploads/2025/11/Gypsy-Spirits.jpg
GEO:44.7635954;-85.6270257
X-APPLE-STRUCTURED-LOCATION;VALUE=URI;X-ADDRESS=Gypsy Spirits West Front Street Traverse City MI 49684 United States;X-APPLE-RADIUS=500;X-TITLE=West Front Street:geo:-85.6270257,44.7635954
END:VEVENT
BEGIN:VEVENT
DTSTART;TZID=America/New_York:20260811T160000
DTEND;TZID=America/New_York:20260811T180000
DTSTAMP:20260422T164716
CREATED:20251126T131435Z
LAST-MODIFIED:20260126T224503Z
UID:10015165-1786464000-1786471200@enjoywhereyouare.today
SUMMARY:Happy Hour
DESCRIPTION:$4 Canned Cocktails \n1/2 Off Classic Cocktails & Spirit + Mixers
URL:https://enjoywhereyouare.today/events/happy-hour-7/2026-08-11/
LOCATION:Gypsy Spirits\, West Front Street\, Traverse City\, MI\, 49684\, United States
CATEGORIES:*Downtown TC and Traverse City,Daily Specials
ATTACH;FMTTYPE=image/jpeg:https://enjoywhereyouare.today/wp-content/uploads/2025/11/Gypsy-Spirits.jpg
GEO:44.7635954;-85.6270257
X-APPLE-STRUCTURED-LOCATION;VALUE=URI;X-ADDRESS=Gypsy Spirits West Front Street Traverse City MI 49684 United States;X-APPLE-RADIUS=500;X-TITLE=West Front Street:geo:-85.6270257,44.7635954
END:VEVENT
BEGIN:VEVENT
DTSTART;TZID=America/New_York:20260812T160000
DTEND;TZID=America/New_York:20260812T180000
DTSTAMP:20260422T164716
CREATED:20251126T131435Z
LAST-MODIFIED:20260126T224503Z
UID:10015166-1786550400-1786557600@enjoywhereyouare.today
SUMMARY:Happy Hour
DESCRIPTION:$4 Canned Cocktails \n1/2 Off Classic Cocktails & Spirit + Mixers
URL:https://enjoywhereyouare.today/events/happy-hour-7/2026-08-12/
LOCATION:Gypsy Spirits\, West Front Street\, Traverse City\, MI\, 49684\, United States
CATEGORIES:*Downtown TC and Traverse City,Daily Specials
ATTACH;FMTTYPE=image/jpeg:https://enjoywhereyouare.today/wp-content/uploads/2025/11/Gypsy-Spirits.jpg
GEO:44.7635954;-85.6270257
X-APPLE-STRUCTURED-LOCATION;VALUE=URI;X-ADDRESS=Gypsy Spirits West Front Street Traverse City MI 49684 United States;X-APPLE-RADIUS=500;X-TITLE=West Front Street:geo:-85.6270257,44.7635954
END:VEVENT
BEGIN:VEVENT
DTSTART;TZID=America/New_York:20260813T160000
DTEND;TZID=America/New_York:20260813T180000
DTSTAMP:20260422T164716
CREATED:20251126T131435Z
LAST-MODIFIED:20260126T224503Z
UID:10015167-1786636800-1786644000@enjoywhereyouare.today
SUMMARY:Happy Hour
DESCRIPTION:$4 Canned Cocktails \n1/2 Off Classic Cocktails & Spirit + Mixers
URL:https://enjoywhereyouare.today/events/happy-hour-7/2026-08-13/
LOCATION:Gypsy Spirits\, West Front Street\, Traverse City\, MI\, 49684\, United States
CATEGORIES:*Downtown TC and Traverse City,Daily Specials
ATTACH;FMTTYPE=image/jpeg:https://enjoywhereyouare.today/wp-content/uploads/2025/11/Gypsy-Spirits.jpg
GEO:44.7635954;-85.6270257
X-APPLE-STRUCTURED-LOCATION;VALUE=URI;X-ADDRESS=Gypsy Spirits West Front Street Traverse City MI 49684 United States;X-APPLE-RADIUS=500;X-TITLE=West Front Street:geo:-85.6270257,44.7635954
END:VEVENT
BEGIN:VEVENT
DTSTART;TZID=America/New_York:20260817T160000
DTEND;TZID=America/New_York:20260817T180000
DTSTAMP:20260422T164716
CREATED:20251126T131435Z
LAST-MODIFIED:20260126T224503Z
UID:10015171-1786982400-1786989600@enjoywhereyouare.today
SUMMARY:Happy Hour
DESCRIPTION:$4 Canned Cocktails \n1/2 Off Classic Cocktails & Spirit + Mixers
URL:https://enjoywhereyouare.today/events/happy-hour-7/2026-08-17/
LOCATION:Gypsy Spirits\, West Front Street\, Traverse City\, MI\, 49684\, United States
CATEGORIES:*Downtown TC and Traverse City,Daily Specials
ATTACH;FMTTYPE=image/jpeg:https://enjoywhereyouare.today/wp-content/uploads/2025/11/Gypsy-Spirits.jpg
GEO:44.7635954;-85.6270257
X-APPLE-STRUCTURED-LOCATION;VALUE=URI;X-ADDRESS=Gypsy Spirits West Front Street Traverse City MI 49684 United States;X-APPLE-RADIUS=500;X-TITLE=West Front Street:geo:-85.6270257,44.7635954
END:VEVENT
BEGIN:VEVENT
DTSTART;TZID=America/New_York:20260818T160000
DTEND;TZID=America/New_York:20260818T180000
DTSTAMP:20260422T164716
CREATED:20251126T131435Z
LAST-MODIFIED:20260126T224503Z
UID:10015172-1787068800-1787076000@enjoywhereyouare.today
SUMMARY:Happy Hour
DESCRIPTION:$4 Canned Cocktails \n1/2 Off Classic Cocktails & Spirit + Mixers
URL:https://enjoywhereyouare.today/events/happy-hour-7/2026-08-18/
LOCATION:Gypsy Spirits\, West Front Street\, Traverse City\, MI\, 49684\, United States
CATEGORIES:*Downtown TC and Traverse City,Daily Specials
ATTACH;FMTTYPE=image/jpeg:https://enjoywhereyouare.today/wp-content/uploads/2025/11/Gypsy-Spirits.jpg
GEO:44.7635954;-85.6270257
X-APPLE-STRUCTURED-LOCATION;VALUE=URI;X-ADDRESS=Gypsy Spirits West Front Street Traverse City MI 49684 United States;X-APPLE-RADIUS=500;X-TITLE=West Front Street:geo:-85.6270257,44.7635954
END:VEVENT
END:VCALENDAR