BEGIN:VCALENDAR
VERSION:2.0
PRODID:-//Enjoy Where You Are - ECPv6.5.2//NONSGML v1.0//EN
CALSCALE:GREGORIAN
METHOD:PUBLISH
X-WR-CALNAME:Enjoy Where You Are
X-ORIGINAL-URL:https://enjoywhereyouare.today
X-WR-CALDESC:Events for Enjoy Where You Are
REFRESH-INTERVAL;VALUE=DURATION:PT1H
X-Robots-Tag:noindex
X-PUBLISHED-TTL:PT1H
BEGIN:VTIMEZONE
TZID:America/New_York
BEGIN:DAYLIGHT
TZOFFSETFROM:-0500
TZOFFSETTO:-0400
TZNAME:EDT
DTSTART:20260308T070000
END:DAYLIGHT
BEGIN:STANDARD
TZOFFSETFROM:-0400
TZOFFSETTO:-0500
TZNAME:EST
DTSTART:20261101T060000
END:STANDARD
END:VTIMEZONE
BEGIN:VEVENT
DTSTART;TZID=America/New_York:20260302T160000
DTEND;TZID=America/New_York:20260302T180000
DTSTAMP:20260422T180837
CREATED:20251126T131435Z
LAST-MODIFIED:20260126T224503Z
UID:10015003-1772467200-1772474400@enjoywhereyouare.today
SUMMARY:Happy Hour
DESCRIPTION:$4 Canned Cocktails \n1/2 Off Classic Cocktails & Spirit + Mixers
URL:https://enjoywhereyouare.today/events/happy-hour-7/2026-03-02/
LOCATION:Gypsy Spirits\, West Front Street\, Traverse City\, MI\, 49684\, United States
CATEGORIES:*Downtown TC and Traverse City,Daily Specials
ATTACH;FMTTYPE=image/jpeg:https://enjoywhereyouare.today/wp-content/uploads/2025/11/Gypsy-Spirits.jpg
GEO:44.7635954;-85.6270257
X-APPLE-STRUCTURED-LOCATION;VALUE=URI;X-ADDRESS=Gypsy Spirits West Front Street Traverse City MI 49684 United States;X-APPLE-RADIUS=500;X-TITLE=West Front Street:geo:-85.6270257,44.7635954
END:VEVENT
BEGIN:VEVENT
DTSTART;TZID=America/New_York:20260226T160000
DTEND;TZID=America/New_York:20260226T220000
DTSTAMP:20260422T180837
CREATED:20260127T162238Z
LAST-MODIFIED:20260129T142759Z
UID:10015828-1772121600-1772143200@enjoywhereyouare.today
SUMMARY:LADIES NIGHT
DESCRIPTION:1/2 OFF All Drinks!
URL:https://enjoywhereyouare.today/events/ladies-night-2/2026-02-26/
LOCATION:Gypsy Spirits\, West Front Street\, Traverse City\, MI\, 49684\, United States
CATEGORIES:*Downtown TC and Traverse City,Daily Specials
ATTACH;FMTTYPE=image/png:https://enjoywhereyouare.today/wp-content/uploads/2026/01/Gypsy-Ladies-Night-1.png
GEO:44.7635954;-85.6270257
X-APPLE-STRUCTURED-LOCATION;VALUE=URI;X-ADDRESS=Gypsy Spirits West Front Street Traverse City MI 49684 United States;X-APPLE-RADIUS=500;X-TITLE=West Front Street:geo:-85.6270257,44.7635954
END:VEVENT
BEGIN:VEVENT
DTSTART;TZID=America/New_York:20260226T160000
DTEND;TZID=America/New_York:20260226T180000
DTSTAMP:20260422T180837
CREATED:20251126T131435Z
LAST-MODIFIED:20260126T224503Z
UID:10014999-1772121600-1772128800@enjoywhereyouare.today
SUMMARY:Happy Hour
DESCRIPTION:$4 Canned Cocktails \n1/2 Off Classic Cocktails & Spirit + Mixers
URL:https://enjoywhereyouare.today/events/happy-hour-7/2026-02-26/
LOCATION:Gypsy Spirits\, West Front Street\, Traverse City\, MI\, 49684\, United States
CATEGORIES:*Downtown TC and Traverse City,Daily Specials
ATTACH;FMTTYPE=image/jpeg:https://enjoywhereyouare.today/wp-content/uploads/2025/11/Gypsy-Spirits.jpg
GEO:44.7635954;-85.6270257
X-APPLE-STRUCTURED-LOCATION;VALUE=URI;X-ADDRESS=Gypsy Spirits West Front Street Traverse City MI 49684 United States;X-APPLE-RADIUS=500;X-TITLE=West Front Street:geo:-85.6270257,44.7635954
END:VEVENT
BEGIN:VEVENT
DTSTART;TZID=America/New_York:20260225T170000
DTEND;TZID=America/New_York:20260225T210000
DTSTAMP:20260422T180837
CREATED:20260127T195116Z
LAST-MODIFIED:20260129T161720Z
UID:10015950-1772038800-1772053200@enjoywhereyouare.today
SUMMARY:MOVIE NIGHT!
DESCRIPTION:MOVIE WATCH PARTY!\nDouble Feature every Wednesday!\nJanuary 28th\n5pm – Blades of Glory\n7pm – I\, Tonya \nFebruary 4th\n5pm – Mighty Ducks\n7pm – Cool Runnings
URL:https://enjoywhereyouare.today/events/movie-night-2/2026-02-25/
LOCATION:Gypsy Spirits\, West Front Street\, Traverse City\, MI\, 49684\, United States
CATEGORIES:*Downtown TC and Traverse City,Daily Specials
ATTACH;FMTTYPE=image/png:https://enjoywhereyouare.today/wp-content/uploads/2026/01/Gypsy-Watch-Party-2.png
GEO:44.7635954;-85.6270257
X-APPLE-STRUCTURED-LOCATION;VALUE=URI;X-ADDRESS=Gypsy Spirits West Front Street Traverse City MI 49684 United States;X-APPLE-RADIUS=500;X-TITLE=West Front Street:geo:-85.6270257,44.7635954
END:VEVENT
BEGIN:VEVENT
DTSTART;TZID=America/New_York:20260225T160000
DTEND;TZID=America/New_York:20260225T180000
DTSTAMP:20260422T180837
CREATED:20251126T131435Z
LAST-MODIFIED:20260126T224503Z
UID:10014998-1772035200-1772042400@enjoywhereyouare.today
SUMMARY:Happy Hour
DESCRIPTION:$4 Canned Cocktails \n1/2 Off Classic Cocktails & Spirit + Mixers
URL:https://enjoywhereyouare.today/events/happy-hour-7/2026-02-25/
LOCATION:Gypsy Spirits\, West Front Street\, Traverse City\, MI\, 49684\, United States
CATEGORIES:*Downtown TC and Traverse City,Daily Specials
ATTACH;FMTTYPE=image/jpeg:https://enjoywhereyouare.today/wp-content/uploads/2025/11/Gypsy-Spirits.jpg
GEO:44.7635954;-85.6270257
X-APPLE-STRUCTURED-LOCATION;VALUE=URI;X-ADDRESS=Gypsy Spirits West Front Street Traverse City MI 49684 United States;X-APPLE-RADIUS=500;X-TITLE=West Front Street:geo:-85.6270257,44.7635954
END:VEVENT
BEGIN:VEVENT
DTSTART;TZID=America/New_York:20260224T160000
DTEND;TZID=America/New_York:20260224T220000
DTSTAMP:20260422T180837
CREATED:20260129T150516Z
LAST-MODIFIED:20260129T150516Z
UID:10015933-1771948800-1771970400@enjoywhereyouare.today
SUMMARY:TINI TUESDAYS
DESCRIPTION:$7 Dirty and Dry Martinis all night!
URL:https://enjoywhereyouare.today/events/tini-tuesdays/2026-02-24/
LOCATION:Gypsy Spirits\, West Front Street\, Traverse City\, MI\, 49684\, United States
CATEGORIES:Daily Specials
ATTACH;FMTTYPE=image/png:https://enjoywhereyouare.today/wp-content/uploads/2026/01/Gypsy-Tini-Tuesday.png
GEO:44.7635954;-85.6270257
X-APPLE-STRUCTURED-LOCATION;VALUE=URI;X-ADDRESS=Gypsy Spirits West Front Street Traverse City MI 49684 United States;X-APPLE-RADIUS=500;X-TITLE=West Front Street:geo:-85.6270257,44.7635954
END:VEVENT
BEGIN:VEVENT
DTSTART;TZID=America/New_York:20260224T160000
DTEND;TZID=America/New_York:20260224T180000
DTSTAMP:20260422T180837
CREATED:20251126T131435Z
LAST-MODIFIED:20260126T224503Z
UID:10014997-1771948800-1771956000@enjoywhereyouare.today
SUMMARY:Happy Hour
DESCRIPTION:$4 Canned Cocktails \n1/2 Off Classic Cocktails & Spirit + Mixers
URL:https://enjoywhereyouare.today/events/happy-hour-7/2026-02-24/
LOCATION:Gypsy Spirits\, West Front Street\, Traverse City\, MI\, 49684\, United States
CATEGORIES:*Downtown TC and Traverse City,Daily Specials
ATTACH;FMTTYPE=image/jpeg:https://enjoywhereyouare.today/wp-content/uploads/2025/11/Gypsy-Spirits.jpg
GEO:44.7635954;-85.6270257
X-APPLE-STRUCTURED-LOCATION;VALUE=URI;X-ADDRESS=Gypsy Spirits West Front Street Traverse City MI 49684 United States;X-APPLE-RADIUS=500;X-TITLE=West Front Street:geo:-85.6270257,44.7635954
END:VEVENT
BEGIN:VEVENT
DTSTART;TZID=America/New_York:20260223T160000
DTEND;TZID=America/New_York:20260223T220000
DTSTAMP:20260422T180837
CREATED:20260126T224043Z
LAST-MODIFIED:20260128T182139Z
UID:10015722-1771862400-1771884000@enjoywhereyouare.today
SUMMARY:MENS NIGHT
DESCRIPTION:1/2 OFF All Drinks!
URL:https://enjoywhereyouare.today/events/mens-night-2/2026-02-23/
LOCATION:Gypsy Spirits\, West Front Street\, Traverse City\, MI\, 49684\, United States
CATEGORIES:*Downtown TC and Traverse City,Daily Specials
ATTACH;FMTTYPE=image/png:https://enjoywhereyouare.today/wp-content/uploads/2026/01/Gypsy-Mens-Night-2.png
GEO:44.7635954;-85.6270257
X-APPLE-STRUCTURED-LOCATION;VALUE=URI;X-ADDRESS=Gypsy Spirits West Front Street Traverse City MI 49684 United States;X-APPLE-RADIUS=500;X-TITLE=West Front Street:geo:-85.6270257,44.7635954
END:VEVENT
BEGIN:VEVENT
DTSTART;TZID=America/New_York:20260223T160000
DTEND;TZID=America/New_York:20260223T180000
DTSTAMP:20260422T180837
CREATED:20251126T131435Z
LAST-MODIFIED:20260126T224503Z
UID:10014996-1771862400-1771869600@enjoywhereyouare.today
SUMMARY:Happy Hour
DESCRIPTION:$4 Canned Cocktails \n1/2 Off Classic Cocktails & Spirit + Mixers
URL:https://enjoywhereyouare.today/events/happy-hour-7/2026-02-23/
LOCATION:Gypsy Spirits\, West Front Street\, Traverse City\, MI\, 49684\, United States
CATEGORIES:*Downtown TC and Traverse City,Daily Specials
ATTACH;FMTTYPE=image/jpeg:https://enjoywhereyouare.today/wp-content/uploads/2025/11/Gypsy-Spirits.jpg
GEO:44.7635954;-85.6270257
X-APPLE-STRUCTURED-LOCATION;VALUE=URI;X-ADDRESS=Gypsy Spirits West Front Street Traverse City MI 49684 United States;X-APPLE-RADIUS=500;X-TITLE=West Front Street:geo:-85.6270257,44.7635954
END:VEVENT
BEGIN:VEVENT
DTSTART;TZID=America/New_York:20260219T160000
DTEND;TZID=America/New_York:20260219T220000
DTSTAMP:20260422T180837
CREATED:20260127T162238Z
LAST-MODIFIED:20260129T142759Z
UID:10015827-1771516800-1771538400@enjoywhereyouare.today
SUMMARY:LADIES NIGHT
DESCRIPTION:1/2 OFF All Drinks!
URL:https://enjoywhereyouare.today/events/ladies-night-2/2026-02-19/
LOCATION:Gypsy Spirits\, West Front Street\, Traverse City\, MI\, 49684\, United States
CATEGORIES:*Downtown TC and Traverse City,Daily Specials
ATTACH;FMTTYPE=image/png:https://enjoywhereyouare.today/wp-content/uploads/2026/01/Gypsy-Ladies-Night-1.png
GEO:44.7635954;-85.6270257
X-APPLE-STRUCTURED-LOCATION;VALUE=URI;X-ADDRESS=Gypsy Spirits West Front Street Traverse City MI 49684 United States;X-APPLE-RADIUS=500;X-TITLE=West Front Street:geo:-85.6270257,44.7635954
END:VEVENT
BEGIN:VEVENT
DTSTART;TZID=America/New_York:20260219T160000
DTEND;TZID=America/New_York:20260219T180000
DTSTAMP:20260422T180837
CREATED:20251126T131435Z
LAST-MODIFIED:20260126T224503Z
UID:10014992-1771516800-1771524000@enjoywhereyouare.today
SUMMARY:Happy Hour
DESCRIPTION:$4 Canned Cocktails \n1/2 Off Classic Cocktails & Spirit + Mixers
URL:https://enjoywhereyouare.today/events/happy-hour-7/2026-02-19/
LOCATION:Gypsy Spirits\, West Front Street\, Traverse City\, MI\, 49684\, United States
CATEGORIES:*Downtown TC and Traverse City,Daily Specials
ATTACH;FMTTYPE=image/jpeg:https://enjoywhereyouare.today/wp-content/uploads/2025/11/Gypsy-Spirits.jpg
GEO:44.7635954;-85.6270257
X-APPLE-STRUCTURED-LOCATION;VALUE=URI;X-ADDRESS=Gypsy Spirits West Front Street Traverse City MI 49684 United States;X-APPLE-RADIUS=500;X-TITLE=West Front Street:geo:-85.6270257,44.7635954
END:VEVENT
BEGIN:VEVENT
DTSTART;TZID=America/New_York:20260218T170000
DTEND;TZID=America/New_York:20260218T210000
DTSTAMP:20260422T180837
CREATED:20260127T195116Z
LAST-MODIFIED:20260129T161720Z
UID:10015949-1771434000-1771448400@enjoywhereyouare.today
SUMMARY:MOVIE NIGHT!
DESCRIPTION:MOVIE WATCH PARTY!\nDouble Feature every Wednesday!\nJanuary 28th\n5pm – Blades of Glory\n7pm – I\, Tonya \nFebruary 4th\n5pm – Mighty Ducks\n7pm – Cool Runnings
URL:https://enjoywhereyouare.today/events/movie-night-2/2026-02-18/
LOCATION:Gypsy Spirits\, West Front Street\, Traverse City\, MI\, 49684\, United States
CATEGORIES:*Downtown TC and Traverse City,Daily Specials
ATTACH;FMTTYPE=image/png:https://enjoywhereyouare.today/wp-content/uploads/2026/01/Gypsy-Watch-Party-2.png
GEO:44.7635954;-85.6270257
X-APPLE-STRUCTURED-LOCATION;VALUE=URI;X-ADDRESS=Gypsy Spirits West Front Street Traverse City MI 49684 United States;X-APPLE-RADIUS=500;X-TITLE=West Front Street:geo:-85.6270257,44.7635954
END:VEVENT
BEGIN:VEVENT
DTSTART;TZID=America/New_York:20260218T160000
DTEND;TZID=America/New_York:20260218T180000
DTSTAMP:20260422T180837
CREATED:20251126T131435Z
LAST-MODIFIED:20260126T224503Z
UID:10014991-1771430400-1771437600@enjoywhereyouare.today
SUMMARY:Happy Hour
DESCRIPTION:$4 Canned Cocktails \n1/2 Off Classic Cocktails & Spirit + Mixers
URL:https://enjoywhereyouare.today/events/happy-hour-7/2026-02-18/
LOCATION:Gypsy Spirits\, West Front Street\, Traverse City\, MI\, 49684\, United States
CATEGORIES:*Downtown TC and Traverse City,Daily Specials
ATTACH;FMTTYPE=image/jpeg:https://enjoywhereyouare.today/wp-content/uploads/2025/11/Gypsy-Spirits.jpg
GEO:44.7635954;-85.6270257
X-APPLE-STRUCTURED-LOCATION;VALUE=URI;X-ADDRESS=Gypsy Spirits West Front Street Traverse City MI 49684 United States;X-APPLE-RADIUS=500;X-TITLE=West Front Street:geo:-85.6270257,44.7635954
END:VEVENT
BEGIN:VEVENT
DTSTART;TZID=America/New_York:20260217T160000
DTEND;TZID=America/New_York:20260217T220000
DTSTAMP:20260422T180837
CREATED:20260129T150516Z
LAST-MODIFIED:20260129T150516Z
UID:10015932-1771344000-1771365600@enjoywhereyouare.today
SUMMARY:TINI TUESDAYS
DESCRIPTION:$7 Dirty and Dry Martinis all night!
URL:https://enjoywhereyouare.today/events/tini-tuesdays/2026-02-17/
LOCATION:Gypsy Spirits\, West Front Street\, Traverse City\, MI\, 49684\, United States
CATEGORIES:Daily Specials
ATTACH;FMTTYPE=image/png:https://enjoywhereyouare.today/wp-content/uploads/2026/01/Gypsy-Tini-Tuesday.png
GEO:44.7635954;-85.6270257
X-APPLE-STRUCTURED-LOCATION;VALUE=URI;X-ADDRESS=Gypsy Spirits West Front Street Traverse City MI 49684 United States;X-APPLE-RADIUS=500;X-TITLE=West Front Street:geo:-85.6270257,44.7635954
END:VEVENT
BEGIN:VEVENT
DTSTART;TZID=America/New_York:20260217T160000
DTEND;TZID=America/New_York:20260217T180000
DTSTAMP:20260422T180837
CREATED:20251126T131435Z
LAST-MODIFIED:20260126T224503Z
UID:10014990-1771344000-1771351200@enjoywhereyouare.today
SUMMARY:Happy Hour
DESCRIPTION:$4 Canned Cocktails \n1/2 Off Classic Cocktails & Spirit + Mixers
URL:https://enjoywhereyouare.today/events/happy-hour-7/2026-02-17/
LOCATION:Gypsy Spirits\, West Front Street\, Traverse City\, MI\, 49684\, United States
CATEGORIES:*Downtown TC and Traverse City,Daily Specials
ATTACH;FMTTYPE=image/jpeg:https://enjoywhereyouare.today/wp-content/uploads/2025/11/Gypsy-Spirits.jpg
GEO:44.7635954;-85.6270257
X-APPLE-STRUCTURED-LOCATION;VALUE=URI;X-ADDRESS=Gypsy Spirits West Front Street Traverse City MI 49684 United States;X-APPLE-RADIUS=500;X-TITLE=West Front Street:geo:-85.6270257,44.7635954
END:VEVENT
BEGIN:VEVENT
DTSTART;TZID=America/New_York:20260216T160000
DTEND;TZID=America/New_York:20260216T220000
DTSTAMP:20260422T180837
CREATED:20260126T224043Z
LAST-MODIFIED:20260128T182139Z
UID:10015721-1771257600-1771279200@enjoywhereyouare.today
SUMMARY:MENS NIGHT
DESCRIPTION:1/2 OFF All Drinks!
URL:https://enjoywhereyouare.today/events/mens-night-2/2026-02-16/
LOCATION:Gypsy Spirits\, West Front Street\, Traverse City\, MI\, 49684\, United States
CATEGORIES:*Downtown TC and Traverse City,Daily Specials
ATTACH;FMTTYPE=image/png:https://enjoywhereyouare.today/wp-content/uploads/2026/01/Gypsy-Mens-Night-2.png
GEO:44.7635954;-85.6270257
X-APPLE-STRUCTURED-LOCATION;VALUE=URI;X-ADDRESS=Gypsy Spirits West Front Street Traverse City MI 49684 United States;X-APPLE-RADIUS=500;X-TITLE=West Front Street:geo:-85.6270257,44.7635954
END:VEVENT
BEGIN:VEVENT
DTSTART;TZID=America/New_York:20260216T160000
DTEND;TZID=America/New_York:20260216T180000
DTSTAMP:20260422T180837
CREATED:20251126T131435Z
LAST-MODIFIED:20260126T224503Z
UID:10014989-1771257600-1771264800@enjoywhereyouare.today
SUMMARY:Happy Hour
DESCRIPTION:$4 Canned Cocktails \n1/2 Off Classic Cocktails & Spirit + Mixers
URL:https://enjoywhereyouare.today/events/happy-hour-7/2026-02-16/
LOCATION:Gypsy Spirits\, West Front Street\, Traverse City\, MI\, 49684\, United States
CATEGORIES:*Downtown TC and Traverse City,Daily Specials
ATTACH;FMTTYPE=image/jpeg:https://enjoywhereyouare.today/wp-content/uploads/2025/11/Gypsy-Spirits.jpg
GEO:44.7635954;-85.6270257
X-APPLE-STRUCTURED-LOCATION;VALUE=URI;X-ADDRESS=Gypsy Spirits West Front Street Traverse City MI 49684 United States;X-APPLE-RADIUS=500;X-TITLE=West Front Street:geo:-85.6270257,44.7635954
END:VEVENT
BEGIN:VEVENT
DTSTART;TZID=America/New_York:20260212T160000
DTEND;TZID=America/New_York:20260212T220000
DTSTAMP:20260422T180837
CREATED:20260127T162238Z
LAST-MODIFIED:20260129T142759Z
UID:10015826-1770912000-1770933600@enjoywhereyouare.today
SUMMARY:LADIES NIGHT
DESCRIPTION:1/2 OFF All Drinks!
URL:https://enjoywhereyouare.today/events/ladies-night-2/2026-02-12/
LOCATION:Gypsy Spirits\, West Front Street\, Traverse City\, MI\, 49684\, United States
CATEGORIES:*Downtown TC and Traverse City,Daily Specials
ATTACH;FMTTYPE=image/png:https://enjoywhereyouare.today/wp-content/uploads/2026/01/Gypsy-Ladies-Night-1.png
GEO:44.7635954;-85.6270257
X-APPLE-STRUCTURED-LOCATION;VALUE=URI;X-ADDRESS=Gypsy Spirits West Front Street Traverse City MI 49684 United States;X-APPLE-RADIUS=500;X-TITLE=West Front Street:geo:-85.6270257,44.7635954
END:VEVENT
BEGIN:VEVENT
DTSTART;TZID=America/New_York:20260212T160000
DTEND;TZID=America/New_York:20260212T180000
DTSTAMP:20260422T180837
CREATED:20251126T131435Z
LAST-MODIFIED:20260126T224503Z
UID:10014985-1770912000-1770919200@enjoywhereyouare.today
SUMMARY:Happy Hour
DESCRIPTION:$4 Canned Cocktails \n1/2 Off Classic Cocktails & Spirit + Mixers
URL:https://enjoywhereyouare.today/events/happy-hour-7/2026-02-12/
LOCATION:Gypsy Spirits\, West Front Street\, Traverse City\, MI\, 49684\, United States
CATEGORIES:*Downtown TC and Traverse City,Daily Specials
ATTACH;FMTTYPE=image/jpeg:https://enjoywhereyouare.today/wp-content/uploads/2025/11/Gypsy-Spirits.jpg
GEO:44.7635954;-85.6270257
X-APPLE-STRUCTURED-LOCATION;VALUE=URI;X-ADDRESS=Gypsy Spirits West Front Street Traverse City MI 49684 United States;X-APPLE-RADIUS=500;X-TITLE=West Front Street:geo:-85.6270257,44.7635954
END:VEVENT
BEGIN:VEVENT
DTSTART;TZID=America/New_York:20260211T170000
DTEND;TZID=America/New_York:20260211T210000
DTSTAMP:20260422T180837
CREATED:20260127T195116Z
LAST-MODIFIED:20260129T161720Z
UID:10015948-1770829200-1770843600@enjoywhereyouare.today
SUMMARY:MOVIE NIGHT!
DESCRIPTION:MOVIE WATCH PARTY!\nDouble Feature every Wednesday!\nJanuary 28th\n5pm – Blades of Glory\n7pm – I\, Tonya \nFebruary 4th\n5pm – Mighty Ducks\n7pm – Cool Runnings
URL:https://enjoywhereyouare.today/events/movie-night-2/2026-02-11/
LOCATION:Gypsy Spirits\, West Front Street\, Traverse City\, MI\, 49684\, United States
CATEGORIES:*Downtown TC and Traverse City,Daily Specials
ATTACH;FMTTYPE=image/png:https://enjoywhereyouare.today/wp-content/uploads/2026/01/Gypsy-Watch-Party-2.png
GEO:44.7635954;-85.6270257
X-APPLE-STRUCTURED-LOCATION;VALUE=URI;X-ADDRESS=Gypsy Spirits West Front Street Traverse City MI 49684 United States;X-APPLE-RADIUS=500;X-TITLE=West Front Street:geo:-85.6270257,44.7635954
END:VEVENT
BEGIN:VEVENT
DTSTART;TZID=America/New_York:20260211T160000
DTEND;TZID=America/New_York:20260211T180000
DTSTAMP:20260422T180837
CREATED:20251126T131435Z
LAST-MODIFIED:20260126T224503Z
UID:10014984-1770825600-1770832800@enjoywhereyouare.today
SUMMARY:Happy Hour
DESCRIPTION:$4 Canned Cocktails \n1/2 Off Classic Cocktails & Spirit + Mixers
URL:https://enjoywhereyouare.today/events/happy-hour-7/2026-02-11/
LOCATION:Gypsy Spirits\, West Front Street\, Traverse City\, MI\, 49684\, United States
CATEGORIES:*Downtown TC and Traverse City,Daily Specials
ATTACH;FMTTYPE=image/jpeg:https://enjoywhereyouare.today/wp-content/uploads/2025/11/Gypsy-Spirits.jpg
GEO:44.7635954;-85.6270257
X-APPLE-STRUCTURED-LOCATION;VALUE=URI;X-ADDRESS=Gypsy Spirits West Front Street Traverse City MI 49684 United States;X-APPLE-RADIUS=500;X-TITLE=West Front Street:geo:-85.6270257,44.7635954
END:VEVENT
BEGIN:VEVENT
DTSTART;TZID=America/New_York:20260210T160000
DTEND;TZID=America/New_York:20260210T220000
DTSTAMP:20260422T180837
CREATED:20260129T150516Z
LAST-MODIFIED:20260129T150516Z
UID:10015931-1770739200-1770760800@enjoywhereyouare.today
SUMMARY:TINI TUESDAYS
DESCRIPTION:$7 Dirty and Dry Martinis all night!
URL:https://enjoywhereyouare.today/events/tini-tuesdays/2026-02-10/
LOCATION:Gypsy Spirits\, West Front Street\, Traverse City\, MI\, 49684\, United States
CATEGORIES:Daily Specials
ATTACH;FMTTYPE=image/png:https://enjoywhereyouare.today/wp-content/uploads/2026/01/Gypsy-Tini-Tuesday.png
GEO:44.7635954;-85.6270257
X-APPLE-STRUCTURED-LOCATION;VALUE=URI;X-ADDRESS=Gypsy Spirits West Front Street Traverse City MI 49684 United States;X-APPLE-RADIUS=500;X-TITLE=West Front Street:geo:-85.6270257,44.7635954
END:VEVENT
BEGIN:VEVENT
DTSTART;TZID=America/New_York:20260210T160000
DTEND;TZID=America/New_York:20260210T180000
DTSTAMP:20260422T180837
CREATED:20251126T131435Z
LAST-MODIFIED:20260126T224503Z
UID:10014983-1770739200-1770746400@enjoywhereyouare.today
SUMMARY:Happy Hour
DESCRIPTION:$4 Canned Cocktails \n1/2 Off Classic Cocktails & Spirit + Mixers
URL:https://enjoywhereyouare.today/events/happy-hour-7/2026-02-10/
LOCATION:Gypsy Spirits\, West Front Street\, Traverse City\, MI\, 49684\, United States
CATEGORIES:*Downtown TC and Traverse City,Daily Specials
ATTACH;FMTTYPE=image/jpeg:https://enjoywhereyouare.today/wp-content/uploads/2025/11/Gypsy-Spirits.jpg
GEO:44.7635954;-85.6270257
X-APPLE-STRUCTURED-LOCATION;VALUE=URI;X-ADDRESS=Gypsy Spirits West Front Street Traverse City MI 49684 United States;X-APPLE-RADIUS=500;X-TITLE=West Front Street:geo:-85.6270257,44.7635954
END:VEVENT
BEGIN:VEVENT
DTSTART;TZID=America/New_York:20260209T160000
DTEND;TZID=America/New_York:20260209T220000
DTSTAMP:20260422T180837
CREATED:20260126T224043Z
LAST-MODIFIED:20260128T182139Z
UID:10015720-1770652800-1770674400@enjoywhereyouare.today
SUMMARY:MENS NIGHT
DESCRIPTION:1/2 OFF All Drinks!
URL:https://enjoywhereyouare.today/events/mens-night-2/2026-02-09/
LOCATION:Gypsy Spirits\, West Front Street\, Traverse City\, MI\, 49684\, United States
CATEGORIES:*Downtown TC and Traverse City,Daily Specials
ATTACH;FMTTYPE=image/png:https://enjoywhereyouare.today/wp-content/uploads/2026/01/Gypsy-Mens-Night-2.png
GEO:44.7635954;-85.6270257
X-APPLE-STRUCTURED-LOCATION;VALUE=URI;X-ADDRESS=Gypsy Spirits West Front Street Traverse City MI 49684 United States;X-APPLE-RADIUS=500;X-TITLE=West Front Street:geo:-85.6270257,44.7635954
END:VEVENT
BEGIN:VEVENT
DTSTART;TZID=America/New_York:20260209T160000
DTEND;TZID=America/New_York:20260209T180000
DTSTAMP:20260422T180837
CREATED:20251126T131435Z
LAST-MODIFIED:20260126T224503Z
UID:10014982-1770652800-1770660000@enjoywhereyouare.today
SUMMARY:Happy Hour
DESCRIPTION:$4 Canned Cocktails \n1/2 Off Classic Cocktails & Spirit + Mixers
URL:https://enjoywhereyouare.today/events/happy-hour-7/2026-02-09/
LOCATION:Gypsy Spirits\, West Front Street\, Traverse City\, MI\, 49684\, United States
CATEGORIES:*Downtown TC and Traverse City,Daily Specials
ATTACH;FMTTYPE=image/jpeg:https://enjoywhereyouare.today/wp-content/uploads/2025/11/Gypsy-Spirits.jpg
GEO:44.7635954;-85.6270257
X-APPLE-STRUCTURED-LOCATION;VALUE=URI;X-ADDRESS=Gypsy Spirits West Front Street Traverse City MI 49684 United States;X-APPLE-RADIUS=500;X-TITLE=West Front Street:geo:-85.6270257,44.7635954
END:VEVENT
BEGIN:VEVENT
DTSTART;TZID=America/New_York:20260205T160000
DTEND;TZID=America/New_York:20260205T220000
DTSTAMP:20260422T180837
CREATED:20260127T162238Z
LAST-MODIFIED:20260129T142759Z
UID:10015825-1770307200-1770328800@enjoywhereyouare.today
SUMMARY:LADIES NIGHT
DESCRIPTION:1/2 OFF All Drinks!
URL:https://enjoywhereyouare.today/events/ladies-night-2/2026-02-05/
LOCATION:Gypsy Spirits\, West Front Street\, Traverse City\, MI\, 49684\, United States
CATEGORIES:*Downtown TC and Traverse City,Daily Specials
ATTACH;FMTTYPE=image/png:https://enjoywhereyouare.today/wp-content/uploads/2026/01/Gypsy-Ladies-Night-1.png
GEO:44.7635954;-85.6270257
X-APPLE-STRUCTURED-LOCATION;VALUE=URI;X-ADDRESS=Gypsy Spirits West Front Street Traverse City MI 49684 United States;X-APPLE-RADIUS=500;X-TITLE=West Front Street:geo:-85.6270257,44.7635954
END:VEVENT
BEGIN:VEVENT
DTSTART;TZID=America/New_York:20260205T160000
DTEND;TZID=America/New_York:20260205T180000
DTSTAMP:20260422T180837
CREATED:20251126T131435Z
LAST-MODIFIED:20260126T224503Z
UID:10014978-1770307200-1770314400@enjoywhereyouare.today
SUMMARY:Happy Hour
DESCRIPTION:$4 Canned Cocktails \n1/2 Off Classic Cocktails & Spirit + Mixers
URL:https://enjoywhereyouare.today/events/happy-hour-7/2026-02-05/
LOCATION:Gypsy Spirits\, West Front Street\, Traverse City\, MI\, 49684\, United States
CATEGORIES:*Downtown TC and Traverse City,Daily Specials
ATTACH;FMTTYPE=image/jpeg:https://enjoywhereyouare.today/wp-content/uploads/2025/11/Gypsy-Spirits.jpg
GEO:44.7635954;-85.6270257
X-APPLE-STRUCTURED-LOCATION;VALUE=URI;X-ADDRESS=Gypsy Spirits West Front Street Traverse City MI 49684 United States;X-APPLE-RADIUS=500;X-TITLE=West Front Street:geo:-85.6270257,44.7635954
END:VEVENT
BEGIN:VEVENT
DTSTART;TZID=America/New_York:20260204T170000
DTEND;TZID=America/New_York:20260204T210000
DTSTAMP:20260422T180837
CREATED:20260127T195116Z
LAST-MODIFIED:20260129T161720Z
UID:10015947-1770224400-1770238800@enjoywhereyouare.today
SUMMARY:MOVIE NIGHT!
DESCRIPTION:MOVIE WATCH PARTY!\nDouble Feature every Wednesday!\nJanuary 28th\n5pm – Blades of Glory\n7pm – I\, Tonya \nFebruary 4th\n5pm – Mighty Ducks\n7pm – Cool Runnings
URL:https://enjoywhereyouare.today/events/movie-night-2/2026-02-04/
LOCATION:Gypsy Spirits\, West Front Street\, Traverse City\, MI\, 49684\, United States
CATEGORIES:*Downtown TC and Traverse City,Daily Specials
ATTACH;FMTTYPE=image/png:https://enjoywhereyouare.today/wp-content/uploads/2026/01/Gypsy-Watch-Party-2.png
GEO:44.7635954;-85.6270257
X-APPLE-STRUCTURED-LOCATION;VALUE=URI;X-ADDRESS=Gypsy Spirits West Front Street Traverse City MI 49684 United States;X-APPLE-RADIUS=500;X-TITLE=West Front Street:geo:-85.6270257,44.7635954
END:VEVENT
BEGIN:VEVENT
DTSTART;TZID=America/New_York:20260204T160000
DTEND;TZID=America/New_York:20260204T180000
DTSTAMP:20260422T180837
CREATED:20251126T131435Z
LAST-MODIFIED:20260126T224503Z
UID:10014977-1770220800-1770228000@enjoywhereyouare.today
SUMMARY:Happy Hour
DESCRIPTION:$4 Canned Cocktails \n1/2 Off Classic Cocktails & Spirit + Mixers
URL:https://enjoywhereyouare.today/events/happy-hour-7/2026-02-04/
LOCATION:Gypsy Spirits\, West Front Street\, Traverse City\, MI\, 49684\, United States
CATEGORIES:*Downtown TC and Traverse City,Daily Specials
ATTACH;FMTTYPE=image/jpeg:https://enjoywhereyouare.today/wp-content/uploads/2025/11/Gypsy-Spirits.jpg
GEO:44.7635954;-85.6270257
X-APPLE-STRUCTURED-LOCATION;VALUE=URI;X-ADDRESS=Gypsy Spirits West Front Street Traverse City MI 49684 United States;X-APPLE-RADIUS=500;X-TITLE=West Front Street:geo:-85.6270257,44.7635954
END:VEVENT
BEGIN:VEVENT
DTSTART;TZID=America/New_York:20260203T160000
DTEND;TZID=America/New_York:20260203T220000
DTSTAMP:20260422T180837
CREATED:20260129T150516Z
LAST-MODIFIED:20260129T150516Z
UID:10015930-1770134400-1770156000@enjoywhereyouare.today
SUMMARY:TINI TUESDAYS
DESCRIPTION:$7 Dirty and Dry Martinis all night!
URL:https://enjoywhereyouare.today/events/tini-tuesdays/2026-02-03/
LOCATION:Gypsy Spirits\, West Front Street\, Traverse City\, MI\, 49684\, United States
CATEGORIES:Daily Specials
ATTACH;FMTTYPE=image/png:https://enjoywhereyouare.today/wp-content/uploads/2026/01/Gypsy-Tini-Tuesday.png
GEO:44.7635954;-85.6270257
X-APPLE-STRUCTURED-LOCATION;VALUE=URI;X-ADDRESS=Gypsy Spirits West Front Street Traverse City MI 49684 United States;X-APPLE-RADIUS=500;X-TITLE=West Front Street:geo:-85.6270257,44.7635954
END:VEVENT
END:VCALENDAR