BEGIN:VCALENDAR
VERSION:2.0
PRODID:-//Enjoy Where You Are - ECPv6.5.2//NONSGML v1.0//EN
CALSCALE:GREGORIAN
METHOD:PUBLISH
X-ORIGINAL-URL:https://enjoywhereyouare.today
X-WR-CALDESC:Events for Enjoy Where You Are
REFRESH-INTERVAL;VALUE=DURATION:PT1H
X-Robots-Tag:noindex
X-PUBLISHED-TTL:PT1H
BEGIN:VTIMEZONE
TZID:America/New_York
BEGIN:DAYLIGHT
TZOFFSETFROM:-0500
TZOFFSETTO:-0400
TZNAME:EDT
DTSTART:20260308T070000
END:DAYLIGHT
BEGIN:STANDARD
TZOFFSETFROM:-0400
TZOFFSETTO:-0500
TZNAME:EST
DTSTART:20261101T060000
END:STANDARD
END:VTIMEZONE
BEGIN:VEVENT
DTSTART;TZID=America/New_York:20260527T160000
DTEND;TZID=America/New_York:20260527T180000
DTSTAMP:20260422T150327
CREATED:20251126T131435Z
LAST-MODIFIED:20260126T224503Z
UID:10015089-1779897600-1779904800@enjoywhereyouare.today
SUMMARY:Happy Hour
DESCRIPTION:$4 Canned Cocktails \n1/2 Off Classic Cocktails & Spirit + Mixers
URL:https://enjoywhereyouare.today/events/happy-hour-7/2026-05-27/
LOCATION:Gypsy Spirits\, West Front Street\, Traverse City\, MI\, 49684\, United States
CATEGORIES:*Downtown TC and Traverse City,Daily Specials
ATTACH;FMTTYPE=image/jpeg:https://enjoywhereyouare.today/wp-content/uploads/2025/11/Gypsy-Spirits.jpg
GEO:44.7635954;-85.6270257
X-APPLE-STRUCTURED-LOCATION;VALUE=URI;X-ADDRESS=Gypsy Spirits West Front Street Traverse City MI 49684 United States;X-APPLE-RADIUS=500;X-TITLE=West Front Street:geo:-85.6270257,44.7635954
END:VEVENT
BEGIN:VEVENT
DTSTART;TZID=America/New_York:20260527T170000
DTEND;TZID=America/New_York:20260527T210000
DTSTAMP:20260422T150327
CREATED:20260127T195116Z
LAST-MODIFIED:20260129T161720Z
UID:10015963-1779901200-1779915600@enjoywhereyouare.today
SUMMARY:MOVIE NIGHT!
DESCRIPTION:MOVIE WATCH PARTY!\nDouble Feature every Wednesday!\nJanuary 28th\n5pm – Blades of Glory\n7pm – I\, Tonya \nFebruary 4th\n5pm – Mighty Ducks\n7pm – Cool Runnings
URL:https://enjoywhereyouare.today/events/movie-night-2/2026-05-27/
LOCATION:Gypsy Spirits\, West Front Street\, Traverse City\, MI\, 49684\, United States
CATEGORIES:*Downtown TC and Traverse City,Daily Specials
ATTACH;FMTTYPE=image/png:https://enjoywhereyouare.today/wp-content/uploads/2026/01/Gypsy-Watch-Party-2.png
GEO:44.7635954;-85.6270257
X-APPLE-STRUCTURED-LOCATION;VALUE=URI;X-ADDRESS=Gypsy Spirits West Front Street Traverse City MI 49684 United States;X-APPLE-RADIUS=500;X-TITLE=West Front Street:geo:-85.6270257,44.7635954
END:VEVENT
BEGIN:VEVENT
DTSTART;TZID=America/New_York:20260528T160000
DTEND;TZID=America/New_York:20260528T180000
DTSTAMP:20260422T150327
CREATED:20251126T131435Z
LAST-MODIFIED:20260126T224503Z
UID:10015090-1779984000-1779991200@enjoywhereyouare.today
SUMMARY:Happy Hour
DESCRIPTION:$4 Canned Cocktails \n1/2 Off Classic Cocktails & Spirit + Mixers
URL:https://enjoywhereyouare.today/events/happy-hour-7/2026-05-28/
LOCATION:Gypsy Spirits\, West Front Street\, Traverse City\, MI\, 49684\, United States
CATEGORIES:*Downtown TC and Traverse City,Daily Specials
ATTACH;FMTTYPE=image/jpeg:https://enjoywhereyouare.today/wp-content/uploads/2025/11/Gypsy-Spirits.jpg
GEO:44.7635954;-85.6270257
X-APPLE-STRUCTURED-LOCATION;VALUE=URI;X-ADDRESS=Gypsy Spirits West Front Street Traverse City MI 49684 United States;X-APPLE-RADIUS=500;X-TITLE=West Front Street:geo:-85.6270257,44.7635954
END:VEVENT
BEGIN:VEVENT
DTSTART;TZID=America/New_York:20260528T160000
DTEND;TZID=America/New_York:20260528T220000
DTSTAMP:20260422T150327
CREATED:20260127T162238Z
LAST-MODIFIED:20260129T142759Z
UID:10015841-1779984000-1780005600@enjoywhereyouare.today
SUMMARY:LADIES NIGHT
DESCRIPTION:1/2 OFF All Drinks!
URL:https://enjoywhereyouare.today/events/ladies-night-2/2026-05-28/
LOCATION:Gypsy Spirits\, West Front Street\, Traverse City\, MI\, 49684\, United States
CATEGORIES:*Downtown TC and Traverse City,Daily Specials
ATTACH;FMTTYPE=image/png:https://enjoywhereyouare.today/wp-content/uploads/2026/01/Gypsy-Ladies-Night-1.png
GEO:44.7635954;-85.6270257
X-APPLE-STRUCTURED-LOCATION;VALUE=URI;X-ADDRESS=Gypsy Spirits West Front Street Traverse City MI 49684 United States;X-APPLE-RADIUS=500;X-TITLE=West Front Street:geo:-85.6270257,44.7635954
END:VEVENT
BEGIN:VEVENT
DTSTART;TZID=America/New_York:20260601T160000
DTEND;TZID=America/New_York:20260601T180000
DTSTAMP:20260422T150327
CREATED:20251126T131435Z
LAST-MODIFIED:20260126T224503Z
UID:10015094-1780329600-1780336800@enjoywhereyouare.today
SUMMARY:Happy Hour
DESCRIPTION:$4 Canned Cocktails \n1/2 Off Classic Cocktails & Spirit + Mixers
URL:https://enjoywhereyouare.today/events/happy-hour-7/2026-06-01/
LOCATION:Gypsy Spirits\, West Front Street\, Traverse City\, MI\, 49684\, United States
CATEGORIES:*Downtown TC and Traverse City,Daily Specials
ATTACH;FMTTYPE=image/jpeg:https://enjoywhereyouare.today/wp-content/uploads/2025/11/Gypsy-Spirits.jpg
GEO:44.7635954;-85.6270257
X-APPLE-STRUCTURED-LOCATION;VALUE=URI;X-ADDRESS=Gypsy Spirits West Front Street Traverse City MI 49684 United States;X-APPLE-RADIUS=500;X-TITLE=West Front Street:geo:-85.6270257,44.7635954
END:VEVENT
BEGIN:VEVENT
DTSTART;TZID=America/New_York:20260602T160000
DTEND;TZID=America/New_York:20260602T180000
DTSTAMP:20260422T150327
CREATED:20251126T131435Z
LAST-MODIFIED:20260126T224503Z
UID:10015095-1780416000-1780423200@enjoywhereyouare.today
SUMMARY:Happy Hour
DESCRIPTION:$4 Canned Cocktails \n1/2 Off Classic Cocktails & Spirit + Mixers
URL:https://enjoywhereyouare.today/events/happy-hour-7/2026-06-02/
LOCATION:Gypsy Spirits\, West Front Street\, Traverse City\, MI\, 49684\, United States
CATEGORIES:*Downtown TC and Traverse City,Daily Specials
ATTACH;FMTTYPE=image/jpeg:https://enjoywhereyouare.today/wp-content/uploads/2025/11/Gypsy-Spirits.jpg
GEO:44.7635954;-85.6270257
X-APPLE-STRUCTURED-LOCATION;VALUE=URI;X-ADDRESS=Gypsy Spirits West Front Street Traverse City MI 49684 United States;X-APPLE-RADIUS=500;X-TITLE=West Front Street:geo:-85.6270257,44.7635954
END:VEVENT
BEGIN:VEVENT
DTSTART;TZID=America/New_York:20260603T160000
DTEND;TZID=America/New_York:20260603T180000
DTSTAMP:20260422T150327
CREATED:20251126T131435Z
LAST-MODIFIED:20260126T224503Z
UID:10015096-1780502400-1780509600@enjoywhereyouare.today
SUMMARY:Happy Hour
DESCRIPTION:$4 Canned Cocktails \n1/2 Off Classic Cocktails & Spirit + Mixers
URL:https://enjoywhereyouare.today/events/happy-hour-7/2026-06-03/
LOCATION:Gypsy Spirits\, West Front Street\, Traverse City\, MI\, 49684\, United States
CATEGORIES:*Downtown TC and Traverse City,Daily Specials
ATTACH;FMTTYPE=image/jpeg:https://enjoywhereyouare.today/wp-content/uploads/2025/11/Gypsy-Spirits.jpg
GEO:44.7635954;-85.6270257
X-APPLE-STRUCTURED-LOCATION;VALUE=URI;X-ADDRESS=Gypsy Spirits West Front Street Traverse City MI 49684 United States;X-APPLE-RADIUS=500;X-TITLE=West Front Street:geo:-85.6270257,44.7635954
END:VEVENT
BEGIN:VEVENT
DTSTART;TZID=America/New_York:20260604T160000
DTEND;TZID=America/New_York:20260604T180000
DTSTAMP:20260422T150327
CREATED:20251126T131435Z
LAST-MODIFIED:20260126T224503Z
UID:10015097-1780588800-1780596000@enjoywhereyouare.today
SUMMARY:Happy Hour
DESCRIPTION:$4 Canned Cocktails \n1/2 Off Classic Cocktails & Spirit + Mixers
URL:https://enjoywhereyouare.today/events/happy-hour-7/2026-06-04/
LOCATION:Gypsy Spirits\, West Front Street\, Traverse City\, MI\, 49684\, United States
CATEGORIES:*Downtown TC and Traverse City,Daily Specials
ATTACH;FMTTYPE=image/jpeg:https://enjoywhereyouare.today/wp-content/uploads/2025/11/Gypsy-Spirits.jpg
GEO:44.7635954;-85.6270257
X-APPLE-STRUCTURED-LOCATION;VALUE=URI;X-ADDRESS=Gypsy Spirits West Front Street Traverse City MI 49684 United States;X-APPLE-RADIUS=500;X-TITLE=West Front Street:geo:-85.6270257,44.7635954
END:VEVENT
BEGIN:VEVENT
DTSTART;TZID=America/New_York:20260608T160000
DTEND;TZID=America/New_York:20260608T180000
DTSTAMP:20260422T150327
CREATED:20251126T131435Z
LAST-MODIFIED:20260126T224503Z
UID:10015101-1780934400-1780941600@enjoywhereyouare.today
SUMMARY:Happy Hour
DESCRIPTION:$4 Canned Cocktails \n1/2 Off Classic Cocktails & Spirit + Mixers
URL:https://enjoywhereyouare.today/events/happy-hour-7/2026-06-08/
LOCATION:Gypsy Spirits\, West Front Street\, Traverse City\, MI\, 49684\, United States
CATEGORIES:*Downtown TC and Traverse City,Daily Specials
ATTACH;FMTTYPE=image/jpeg:https://enjoywhereyouare.today/wp-content/uploads/2025/11/Gypsy-Spirits.jpg
GEO:44.7635954;-85.6270257
X-APPLE-STRUCTURED-LOCATION;VALUE=URI;X-ADDRESS=Gypsy Spirits West Front Street Traverse City MI 49684 United States;X-APPLE-RADIUS=500;X-TITLE=West Front Street:geo:-85.6270257,44.7635954
END:VEVENT
BEGIN:VEVENT
DTSTART;TZID=America/New_York:20260609T160000
DTEND;TZID=America/New_York:20260609T180000
DTSTAMP:20260422T150327
CREATED:20251126T131435Z
LAST-MODIFIED:20260126T224503Z
UID:10015102-1781020800-1781028000@enjoywhereyouare.today
SUMMARY:Happy Hour
DESCRIPTION:$4 Canned Cocktails \n1/2 Off Classic Cocktails & Spirit + Mixers
URL:https://enjoywhereyouare.today/events/happy-hour-7/2026-06-09/
LOCATION:Gypsy Spirits\, West Front Street\, Traverse City\, MI\, 49684\, United States
CATEGORIES:*Downtown TC and Traverse City,Daily Specials
ATTACH;FMTTYPE=image/jpeg:https://enjoywhereyouare.today/wp-content/uploads/2025/11/Gypsy-Spirits.jpg
GEO:44.7635954;-85.6270257
X-APPLE-STRUCTURED-LOCATION;VALUE=URI;X-ADDRESS=Gypsy Spirits West Front Street Traverse City MI 49684 United States;X-APPLE-RADIUS=500;X-TITLE=West Front Street:geo:-85.6270257,44.7635954
END:VEVENT
BEGIN:VEVENT
DTSTART;TZID=America/New_York:20260610T160000
DTEND;TZID=America/New_York:20260610T180000
DTSTAMP:20260422T150327
CREATED:20251126T131435Z
LAST-MODIFIED:20260126T224503Z
UID:10015103-1781107200-1781114400@enjoywhereyouare.today
SUMMARY:Happy Hour
DESCRIPTION:$4 Canned Cocktails \n1/2 Off Classic Cocktails & Spirit + Mixers
URL:https://enjoywhereyouare.today/events/happy-hour-7/2026-06-10/
LOCATION:Gypsy Spirits\, West Front Street\, Traverse City\, MI\, 49684\, United States
CATEGORIES:*Downtown TC and Traverse City,Daily Specials
ATTACH;FMTTYPE=image/jpeg:https://enjoywhereyouare.today/wp-content/uploads/2025/11/Gypsy-Spirits.jpg
GEO:44.7635954;-85.6270257
X-APPLE-STRUCTURED-LOCATION;VALUE=URI;X-ADDRESS=Gypsy Spirits West Front Street Traverse City MI 49684 United States;X-APPLE-RADIUS=500;X-TITLE=West Front Street:geo:-85.6270257,44.7635954
END:VEVENT
BEGIN:VEVENT
DTSTART;TZID=America/New_York:20260611T160000
DTEND;TZID=America/New_York:20260611T180000
DTSTAMP:20260422T150327
CREATED:20251126T131435Z
LAST-MODIFIED:20260126T224503Z
UID:10015104-1781193600-1781200800@enjoywhereyouare.today
SUMMARY:Happy Hour
DESCRIPTION:$4 Canned Cocktails \n1/2 Off Classic Cocktails & Spirit + Mixers
URL:https://enjoywhereyouare.today/events/happy-hour-7/2026-06-11/
LOCATION:Gypsy Spirits\, West Front Street\, Traverse City\, MI\, 49684\, United States
CATEGORIES:*Downtown TC and Traverse City,Daily Specials
ATTACH;FMTTYPE=image/jpeg:https://enjoywhereyouare.today/wp-content/uploads/2025/11/Gypsy-Spirits.jpg
GEO:44.7635954;-85.6270257
X-APPLE-STRUCTURED-LOCATION;VALUE=URI;X-ADDRESS=Gypsy Spirits West Front Street Traverse City MI 49684 United States;X-APPLE-RADIUS=500;X-TITLE=West Front Street:geo:-85.6270257,44.7635954
END:VEVENT
BEGIN:VEVENT
DTSTART;TZID=America/New_York:20260615T160000
DTEND;TZID=America/New_York:20260615T180000
DTSTAMP:20260422T150327
CREATED:20251126T131435Z
LAST-MODIFIED:20260126T224503Z
UID:10015108-1781539200-1781546400@enjoywhereyouare.today
SUMMARY:Happy Hour
DESCRIPTION:$4 Canned Cocktails \n1/2 Off Classic Cocktails & Spirit + Mixers
URL:https://enjoywhereyouare.today/events/happy-hour-7/2026-06-15/
LOCATION:Gypsy Spirits\, West Front Street\, Traverse City\, MI\, 49684\, United States
CATEGORIES:*Downtown TC and Traverse City,Daily Specials
ATTACH;FMTTYPE=image/jpeg:https://enjoywhereyouare.today/wp-content/uploads/2025/11/Gypsy-Spirits.jpg
GEO:44.7635954;-85.6270257
X-APPLE-STRUCTURED-LOCATION;VALUE=URI;X-ADDRESS=Gypsy Spirits West Front Street Traverse City MI 49684 United States;X-APPLE-RADIUS=500;X-TITLE=West Front Street:geo:-85.6270257,44.7635954
END:VEVENT
BEGIN:VEVENT
DTSTART;TZID=America/New_York:20260616T160000
DTEND;TZID=America/New_York:20260616T180000
DTSTAMP:20260422T150327
CREATED:20251126T131435Z
LAST-MODIFIED:20260126T224503Z
UID:10015109-1781625600-1781632800@enjoywhereyouare.today
SUMMARY:Happy Hour
DESCRIPTION:$4 Canned Cocktails \n1/2 Off Classic Cocktails & Spirit + Mixers
URL:https://enjoywhereyouare.today/events/happy-hour-7/2026-06-16/
LOCATION:Gypsy Spirits\, West Front Street\, Traverse City\, MI\, 49684\, United States
CATEGORIES:*Downtown TC and Traverse City,Daily Specials
ATTACH;FMTTYPE=image/jpeg:https://enjoywhereyouare.today/wp-content/uploads/2025/11/Gypsy-Spirits.jpg
GEO:44.7635954;-85.6270257
X-APPLE-STRUCTURED-LOCATION;VALUE=URI;X-ADDRESS=Gypsy Spirits West Front Street Traverse City MI 49684 United States;X-APPLE-RADIUS=500;X-TITLE=West Front Street:geo:-85.6270257,44.7635954
END:VEVENT
BEGIN:VEVENT
DTSTART;TZID=America/New_York:20260617T160000
DTEND;TZID=America/New_York:20260617T180000
DTSTAMP:20260422T150327
CREATED:20251126T131435Z
LAST-MODIFIED:20260126T224503Z
UID:10015110-1781712000-1781719200@enjoywhereyouare.today
SUMMARY:Happy Hour
DESCRIPTION:$4 Canned Cocktails \n1/2 Off Classic Cocktails & Spirit + Mixers
URL:https://enjoywhereyouare.today/events/happy-hour-7/2026-06-17/
LOCATION:Gypsy Spirits\, West Front Street\, Traverse City\, MI\, 49684\, United States
CATEGORIES:*Downtown TC and Traverse City,Daily Specials
ATTACH;FMTTYPE=image/jpeg:https://enjoywhereyouare.today/wp-content/uploads/2025/11/Gypsy-Spirits.jpg
GEO:44.7635954;-85.6270257
X-APPLE-STRUCTURED-LOCATION;VALUE=URI;X-ADDRESS=Gypsy Spirits West Front Street Traverse City MI 49684 United States;X-APPLE-RADIUS=500;X-TITLE=West Front Street:geo:-85.6270257,44.7635954
END:VEVENT
BEGIN:VEVENT
DTSTART;TZID=America/New_York:20260618T160000
DTEND;TZID=America/New_York:20260618T180000
DTSTAMP:20260422T150327
CREATED:20251126T131435Z
LAST-MODIFIED:20260126T224503Z
UID:10015111-1781798400-1781805600@enjoywhereyouare.today
SUMMARY:Happy Hour
DESCRIPTION:$4 Canned Cocktails \n1/2 Off Classic Cocktails & Spirit + Mixers
URL:https://enjoywhereyouare.today/events/happy-hour-7/2026-06-18/
LOCATION:Gypsy Spirits\, West Front Street\, Traverse City\, MI\, 49684\, United States
CATEGORIES:*Downtown TC and Traverse City,Daily Specials
ATTACH;FMTTYPE=image/jpeg:https://enjoywhereyouare.today/wp-content/uploads/2025/11/Gypsy-Spirits.jpg
GEO:44.7635954;-85.6270257
X-APPLE-STRUCTURED-LOCATION;VALUE=URI;X-ADDRESS=Gypsy Spirits West Front Street Traverse City MI 49684 United States;X-APPLE-RADIUS=500;X-TITLE=West Front Street:geo:-85.6270257,44.7635954
END:VEVENT
BEGIN:VEVENT
DTSTART;TZID=America/New_York:20260622T160000
DTEND;TZID=America/New_York:20260622T180000
DTSTAMP:20260422T150327
CREATED:20251126T131435Z
LAST-MODIFIED:20260126T224503Z
UID:10015115-1782144000-1782151200@enjoywhereyouare.today
SUMMARY:Happy Hour
DESCRIPTION:$4 Canned Cocktails \n1/2 Off Classic Cocktails & Spirit + Mixers
URL:https://enjoywhereyouare.today/events/happy-hour-7/2026-06-22/
LOCATION:Gypsy Spirits\, West Front Street\, Traverse City\, MI\, 49684\, United States
CATEGORIES:*Downtown TC and Traverse City,Daily Specials
ATTACH;FMTTYPE=image/jpeg:https://enjoywhereyouare.today/wp-content/uploads/2025/11/Gypsy-Spirits.jpg
GEO:44.7635954;-85.6270257
X-APPLE-STRUCTURED-LOCATION;VALUE=URI;X-ADDRESS=Gypsy Spirits West Front Street Traverse City MI 49684 United States;X-APPLE-RADIUS=500;X-TITLE=West Front Street:geo:-85.6270257,44.7635954
END:VEVENT
BEGIN:VEVENT
DTSTART;TZID=America/New_York:20260623T160000
DTEND;TZID=America/New_York:20260623T180000
DTSTAMP:20260422T150327
CREATED:20251126T131435Z
LAST-MODIFIED:20260126T224503Z
UID:10015116-1782230400-1782237600@enjoywhereyouare.today
SUMMARY:Happy Hour
DESCRIPTION:$4 Canned Cocktails \n1/2 Off Classic Cocktails & Spirit + Mixers
URL:https://enjoywhereyouare.today/events/happy-hour-7/2026-06-23/
LOCATION:Gypsy Spirits\, West Front Street\, Traverse City\, MI\, 49684\, United States
CATEGORIES:*Downtown TC and Traverse City,Daily Specials
ATTACH;FMTTYPE=image/jpeg:https://enjoywhereyouare.today/wp-content/uploads/2025/11/Gypsy-Spirits.jpg
GEO:44.7635954;-85.6270257
X-APPLE-STRUCTURED-LOCATION;VALUE=URI;X-ADDRESS=Gypsy Spirits West Front Street Traverse City MI 49684 United States;X-APPLE-RADIUS=500;X-TITLE=West Front Street:geo:-85.6270257,44.7635954
END:VEVENT
BEGIN:VEVENT
DTSTART;TZID=America/New_York:20260624T160000
DTEND;TZID=America/New_York:20260624T180000
DTSTAMP:20260422T150327
CREATED:20251126T131435Z
LAST-MODIFIED:20260126T224503Z
UID:10015117-1782316800-1782324000@enjoywhereyouare.today
SUMMARY:Happy Hour
DESCRIPTION:$4 Canned Cocktails \n1/2 Off Classic Cocktails & Spirit + Mixers
URL:https://enjoywhereyouare.today/events/happy-hour-7/2026-06-24/
LOCATION:Gypsy Spirits\, West Front Street\, Traverse City\, MI\, 49684\, United States
CATEGORIES:*Downtown TC and Traverse City,Daily Specials
ATTACH;FMTTYPE=image/jpeg:https://enjoywhereyouare.today/wp-content/uploads/2025/11/Gypsy-Spirits.jpg
GEO:44.7635954;-85.6270257
X-APPLE-STRUCTURED-LOCATION;VALUE=URI;X-ADDRESS=Gypsy Spirits West Front Street Traverse City MI 49684 United States;X-APPLE-RADIUS=500;X-TITLE=West Front Street:geo:-85.6270257,44.7635954
END:VEVENT
BEGIN:VEVENT
DTSTART;TZID=America/New_York:20260625T160000
DTEND;TZID=America/New_York:20260625T180000
DTSTAMP:20260422T150327
CREATED:20251126T131435Z
LAST-MODIFIED:20260126T224503Z
UID:10015118-1782403200-1782410400@enjoywhereyouare.today
SUMMARY:Happy Hour
DESCRIPTION:$4 Canned Cocktails \n1/2 Off Classic Cocktails & Spirit + Mixers
URL:https://enjoywhereyouare.today/events/happy-hour-7/2026-06-25/
LOCATION:Gypsy Spirits\, West Front Street\, Traverse City\, MI\, 49684\, United States
CATEGORIES:*Downtown TC and Traverse City,Daily Specials
ATTACH;FMTTYPE=image/jpeg:https://enjoywhereyouare.today/wp-content/uploads/2025/11/Gypsy-Spirits.jpg
GEO:44.7635954;-85.6270257
X-APPLE-STRUCTURED-LOCATION;VALUE=URI;X-ADDRESS=Gypsy Spirits West Front Street Traverse City MI 49684 United States;X-APPLE-RADIUS=500;X-TITLE=West Front Street:geo:-85.6270257,44.7635954
END:VEVENT
BEGIN:VEVENT
DTSTART;TZID=America/New_York:20260629T160000
DTEND;TZID=America/New_York:20260629T180000
DTSTAMP:20260422T150327
CREATED:20251126T131435Z
LAST-MODIFIED:20260126T224503Z
UID:10015122-1782748800-1782756000@enjoywhereyouare.today
SUMMARY:Happy Hour
DESCRIPTION:$4 Canned Cocktails \n1/2 Off Classic Cocktails & Spirit + Mixers
URL:https://enjoywhereyouare.today/events/happy-hour-7/2026-06-29/
LOCATION:Gypsy Spirits\, West Front Street\, Traverse City\, MI\, 49684\, United States
CATEGORIES:*Downtown TC and Traverse City,Daily Specials
ATTACH;FMTTYPE=image/jpeg:https://enjoywhereyouare.today/wp-content/uploads/2025/11/Gypsy-Spirits.jpg
GEO:44.7635954;-85.6270257
X-APPLE-STRUCTURED-LOCATION;VALUE=URI;X-ADDRESS=Gypsy Spirits West Front Street Traverse City MI 49684 United States;X-APPLE-RADIUS=500;X-TITLE=West Front Street:geo:-85.6270257,44.7635954
END:VEVENT
BEGIN:VEVENT
DTSTART;TZID=America/New_York:20260630T160000
DTEND;TZID=America/New_York:20260630T180000
DTSTAMP:20260422T150327
CREATED:20251126T131435Z
LAST-MODIFIED:20260126T224503Z
UID:10015123-1782835200-1782842400@enjoywhereyouare.today
SUMMARY:Happy Hour
DESCRIPTION:$4 Canned Cocktails \n1/2 Off Classic Cocktails & Spirit + Mixers
URL:https://enjoywhereyouare.today/events/happy-hour-7/2026-06-30/
LOCATION:Gypsy Spirits\, West Front Street\, Traverse City\, MI\, 49684\, United States
CATEGORIES:*Downtown TC and Traverse City,Daily Specials
ATTACH;FMTTYPE=image/jpeg:https://enjoywhereyouare.today/wp-content/uploads/2025/11/Gypsy-Spirits.jpg
GEO:44.7635954;-85.6270257
X-APPLE-STRUCTURED-LOCATION;VALUE=URI;X-ADDRESS=Gypsy Spirits West Front Street Traverse City MI 49684 United States;X-APPLE-RADIUS=500;X-TITLE=West Front Street:geo:-85.6270257,44.7635954
END:VEVENT
BEGIN:VEVENT
DTSTART;TZID=America/New_York:20260701T160000
DTEND;TZID=America/New_York:20260701T180000
DTSTAMP:20260422T150327
CREATED:20251126T131435Z
LAST-MODIFIED:20260126T224503Z
UID:10015124-1782921600-1782928800@enjoywhereyouare.today
SUMMARY:Happy Hour
DESCRIPTION:$4 Canned Cocktails \n1/2 Off Classic Cocktails & Spirit + Mixers
URL:https://enjoywhereyouare.today/events/happy-hour-7/2026-07-01/
LOCATION:Gypsy Spirits\, West Front Street\, Traverse City\, MI\, 49684\, United States
CATEGORIES:*Downtown TC and Traverse City,Daily Specials
ATTACH;FMTTYPE=image/jpeg:https://enjoywhereyouare.today/wp-content/uploads/2025/11/Gypsy-Spirits.jpg
GEO:44.7635954;-85.6270257
X-APPLE-STRUCTURED-LOCATION;VALUE=URI;X-ADDRESS=Gypsy Spirits West Front Street Traverse City MI 49684 United States;X-APPLE-RADIUS=500;X-TITLE=West Front Street:geo:-85.6270257,44.7635954
END:VEVENT
BEGIN:VEVENT
DTSTART;TZID=America/New_York:20260702T160000
DTEND;TZID=America/New_York:20260702T180000
DTSTAMP:20260422T150327
CREATED:20251126T131435Z
LAST-MODIFIED:20260126T224503Z
UID:10015125-1783008000-1783015200@enjoywhereyouare.today
SUMMARY:Happy Hour
DESCRIPTION:$4 Canned Cocktails \n1/2 Off Classic Cocktails & Spirit + Mixers
URL:https://enjoywhereyouare.today/events/happy-hour-7/2026-07-02/
LOCATION:Gypsy Spirits\, West Front Street\, Traverse City\, MI\, 49684\, United States
CATEGORIES:*Downtown TC and Traverse City,Daily Specials
ATTACH;FMTTYPE=image/jpeg:https://enjoywhereyouare.today/wp-content/uploads/2025/11/Gypsy-Spirits.jpg
GEO:44.7635954;-85.6270257
X-APPLE-STRUCTURED-LOCATION;VALUE=URI;X-ADDRESS=Gypsy Spirits West Front Street Traverse City MI 49684 United States;X-APPLE-RADIUS=500;X-TITLE=West Front Street:geo:-85.6270257,44.7635954
END:VEVENT
BEGIN:VEVENT
DTSTART;TZID=America/New_York:20260706T160000
DTEND;TZID=America/New_York:20260706T180000
DTSTAMP:20260422T150327
CREATED:20251126T131435Z
LAST-MODIFIED:20260126T224503Z
UID:10015129-1783353600-1783360800@enjoywhereyouare.today
SUMMARY:Happy Hour
DESCRIPTION:$4 Canned Cocktails \n1/2 Off Classic Cocktails & Spirit + Mixers
URL:https://enjoywhereyouare.today/events/happy-hour-7/2026-07-06/
LOCATION:Gypsy Spirits\, West Front Street\, Traverse City\, MI\, 49684\, United States
CATEGORIES:*Downtown TC and Traverse City,Daily Specials
ATTACH;FMTTYPE=image/jpeg:https://enjoywhereyouare.today/wp-content/uploads/2025/11/Gypsy-Spirits.jpg
GEO:44.7635954;-85.6270257
X-APPLE-STRUCTURED-LOCATION;VALUE=URI;X-ADDRESS=Gypsy Spirits West Front Street Traverse City MI 49684 United States;X-APPLE-RADIUS=500;X-TITLE=West Front Street:geo:-85.6270257,44.7635954
END:VEVENT
BEGIN:VEVENT
DTSTART;TZID=America/New_York:20260707T160000
DTEND;TZID=America/New_York:20260707T180000
DTSTAMP:20260422T150327
CREATED:20251126T131435Z
LAST-MODIFIED:20260126T224503Z
UID:10015130-1783440000-1783447200@enjoywhereyouare.today
SUMMARY:Happy Hour
DESCRIPTION:$4 Canned Cocktails \n1/2 Off Classic Cocktails & Spirit + Mixers
URL:https://enjoywhereyouare.today/events/happy-hour-7/2026-07-07/
LOCATION:Gypsy Spirits\, West Front Street\, Traverse City\, MI\, 49684\, United States
CATEGORIES:*Downtown TC and Traverse City,Daily Specials
ATTACH;FMTTYPE=image/jpeg:https://enjoywhereyouare.today/wp-content/uploads/2025/11/Gypsy-Spirits.jpg
GEO:44.7635954;-85.6270257
X-APPLE-STRUCTURED-LOCATION;VALUE=URI;X-ADDRESS=Gypsy Spirits West Front Street Traverse City MI 49684 United States;X-APPLE-RADIUS=500;X-TITLE=West Front Street:geo:-85.6270257,44.7635954
END:VEVENT
BEGIN:VEVENT
DTSTART;TZID=America/New_York:20260708T160000
DTEND;TZID=America/New_York:20260708T180000
DTSTAMP:20260422T150327
CREATED:20251126T131435Z
LAST-MODIFIED:20260126T224503Z
UID:10015131-1783526400-1783533600@enjoywhereyouare.today
SUMMARY:Happy Hour
DESCRIPTION:$4 Canned Cocktails \n1/2 Off Classic Cocktails & Spirit + Mixers
URL:https://enjoywhereyouare.today/events/happy-hour-7/2026-07-08/
LOCATION:Gypsy Spirits\, West Front Street\, Traverse City\, MI\, 49684\, United States
CATEGORIES:*Downtown TC and Traverse City,Daily Specials
ATTACH;FMTTYPE=image/jpeg:https://enjoywhereyouare.today/wp-content/uploads/2025/11/Gypsy-Spirits.jpg
GEO:44.7635954;-85.6270257
X-APPLE-STRUCTURED-LOCATION;VALUE=URI;X-ADDRESS=Gypsy Spirits West Front Street Traverse City MI 49684 United States;X-APPLE-RADIUS=500;X-TITLE=West Front Street:geo:-85.6270257,44.7635954
END:VEVENT
BEGIN:VEVENT
DTSTART;TZID=America/New_York:20260709T160000
DTEND;TZID=America/New_York:20260709T180000
DTSTAMP:20260422T150327
CREATED:20251126T131435Z
LAST-MODIFIED:20260126T224503Z
UID:10015132-1783612800-1783620000@enjoywhereyouare.today
SUMMARY:Happy Hour
DESCRIPTION:$4 Canned Cocktails \n1/2 Off Classic Cocktails & Spirit + Mixers
URL:https://enjoywhereyouare.today/events/happy-hour-7/2026-07-09/
LOCATION:Gypsy Spirits\, West Front Street\, Traverse City\, MI\, 49684\, United States
CATEGORIES:*Downtown TC and Traverse City,Daily Specials
ATTACH;FMTTYPE=image/jpeg:https://enjoywhereyouare.today/wp-content/uploads/2025/11/Gypsy-Spirits.jpg
GEO:44.7635954;-85.6270257
X-APPLE-STRUCTURED-LOCATION;VALUE=URI;X-ADDRESS=Gypsy Spirits West Front Street Traverse City MI 49684 United States;X-APPLE-RADIUS=500;X-TITLE=West Front Street:geo:-85.6270257,44.7635954
END:VEVENT
BEGIN:VEVENT
DTSTART;TZID=America/New_York:20260713T160000
DTEND;TZID=America/New_York:20260713T180000
DTSTAMP:20260422T150327
CREATED:20251126T131435Z
LAST-MODIFIED:20260126T224503Z
UID:10015136-1783958400-1783965600@enjoywhereyouare.today
SUMMARY:Happy Hour
DESCRIPTION:$4 Canned Cocktails \n1/2 Off Classic Cocktails & Spirit + Mixers
URL:https://enjoywhereyouare.today/events/happy-hour-7/2026-07-13/
LOCATION:Gypsy Spirits\, West Front Street\, Traverse City\, MI\, 49684\, United States
CATEGORIES:*Downtown TC and Traverse City,Daily Specials
ATTACH;FMTTYPE=image/jpeg:https://enjoywhereyouare.today/wp-content/uploads/2025/11/Gypsy-Spirits.jpg
GEO:44.7635954;-85.6270257
X-APPLE-STRUCTURED-LOCATION;VALUE=URI;X-ADDRESS=Gypsy Spirits West Front Street Traverse City MI 49684 United States;X-APPLE-RADIUS=500;X-TITLE=West Front Street:geo:-85.6270257,44.7635954
END:VEVENT
BEGIN:VEVENT
DTSTART;TZID=America/New_York:20260714T160000
DTEND;TZID=America/New_York:20260714T180000
DTSTAMP:20260422T150327
CREATED:20251126T131435Z
LAST-MODIFIED:20260126T224503Z
UID:10015137-1784044800-1784052000@enjoywhereyouare.today
SUMMARY:Happy Hour
DESCRIPTION:$4 Canned Cocktails \n1/2 Off Classic Cocktails & Spirit + Mixers
URL:https://enjoywhereyouare.today/events/happy-hour-7/2026-07-14/
LOCATION:Gypsy Spirits\, West Front Street\, Traverse City\, MI\, 49684\, United States
CATEGORIES:*Downtown TC and Traverse City,Daily Specials
ATTACH;FMTTYPE=image/jpeg:https://enjoywhereyouare.today/wp-content/uploads/2025/11/Gypsy-Spirits.jpg
GEO:44.7635954;-85.6270257
X-APPLE-STRUCTURED-LOCATION;VALUE=URI;X-ADDRESS=Gypsy Spirits West Front Street Traverse City MI 49684 United States;X-APPLE-RADIUS=500;X-TITLE=West Front Street:geo:-85.6270257,44.7635954
END:VEVENT
END:VCALENDAR