BEGIN:VCALENDAR
VERSION:2.0
PRODID:-//Enjoy Where You Are - ECPv6.5.2//NONSGML v1.0//EN
CALSCALE:GREGORIAN
METHOD:PUBLISH
X-ORIGINAL-URL:https://enjoywhereyouare.today
X-WR-CALDESC:Events for Enjoy Where You Are
REFRESH-INTERVAL;VALUE=DURATION:PT1H
X-Robots-Tag:noindex
X-PUBLISHED-TTL:PT1H
BEGIN:VTIMEZONE
TZID:America/New_York
BEGIN:DAYLIGHT
TZOFFSETFROM:-0500
TZOFFSETTO:-0400
TZNAME:EDT
DTSTART:20260308T070000
END:DAYLIGHT
BEGIN:STANDARD
TZOFFSETFROM:-0400
TZOFFSETTO:-0500
TZNAME:EST
DTSTART:20261101T060000
END:STANDARD
END:VTIMEZONE
BEGIN:VEVENT
DTSTART;TZID=America/New_York:20260402T160000
DTEND;TZID=America/New_York:20260402T220000
DTSTAMP:20260422T145355
CREATED:20260127T162238Z
LAST-MODIFIED:20260129T142759Z
UID:10015833-1775145600-1775167200@enjoywhereyouare.today
SUMMARY:LADIES NIGHT
DESCRIPTION:1/2 OFF All Drinks!
URL:https://enjoywhereyouare.today/events/ladies-night-2/2026-04-02/
LOCATION:Gypsy Spirits\, West Front Street\, Traverse City\, MI\, 49684\, United States
CATEGORIES:*Downtown TC and Traverse City,Daily Specials
ATTACH;FMTTYPE=image/png:https://enjoywhereyouare.today/wp-content/uploads/2026/01/Gypsy-Ladies-Night-1.png
GEO:44.7635954;-85.6270257
X-APPLE-STRUCTURED-LOCATION;VALUE=URI;X-ADDRESS=Gypsy Spirits West Front Street Traverse City MI 49684 United States;X-APPLE-RADIUS=500;X-TITLE=West Front Street:geo:-85.6270257,44.7635954
END:VEVENT
BEGIN:VEVENT
DTSTART;TZID=America/New_York:20260402T160000
DTEND;TZID=America/New_York:20260402T180000
DTSTAMP:20260422T145355
CREATED:20251126T131435Z
LAST-MODIFIED:20260126T224503Z
UID:10015034-1775145600-1775152800@enjoywhereyouare.today
SUMMARY:Happy Hour
DESCRIPTION:$4 Canned Cocktails \n1/2 Off Classic Cocktails & Spirit + Mixers
URL:https://enjoywhereyouare.today/events/happy-hour-7/2026-04-02/
LOCATION:Gypsy Spirits\, West Front Street\, Traverse City\, MI\, 49684\, United States
CATEGORIES:*Downtown TC and Traverse City,Daily Specials
ATTACH;FMTTYPE=image/jpeg:https://enjoywhereyouare.today/wp-content/uploads/2025/11/Gypsy-Spirits.jpg
GEO:44.7635954;-85.6270257
X-APPLE-STRUCTURED-LOCATION;VALUE=URI;X-ADDRESS=Gypsy Spirits West Front Street Traverse City MI 49684 United States;X-APPLE-RADIUS=500;X-TITLE=West Front Street:geo:-85.6270257,44.7635954
END:VEVENT
BEGIN:VEVENT
DTSTART;TZID=America/New_York:20260401T170000
DTEND;TZID=America/New_York:20260401T210000
DTSTAMP:20260422T145355
CREATED:20260127T195116Z
LAST-MODIFIED:20260129T161720Z
UID:10015955-1775062800-1775077200@enjoywhereyouare.today
SUMMARY:MOVIE NIGHT!
DESCRIPTION:MOVIE WATCH PARTY!\nDouble Feature every Wednesday!\nJanuary 28th\n5pm – Blades of Glory\n7pm – I\, Tonya \nFebruary 4th\n5pm – Mighty Ducks\n7pm – Cool Runnings
URL:https://enjoywhereyouare.today/events/movie-night-2/2026-04-01/
LOCATION:Gypsy Spirits\, West Front Street\, Traverse City\, MI\, 49684\, United States
CATEGORIES:*Downtown TC and Traverse City,Daily Specials
ATTACH;FMTTYPE=image/png:https://enjoywhereyouare.today/wp-content/uploads/2026/01/Gypsy-Watch-Party-2.png
GEO:44.7635954;-85.6270257
X-APPLE-STRUCTURED-LOCATION;VALUE=URI;X-ADDRESS=Gypsy Spirits West Front Street Traverse City MI 49684 United States;X-APPLE-RADIUS=500;X-TITLE=West Front Street:geo:-85.6270257,44.7635954
END:VEVENT
BEGIN:VEVENT
DTSTART;TZID=America/New_York:20260401T160000
DTEND;TZID=America/New_York:20260401T180000
DTSTAMP:20260422T145355
CREATED:20251126T131435Z
LAST-MODIFIED:20260126T224503Z
UID:10015033-1775059200-1775066400@enjoywhereyouare.today
SUMMARY:Happy Hour
DESCRIPTION:$4 Canned Cocktails \n1/2 Off Classic Cocktails & Spirit + Mixers
URL:https://enjoywhereyouare.today/events/happy-hour-7/2026-04-01/
LOCATION:Gypsy Spirits\, West Front Street\, Traverse City\, MI\, 49684\, United States
CATEGORIES:*Downtown TC and Traverse City,Daily Specials
ATTACH;FMTTYPE=image/jpeg:https://enjoywhereyouare.today/wp-content/uploads/2025/11/Gypsy-Spirits.jpg
GEO:44.7635954;-85.6270257
X-APPLE-STRUCTURED-LOCATION;VALUE=URI;X-ADDRESS=Gypsy Spirits West Front Street Traverse City MI 49684 United States;X-APPLE-RADIUS=500;X-TITLE=West Front Street:geo:-85.6270257,44.7635954
END:VEVENT
BEGIN:VEVENT
DTSTART;TZID=America/New_York:20260331T160000
DTEND;TZID=America/New_York:20260331T220000
DTSTAMP:20260422T145355
CREATED:20260129T150516Z
LAST-MODIFIED:20260129T150516Z
UID:10015938-1774972800-1774994400@enjoywhereyouare.today
SUMMARY:TINI TUESDAYS
DESCRIPTION:$7 Dirty and Dry Martinis all night!
URL:https://enjoywhereyouare.today/events/tini-tuesdays/2026-03-31/
LOCATION:Gypsy Spirits\, West Front Street\, Traverse City\, MI\, 49684\, United States
CATEGORIES:Daily Specials
ATTACH;FMTTYPE=image/png:https://enjoywhereyouare.today/wp-content/uploads/2026/01/Gypsy-Tini-Tuesday.png
GEO:44.7635954;-85.6270257
X-APPLE-STRUCTURED-LOCATION;VALUE=URI;X-ADDRESS=Gypsy Spirits West Front Street Traverse City MI 49684 United States;X-APPLE-RADIUS=500;X-TITLE=West Front Street:geo:-85.6270257,44.7635954
END:VEVENT
BEGIN:VEVENT
DTSTART;TZID=America/New_York:20260331T160000
DTEND;TZID=America/New_York:20260331T180000
DTSTAMP:20260422T145355
CREATED:20251126T131435Z
LAST-MODIFIED:20260126T224503Z
UID:10015032-1774972800-1774980000@enjoywhereyouare.today
SUMMARY:Happy Hour
DESCRIPTION:$4 Canned Cocktails \n1/2 Off Classic Cocktails & Spirit + Mixers
URL:https://enjoywhereyouare.today/events/happy-hour-7/2026-03-31/
LOCATION:Gypsy Spirits\, West Front Street\, Traverse City\, MI\, 49684\, United States
CATEGORIES:*Downtown TC and Traverse City,Daily Specials
ATTACH;FMTTYPE=image/jpeg:https://enjoywhereyouare.today/wp-content/uploads/2025/11/Gypsy-Spirits.jpg
GEO:44.7635954;-85.6270257
X-APPLE-STRUCTURED-LOCATION;VALUE=URI;X-ADDRESS=Gypsy Spirits West Front Street Traverse City MI 49684 United States;X-APPLE-RADIUS=500;X-TITLE=West Front Street:geo:-85.6270257,44.7635954
END:VEVENT
BEGIN:VEVENT
DTSTART;TZID=America/New_York:20260330T160000
DTEND;TZID=America/New_York:20260330T220000
DTSTAMP:20260422T145355
CREATED:20260126T224043Z
LAST-MODIFIED:20260128T182139Z
UID:10015727-1774886400-1774908000@enjoywhereyouare.today
SUMMARY:MENS NIGHT
DESCRIPTION:1/2 OFF All Drinks!
URL:https://enjoywhereyouare.today/events/mens-night-2/2026-03-30/
LOCATION:Gypsy Spirits\, West Front Street\, Traverse City\, MI\, 49684\, United States
CATEGORIES:*Downtown TC and Traverse City,Daily Specials
ATTACH;FMTTYPE=image/png:https://enjoywhereyouare.today/wp-content/uploads/2026/01/Gypsy-Mens-Night-2.png
GEO:44.7635954;-85.6270257
X-APPLE-STRUCTURED-LOCATION;VALUE=URI;X-ADDRESS=Gypsy Spirits West Front Street Traverse City MI 49684 United States;X-APPLE-RADIUS=500;X-TITLE=West Front Street:geo:-85.6270257,44.7635954
END:VEVENT
BEGIN:VEVENT
DTSTART;TZID=America/New_York:20260330T160000
DTEND;TZID=America/New_York:20260330T180000
DTSTAMP:20260422T145355
CREATED:20251126T131435Z
LAST-MODIFIED:20260126T224503Z
UID:10015031-1774886400-1774893600@enjoywhereyouare.today
SUMMARY:Happy Hour
DESCRIPTION:$4 Canned Cocktails \n1/2 Off Classic Cocktails & Spirit + Mixers
URL:https://enjoywhereyouare.today/events/happy-hour-7/2026-03-30/
LOCATION:Gypsy Spirits\, West Front Street\, Traverse City\, MI\, 49684\, United States
CATEGORIES:*Downtown TC and Traverse City,Daily Specials
ATTACH;FMTTYPE=image/jpeg:https://enjoywhereyouare.today/wp-content/uploads/2025/11/Gypsy-Spirits.jpg
GEO:44.7635954;-85.6270257
X-APPLE-STRUCTURED-LOCATION;VALUE=URI;X-ADDRESS=Gypsy Spirits West Front Street Traverse City MI 49684 United States;X-APPLE-RADIUS=500;X-TITLE=West Front Street:geo:-85.6270257,44.7635954
END:VEVENT
BEGIN:VEVENT
DTSTART;TZID=America/New_York:20260326T160000
DTEND;TZID=America/New_York:20260326T220000
DTSTAMP:20260422T145355
CREATED:20260127T162238Z
LAST-MODIFIED:20260129T142759Z
UID:10015832-1774540800-1774562400@enjoywhereyouare.today
SUMMARY:LADIES NIGHT
DESCRIPTION:1/2 OFF All Drinks!
URL:https://enjoywhereyouare.today/events/ladies-night-2/2026-03-26/
LOCATION:Gypsy Spirits\, West Front Street\, Traverse City\, MI\, 49684\, United States
CATEGORIES:*Downtown TC and Traverse City,Daily Specials
ATTACH;FMTTYPE=image/png:https://enjoywhereyouare.today/wp-content/uploads/2026/01/Gypsy-Ladies-Night-1.png
GEO:44.7635954;-85.6270257
X-APPLE-STRUCTURED-LOCATION;VALUE=URI;X-ADDRESS=Gypsy Spirits West Front Street Traverse City MI 49684 United States;X-APPLE-RADIUS=500;X-TITLE=West Front Street:geo:-85.6270257,44.7635954
END:VEVENT
BEGIN:VEVENT
DTSTART;TZID=America/New_York:20260326T160000
DTEND;TZID=America/New_York:20260326T180000
DTSTAMP:20260422T145355
CREATED:20251126T131435Z
LAST-MODIFIED:20260126T224503Z
UID:10015027-1774540800-1774548000@enjoywhereyouare.today
SUMMARY:Happy Hour
DESCRIPTION:$4 Canned Cocktails \n1/2 Off Classic Cocktails & Spirit + Mixers
URL:https://enjoywhereyouare.today/events/happy-hour-7/2026-03-26/
LOCATION:Gypsy Spirits\, West Front Street\, Traverse City\, MI\, 49684\, United States
CATEGORIES:*Downtown TC and Traverse City,Daily Specials
ATTACH;FMTTYPE=image/jpeg:https://enjoywhereyouare.today/wp-content/uploads/2025/11/Gypsy-Spirits.jpg
GEO:44.7635954;-85.6270257
X-APPLE-STRUCTURED-LOCATION;VALUE=URI;X-ADDRESS=Gypsy Spirits West Front Street Traverse City MI 49684 United States;X-APPLE-RADIUS=500;X-TITLE=West Front Street:geo:-85.6270257,44.7635954
END:VEVENT
BEGIN:VEVENT
DTSTART;TZID=America/New_York:20260325T170000
DTEND;TZID=America/New_York:20260325T210000
DTSTAMP:20260422T145355
CREATED:20260127T195116Z
LAST-MODIFIED:20260129T161720Z
UID:10015954-1774458000-1774472400@enjoywhereyouare.today
SUMMARY:MOVIE NIGHT!
DESCRIPTION:MOVIE WATCH PARTY!\nDouble Feature every Wednesday!\nJanuary 28th\n5pm – Blades of Glory\n7pm – I\, Tonya \nFebruary 4th\n5pm – Mighty Ducks\n7pm – Cool Runnings
URL:https://enjoywhereyouare.today/events/movie-night-2/2026-03-25/
LOCATION:Gypsy Spirits\, West Front Street\, Traverse City\, MI\, 49684\, United States
CATEGORIES:*Downtown TC and Traverse City,Daily Specials
ATTACH;FMTTYPE=image/png:https://enjoywhereyouare.today/wp-content/uploads/2026/01/Gypsy-Watch-Party-2.png
GEO:44.7635954;-85.6270257
X-APPLE-STRUCTURED-LOCATION;VALUE=URI;X-ADDRESS=Gypsy Spirits West Front Street Traverse City MI 49684 United States;X-APPLE-RADIUS=500;X-TITLE=West Front Street:geo:-85.6270257,44.7635954
END:VEVENT
BEGIN:VEVENT
DTSTART;TZID=America/New_York:20260325T160000
DTEND;TZID=America/New_York:20260325T180000
DTSTAMP:20260422T145355
CREATED:20251126T131435Z
LAST-MODIFIED:20260126T224503Z
UID:10015026-1774454400-1774461600@enjoywhereyouare.today
SUMMARY:Happy Hour
DESCRIPTION:$4 Canned Cocktails \n1/2 Off Classic Cocktails & Spirit + Mixers
URL:https://enjoywhereyouare.today/events/happy-hour-7/2026-03-25/
LOCATION:Gypsy Spirits\, West Front Street\, Traverse City\, MI\, 49684\, United States
CATEGORIES:*Downtown TC and Traverse City,Daily Specials
ATTACH;FMTTYPE=image/jpeg:https://enjoywhereyouare.today/wp-content/uploads/2025/11/Gypsy-Spirits.jpg
GEO:44.7635954;-85.6270257
X-APPLE-STRUCTURED-LOCATION;VALUE=URI;X-ADDRESS=Gypsy Spirits West Front Street Traverse City MI 49684 United States;X-APPLE-RADIUS=500;X-TITLE=West Front Street:geo:-85.6270257,44.7635954
END:VEVENT
BEGIN:VEVENT
DTSTART;TZID=America/New_York:20260324T160000
DTEND;TZID=America/New_York:20260324T220000
DTSTAMP:20260422T145355
CREATED:20260129T150516Z
LAST-MODIFIED:20260129T150516Z
UID:10015937-1774368000-1774389600@enjoywhereyouare.today
SUMMARY:TINI TUESDAYS
DESCRIPTION:$7 Dirty and Dry Martinis all night!
URL:https://enjoywhereyouare.today/events/tini-tuesdays/2026-03-24/
LOCATION:Gypsy Spirits\, West Front Street\, Traverse City\, MI\, 49684\, United States
CATEGORIES:Daily Specials
ATTACH;FMTTYPE=image/png:https://enjoywhereyouare.today/wp-content/uploads/2026/01/Gypsy-Tini-Tuesday.png
GEO:44.7635954;-85.6270257
X-APPLE-STRUCTURED-LOCATION;VALUE=URI;X-ADDRESS=Gypsy Spirits West Front Street Traverse City MI 49684 United States;X-APPLE-RADIUS=500;X-TITLE=West Front Street:geo:-85.6270257,44.7635954
END:VEVENT
BEGIN:VEVENT
DTSTART;TZID=America/New_York:20260324T160000
DTEND;TZID=America/New_York:20260324T180000
DTSTAMP:20260422T145355
CREATED:20251126T131435Z
LAST-MODIFIED:20260126T224503Z
UID:10015025-1774368000-1774375200@enjoywhereyouare.today
SUMMARY:Happy Hour
DESCRIPTION:$4 Canned Cocktails \n1/2 Off Classic Cocktails & Spirit + Mixers
URL:https://enjoywhereyouare.today/events/happy-hour-7/2026-03-24/
LOCATION:Gypsy Spirits\, West Front Street\, Traverse City\, MI\, 49684\, United States
CATEGORIES:*Downtown TC and Traverse City,Daily Specials
ATTACH;FMTTYPE=image/jpeg:https://enjoywhereyouare.today/wp-content/uploads/2025/11/Gypsy-Spirits.jpg
GEO:44.7635954;-85.6270257
X-APPLE-STRUCTURED-LOCATION;VALUE=URI;X-ADDRESS=Gypsy Spirits West Front Street Traverse City MI 49684 United States;X-APPLE-RADIUS=500;X-TITLE=West Front Street:geo:-85.6270257,44.7635954
END:VEVENT
BEGIN:VEVENT
DTSTART;TZID=America/New_York:20260323T160000
DTEND;TZID=America/New_York:20260323T220000
DTSTAMP:20260422T145355
CREATED:20260126T224043Z
LAST-MODIFIED:20260128T182139Z
UID:10015726-1774281600-1774303200@enjoywhereyouare.today
SUMMARY:MENS NIGHT
DESCRIPTION:1/2 OFF All Drinks!
URL:https://enjoywhereyouare.today/events/mens-night-2/2026-03-23/
LOCATION:Gypsy Spirits\, West Front Street\, Traverse City\, MI\, 49684\, United States
CATEGORIES:*Downtown TC and Traverse City,Daily Specials
ATTACH;FMTTYPE=image/png:https://enjoywhereyouare.today/wp-content/uploads/2026/01/Gypsy-Mens-Night-2.png
GEO:44.7635954;-85.6270257
X-APPLE-STRUCTURED-LOCATION;VALUE=URI;X-ADDRESS=Gypsy Spirits West Front Street Traverse City MI 49684 United States;X-APPLE-RADIUS=500;X-TITLE=West Front Street:geo:-85.6270257,44.7635954
END:VEVENT
BEGIN:VEVENT
DTSTART;TZID=America/New_York:20260323T160000
DTEND;TZID=America/New_York:20260323T180000
DTSTAMP:20260422T145355
CREATED:20251126T131435Z
LAST-MODIFIED:20260126T224503Z
UID:10015024-1774281600-1774288800@enjoywhereyouare.today
SUMMARY:Happy Hour
DESCRIPTION:$4 Canned Cocktails \n1/2 Off Classic Cocktails & Spirit + Mixers
URL:https://enjoywhereyouare.today/events/happy-hour-7/2026-03-23/
LOCATION:Gypsy Spirits\, West Front Street\, Traverse City\, MI\, 49684\, United States
CATEGORIES:*Downtown TC and Traverse City,Daily Specials
ATTACH;FMTTYPE=image/jpeg:https://enjoywhereyouare.today/wp-content/uploads/2025/11/Gypsy-Spirits.jpg
GEO:44.7635954;-85.6270257
X-APPLE-STRUCTURED-LOCATION;VALUE=URI;X-ADDRESS=Gypsy Spirits West Front Street Traverse City MI 49684 United States;X-APPLE-RADIUS=500;X-TITLE=West Front Street:geo:-85.6270257,44.7635954
END:VEVENT
BEGIN:VEVENT
DTSTART;TZID=America/New_York:20260319T160000
DTEND;TZID=America/New_York:20260319T220000
DTSTAMP:20260422T145355
CREATED:20260127T162238Z
LAST-MODIFIED:20260129T142759Z
UID:10015831-1773936000-1773957600@enjoywhereyouare.today
SUMMARY:LADIES NIGHT
DESCRIPTION:1/2 OFF All Drinks!
URL:https://enjoywhereyouare.today/events/ladies-night-2/2026-03-19/
LOCATION:Gypsy Spirits\, West Front Street\, Traverse City\, MI\, 49684\, United States
CATEGORIES:*Downtown TC and Traverse City,Daily Specials
ATTACH;FMTTYPE=image/png:https://enjoywhereyouare.today/wp-content/uploads/2026/01/Gypsy-Ladies-Night-1.png
GEO:44.7635954;-85.6270257
X-APPLE-STRUCTURED-LOCATION;VALUE=URI;X-ADDRESS=Gypsy Spirits West Front Street Traverse City MI 49684 United States;X-APPLE-RADIUS=500;X-TITLE=West Front Street:geo:-85.6270257,44.7635954
END:VEVENT
BEGIN:VEVENT
DTSTART;TZID=America/New_York:20260319T160000
DTEND;TZID=America/New_York:20260319T180000
DTSTAMP:20260422T145355
CREATED:20251126T131435Z
LAST-MODIFIED:20260126T224503Z
UID:10015020-1773936000-1773943200@enjoywhereyouare.today
SUMMARY:Happy Hour
DESCRIPTION:$4 Canned Cocktails \n1/2 Off Classic Cocktails & Spirit + Mixers
URL:https://enjoywhereyouare.today/events/happy-hour-7/2026-03-19/
LOCATION:Gypsy Spirits\, West Front Street\, Traverse City\, MI\, 49684\, United States
CATEGORIES:*Downtown TC and Traverse City,Daily Specials
ATTACH;FMTTYPE=image/jpeg:https://enjoywhereyouare.today/wp-content/uploads/2025/11/Gypsy-Spirits.jpg
GEO:44.7635954;-85.6270257
X-APPLE-STRUCTURED-LOCATION;VALUE=URI;X-ADDRESS=Gypsy Spirits West Front Street Traverse City MI 49684 United States;X-APPLE-RADIUS=500;X-TITLE=West Front Street:geo:-85.6270257,44.7635954
END:VEVENT
BEGIN:VEVENT
DTSTART;TZID=America/New_York:20260318T170000
DTEND;TZID=America/New_York:20260318T210000
DTSTAMP:20260422T145355
CREATED:20260127T195116Z
LAST-MODIFIED:20260129T161720Z
UID:10015953-1773853200-1773867600@enjoywhereyouare.today
SUMMARY:MOVIE NIGHT!
DESCRIPTION:MOVIE WATCH PARTY!\nDouble Feature every Wednesday!\nJanuary 28th\n5pm – Blades of Glory\n7pm – I\, Tonya \nFebruary 4th\n5pm – Mighty Ducks\n7pm – Cool Runnings
URL:https://enjoywhereyouare.today/events/movie-night-2/2026-03-18/
LOCATION:Gypsy Spirits\, West Front Street\, Traverse City\, MI\, 49684\, United States
CATEGORIES:*Downtown TC and Traverse City,Daily Specials
ATTACH;FMTTYPE=image/png:https://enjoywhereyouare.today/wp-content/uploads/2026/01/Gypsy-Watch-Party-2.png
GEO:44.7635954;-85.6270257
X-APPLE-STRUCTURED-LOCATION;VALUE=URI;X-ADDRESS=Gypsy Spirits West Front Street Traverse City MI 49684 United States;X-APPLE-RADIUS=500;X-TITLE=West Front Street:geo:-85.6270257,44.7635954
END:VEVENT
BEGIN:VEVENT
DTSTART;TZID=America/New_York:20260318T160000
DTEND;TZID=America/New_York:20260318T180000
DTSTAMP:20260422T145355
CREATED:20251126T131435Z
LAST-MODIFIED:20260126T224503Z
UID:10015019-1773849600-1773856800@enjoywhereyouare.today
SUMMARY:Happy Hour
DESCRIPTION:$4 Canned Cocktails \n1/2 Off Classic Cocktails & Spirit + Mixers
URL:https://enjoywhereyouare.today/events/happy-hour-7/2026-03-18/
LOCATION:Gypsy Spirits\, West Front Street\, Traverse City\, MI\, 49684\, United States
CATEGORIES:*Downtown TC and Traverse City,Daily Specials
ATTACH;FMTTYPE=image/jpeg:https://enjoywhereyouare.today/wp-content/uploads/2025/11/Gypsy-Spirits.jpg
GEO:44.7635954;-85.6270257
X-APPLE-STRUCTURED-LOCATION;VALUE=URI;X-ADDRESS=Gypsy Spirits West Front Street Traverse City MI 49684 United States;X-APPLE-RADIUS=500;X-TITLE=West Front Street:geo:-85.6270257,44.7635954
END:VEVENT
BEGIN:VEVENT
DTSTART;TZID=America/New_York:20260317T160000
DTEND;TZID=America/New_York:20260317T220000
DTSTAMP:20260422T145355
CREATED:20260129T150516Z
LAST-MODIFIED:20260129T150516Z
UID:10015936-1773763200-1773784800@enjoywhereyouare.today
SUMMARY:TINI TUESDAYS
DESCRIPTION:$7 Dirty and Dry Martinis all night!
URL:https://enjoywhereyouare.today/events/tini-tuesdays/2026-03-17/
LOCATION:Gypsy Spirits\, West Front Street\, Traverse City\, MI\, 49684\, United States
CATEGORIES:Daily Specials
ATTACH;FMTTYPE=image/png:https://enjoywhereyouare.today/wp-content/uploads/2026/01/Gypsy-Tini-Tuesday.png
GEO:44.7635954;-85.6270257
X-APPLE-STRUCTURED-LOCATION;VALUE=URI;X-ADDRESS=Gypsy Spirits West Front Street Traverse City MI 49684 United States;X-APPLE-RADIUS=500;X-TITLE=West Front Street:geo:-85.6270257,44.7635954
END:VEVENT
BEGIN:VEVENT
DTSTART;TZID=America/New_York:20260317T160000
DTEND;TZID=America/New_York:20260317T180000
DTSTAMP:20260422T145355
CREATED:20251126T131435Z
LAST-MODIFIED:20260126T224503Z
UID:10015018-1773763200-1773770400@enjoywhereyouare.today
SUMMARY:Happy Hour
DESCRIPTION:$4 Canned Cocktails \n1/2 Off Classic Cocktails & Spirit + Mixers
URL:https://enjoywhereyouare.today/events/happy-hour-7/2026-03-17/
LOCATION:Gypsy Spirits\, West Front Street\, Traverse City\, MI\, 49684\, United States
CATEGORIES:*Downtown TC and Traverse City,Daily Specials
ATTACH;FMTTYPE=image/jpeg:https://enjoywhereyouare.today/wp-content/uploads/2025/11/Gypsy-Spirits.jpg
GEO:44.7635954;-85.6270257
X-APPLE-STRUCTURED-LOCATION;VALUE=URI;X-ADDRESS=Gypsy Spirits West Front Street Traverse City MI 49684 United States;X-APPLE-RADIUS=500;X-TITLE=West Front Street:geo:-85.6270257,44.7635954
END:VEVENT
BEGIN:VEVENT
DTSTART;TZID=America/New_York:20260316T160000
DTEND;TZID=America/New_York:20260316T220000
DTSTAMP:20260422T145355
CREATED:20260126T224043Z
LAST-MODIFIED:20260128T182139Z
UID:10015725-1773676800-1773698400@enjoywhereyouare.today
SUMMARY:MENS NIGHT
DESCRIPTION:1/2 OFF All Drinks!
URL:https://enjoywhereyouare.today/events/mens-night-2/2026-03-16/
LOCATION:Gypsy Spirits\, West Front Street\, Traverse City\, MI\, 49684\, United States
CATEGORIES:*Downtown TC and Traverse City,Daily Specials
ATTACH;FMTTYPE=image/png:https://enjoywhereyouare.today/wp-content/uploads/2026/01/Gypsy-Mens-Night-2.png
GEO:44.7635954;-85.6270257
X-APPLE-STRUCTURED-LOCATION;VALUE=URI;X-ADDRESS=Gypsy Spirits West Front Street Traverse City MI 49684 United States;X-APPLE-RADIUS=500;X-TITLE=West Front Street:geo:-85.6270257,44.7635954
END:VEVENT
BEGIN:VEVENT
DTSTART;TZID=America/New_York:20260316T160000
DTEND;TZID=America/New_York:20260316T180000
DTSTAMP:20260422T145355
CREATED:20251126T131435Z
LAST-MODIFIED:20260126T224503Z
UID:10015017-1773676800-1773684000@enjoywhereyouare.today
SUMMARY:Happy Hour
DESCRIPTION:$4 Canned Cocktails \n1/2 Off Classic Cocktails & Spirit + Mixers
URL:https://enjoywhereyouare.today/events/happy-hour-7/2026-03-16/
LOCATION:Gypsy Spirits\, West Front Street\, Traverse City\, MI\, 49684\, United States
CATEGORIES:*Downtown TC and Traverse City,Daily Specials
ATTACH;FMTTYPE=image/jpeg:https://enjoywhereyouare.today/wp-content/uploads/2025/11/Gypsy-Spirits.jpg
GEO:44.7635954;-85.6270257
X-APPLE-STRUCTURED-LOCATION;VALUE=URI;X-ADDRESS=Gypsy Spirits West Front Street Traverse City MI 49684 United States;X-APPLE-RADIUS=500;X-TITLE=West Front Street:geo:-85.6270257,44.7635954
END:VEVENT
BEGIN:VEVENT
DTSTART;TZID=America/New_York:20260312T160000
DTEND;TZID=America/New_York:20260312T220000
DTSTAMP:20260422T145355
CREATED:20260127T162238Z
LAST-MODIFIED:20260129T142759Z
UID:10015830-1773331200-1773352800@enjoywhereyouare.today
SUMMARY:LADIES NIGHT
DESCRIPTION:1/2 OFF All Drinks!
URL:https://enjoywhereyouare.today/events/ladies-night-2/2026-03-12/
LOCATION:Gypsy Spirits\, West Front Street\, Traverse City\, MI\, 49684\, United States
CATEGORIES:*Downtown TC and Traverse City,Daily Specials
ATTACH;FMTTYPE=image/png:https://enjoywhereyouare.today/wp-content/uploads/2026/01/Gypsy-Ladies-Night-1.png
GEO:44.7635954;-85.6270257
X-APPLE-STRUCTURED-LOCATION;VALUE=URI;X-ADDRESS=Gypsy Spirits West Front Street Traverse City MI 49684 United States;X-APPLE-RADIUS=500;X-TITLE=West Front Street:geo:-85.6270257,44.7635954
END:VEVENT
BEGIN:VEVENT
DTSTART;TZID=America/New_York:20260312T160000
DTEND;TZID=America/New_York:20260312T180000
DTSTAMP:20260422T145355
CREATED:20251126T131435Z
LAST-MODIFIED:20260126T224503Z
UID:10015013-1773331200-1773338400@enjoywhereyouare.today
SUMMARY:Happy Hour
DESCRIPTION:$4 Canned Cocktails \n1/2 Off Classic Cocktails & Spirit + Mixers
URL:https://enjoywhereyouare.today/events/happy-hour-7/2026-03-12/
LOCATION:Gypsy Spirits\, West Front Street\, Traverse City\, MI\, 49684\, United States
CATEGORIES:*Downtown TC and Traverse City,Daily Specials
ATTACH;FMTTYPE=image/jpeg:https://enjoywhereyouare.today/wp-content/uploads/2025/11/Gypsy-Spirits.jpg
GEO:44.7635954;-85.6270257
X-APPLE-STRUCTURED-LOCATION;VALUE=URI;X-ADDRESS=Gypsy Spirits West Front Street Traverse City MI 49684 United States;X-APPLE-RADIUS=500;X-TITLE=West Front Street:geo:-85.6270257,44.7635954
END:VEVENT
BEGIN:VEVENT
DTSTART;TZID=America/New_York:20260311T170000
DTEND;TZID=America/New_York:20260311T210000
DTSTAMP:20260422T145355
CREATED:20260127T195116Z
LAST-MODIFIED:20260129T161720Z
UID:10015952-1773248400-1773262800@enjoywhereyouare.today
SUMMARY:MOVIE NIGHT!
DESCRIPTION:MOVIE WATCH PARTY!\nDouble Feature every Wednesday!\nJanuary 28th\n5pm – Blades of Glory\n7pm – I\, Tonya \nFebruary 4th\n5pm – Mighty Ducks\n7pm – Cool Runnings
URL:https://enjoywhereyouare.today/events/movie-night-2/2026-03-11/
LOCATION:Gypsy Spirits\, West Front Street\, Traverse City\, MI\, 49684\, United States
CATEGORIES:*Downtown TC and Traverse City,Daily Specials
ATTACH;FMTTYPE=image/png:https://enjoywhereyouare.today/wp-content/uploads/2026/01/Gypsy-Watch-Party-2.png
GEO:44.7635954;-85.6270257
X-APPLE-STRUCTURED-LOCATION;VALUE=URI;X-ADDRESS=Gypsy Spirits West Front Street Traverse City MI 49684 United States;X-APPLE-RADIUS=500;X-TITLE=West Front Street:geo:-85.6270257,44.7635954
END:VEVENT
BEGIN:VEVENT
DTSTART;TZID=America/New_York:20260311T160000
DTEND;TZID=America/New_York:20260311T180000
DTSTAMP:20260422T145355
CREATED:20251126T131435Z
LAST-MODIFIED:20260126T224503Z
UID:10015012-1773244800-1773252000@enjoywhereyouare.today
SUMMARY:Happy Hour
DESCRIPTION:$4 Canned Cocktails \n1/2 Off Classic Cocktails & Spirit + Mixers
URL:https://enjoywhereyouare.today/events/happy-hour-7/2026-03-11/
LOCATION:Gypsy Spirits\, West Front Street\, Traverse City\, MI\, 49684\, United States
CATEGORIES:*Downtown TC and Traverse City,Daily Specials
ATTACH;FMTTYPE=image/jpeg:https://enjoywhereyouare.today/wp-content/uploads/2025/11/Gypsy-Spirits.jpg
GEO:44.7635954;-85.6270257
X-APPLE-STRUCTURED-LOCATION;VALUE=URI;X-ADDRESS=Gypsy Spirits West Front Street Traverse City MI 49684 United States;X-APPLE-RADIUS=500;X-TITLE=West Front Street:geo:-85.6270257,44.7635954
END:VEVENT
BEGIN:VEVENT
DTSTART;TZID=America/New_York:20260310T160000
DTEND;TZID=America/New_York:20260310T220000
DTSTAMP:20260422T145355
CREATED:20260129T150516Z
LAST-MODIFIED:20260129T150516Z
UID:10015935-1773158400-1773180000@enjoywhereyouare.today
SUMMARY:TINI TUESDAYS
DESCRIPTION:$7 Dirty and Dry Martinis all night!
URL:https://enjoywhereyouare.today/events/tini-tuesdays/2026-03-10/
LOCATION:Gypsy Spirits\, West Front Street\, Traverse City\, MI\, 49684\, United States
CATEGORIES:Daily Specials
ATTACH;FMTTYPE=image/png:https://enjoywhereyouare.today/wp-content/uploads/2026/01/Gypsy-Tini-Tuesday.png
GEO:44.7635954;-85.6270257
X-APPLE-STRUCTURED-LOCATION;VALUE=URI;X-ADDRESS=Gypsy Spirits West Front Street Traverse City MI 49684 United States;X-APPLE-RADIUS=500;X-TITLE=West Front Street:geo:-85.6270257,44.7635954
END:VEVENT
BEGIN:VEVENT
DTSTART;TZID=America/New_York:20260310T160000
DTEND;TZID=America/New_York:20260310T180000
DTSTAMP:20260422T145355
CREATED:20251126T131435Z
LAST-MODIFIED:20260126T224503Z
UID:10015011-1773158400-1773165600@enjoywhereyouare.today
SUMMARY:Happy Hour
DESCRIPTION:$4 Canned Cocktails \n1/2 Off Classic Cocktails & Spirit + Mixers
URL:https://enjoywhereyouare.today/events/happy-hour-7/2026-03-10/
LOCATION:Gypsy Spirits\, West Front Street\, Traverse City\, MI\, 49684\, United States
CATEGORIES:*Downtown TC and Traverse City,Daily Specials
ATTACH;FMTTYPE=image/jpeg:https://enjoywhereyouare.today/wp-content/uploads/2025/11/Gypsy-Spirits.jpg
GEO:44.7635954;-85.6270257
X-APPLE-STRUCTURED-LOCATION;VALUE=URI;X-ADDRESS=Gypsy Spirits West Front Street Traverse City MI 49684 United States;X-APPLE-RADIUS=500;X-TITLE=West Front Street:geo:-85.6270257,44.7635954
END:VEVENT
END:VCALENDAR