BEGIN:VCALENDAR
VERSION:2.0
PRODID:-//Enjoy Where You Are - ECPv6.5.2//NONSGML v1.0//EN
CALSCALE:GREGORIAN
METHOD:PUBLISH
X-WR-CALNAME:Enjoy Where You Are
X-ORIGINAL-URL:https://enjoywhereyouare.today
X-WR-CALDESC:Events for Enjoy Where You Are
REFRESH-INTERVAL;VALUE=DURATION:PT1H
X-Robots-Tag:noindex
X-PUBLISHED-TTL:PT1H
BEGIN:VTIMEZONE
TZID:America/New_York
BEGIN:DAYLIGHT
TZOFFSETFROM:-0500
TZOFFSETTO:-0400
TZNAME:EDT
DTSTART:20240310T070000
END:DAYLIGHT
BEGIN:STANDARD
TZOFFSETFROM:-0400
TZOFFSETTO:-0500
TZNAME:EST
DTSTART:20241103T060000
END:STANDARD
END:VTIMEZONE
BEGIN:VEVENT
DTSTART;TZID=America/New_York:20240810T090000
DTEND;TZID=America/New_York:20240810T120000
DTSTAMP:20260425T114912
CREATED:20240628T165248Z
LAST-MODIFIED:20240628T165248Z
UID:10006013-1723280400-1723291200@enjoywhereyouare.today
SUMMARY:Gallatin Valley Farmers' Market
DESCRIPTION:Nearly 120 vendors provide an opportunity to buy homemade food\, handmade crafts\, and locally grown Bozeman area produce.
URL:https://enjoywhereyouare.today/events/gallatin-valley-farmers-market/2024-08-10/
LOCATION:Gallatin County Fairgrounds\, 901 N Black Ave\, Bozeman\, MT
CATEGORIES:Farm Markets & Shopping
ATTACH;FMTTYPE=image/jpeg:https://enjoywhereyouare.today/wp-content/uploads/2024/06/Gallatin-Valley-Farmers-Market.jpg
GEO:45.6901377;-111.0372167
X-APPLE-STRUCTURED-LOCATION;VALUE=URI;X-ADDRESS=Gallatin County Fairgrounds 901 N Black Ave Bozeman MT;X-APPLE-RADIUS=500;X-TITLE=901 N Black Ave:geo:-111.0372167,45.6901377
END:VEVENT
BEGIN:VEVENT
DTSTART;TZID=America/New_York:20240803T090000
DTEND;TZID=America/New_York:20240803T120000
DTSTAMP:20260425T114912
CREATED:20240628T165248Z
LAST-MODIFIED:20240628T165248Z
UID:10006012-1722675600-1722686400@enjoywhereyouare.today
SUMMARY:Gallatin Valley Farmers' Market
DESCRIPTION:Nearly 120 vendors provide an opportunity to buy homemade food\, handmade crafts\, and locally grown Bozeman area produce.
URL:https://enjoywhereyouare.today/events/gallatin-valley-farmers-market/2024-08-03/
LOCATION:Gallatin County Fairgrounds\, 901 N Black Ave\, Bozeman\, MT
CATEGORIES:Farm Markets & Shopping
ATTACH;FMTTYPE=image/jpeg:https://enjoywhereyouare.today/wp-content/uploads/2024/06/Gallatin-Valley-Farmers-Market.jpg
GEO:45.6901377;-111.0372167
X-APPLE-STRUCTURED-LOCATION;VALUE=URI;X-ADDRESS=Gallatin County Fairgrounds 901 N Black Ave Bozeman MT;X-APPLE-RADIUS=500;X-TITLE=901 N Black Ave:geo:-111.0372167,45.6901377
END:VEVENT
BEGIN:VEVENT
DTSTART;TZID=America/New_York:20240727T090000
DTEND;TZID=America/New_York:20240727T120000
DTSTAMP:20260425T114912
CREATED:20240628T165248Z
LAST-MODIFIED:20240628T165248Z
UID:10006011-1722070800-1722081600@enjoywhereyouare.today
SUMMARY:Gallatin Valley Farmers' Market
DESCRIPTION:Nearly 120 vendors provide an opportunity to buy homemade food\, handmade crafts\, and locally grown Bozeman area produce.
URL:https://enjoywhereyouare.today/events/gallatin-valley-farmers-market/2024-07-27/
LOCATION:Gallatin County Fairgrounds\, 901 N Black Ave\, Bozeman\, MT
CATEGORIES:Farm Markets & Shopping
ATTACH;FMTTYPE=image/jpeg:https://enjoywhereyouare.today/wp-content/uploads/2024/06/Gallatin-Valley-Farmers-Market.jpg
GEO:45.6901377;-111.0372167
X-APPLE-STRUCTURED-LOCATION;VALUE=URI;X-ADDRESS=Gallatin County Fairgrounds 901 N Black Ave Bozeman MT;X-APPLE-RADIUS=500;X-TITLE=901 N Black Ave:geo:-111.0372167,45.6901377
END:VEVENT
BEGIN:VEVENT
DTSTART;TZID=America/New_York:20240720T110000
DTEND;TZID=America/New_York:20240720T230000
DTSTAMP:20260425T114912
CREATED:20240627T153649Z
LAST-MODIFIED:20240627T154139Z
UID:10005998-1721473200-1721516400@enjoywhereyouare.today
SUMMARY:Big Sky Country State Fair
DESCRIPTION:
URL:https://enjoywhereyouare.today/events/big-sky-country-state-fair/2024-07-20/
LOCATION:Gallatin County Fairgrounds\, 901 N Black Ave\, Bozeman\, MT
CATEGORIES:Festivals and Events
ATTACH;FMTTYPE=image/jpeg:https://enjoywhereyouare.today/wp-content/uploads/2024/06/Big-Sky-Country-State-Fair.jpg
GEO:45.6901377;-111.0372167
X-APPLE-STRUCTURED-LOCATION;VALUE=URI;X-ADDRESS=Gallatin County Fairgrounds 901 N Black Ave Bozeman MT;X-APPLE-RADIUS=500;X-TITLE=901 N Black Ave:geo:-111.0372167,45.6901377
END:VEVENT
BEGIN:VEVENT
DTSTART;TZID=America/New_York:20240720T090000
DTEND;TZID=America/New_York:20240720T120000
DTSTAMP:20260425T114912
CREATED:20240628T165248Z
LAST-MODIFIED:20240628T165248Z
UID:10006010-1721466000-1721476800@enjoywhereyouare.today
SUMMARY:Gallatin Valley Farmers' Market
DESCRIPTION:Nearly 120 vendors provide an opportunity to buy homemade food\, handmade crafts\, and locally grown Bozeman area produce.
URL:https://enjoywhereyouare.today/events/gallatin-valley-farmers-market/2024-07-20/
LOCATION:Gallatin County Fairgrounds\, 901 N Black Ave\, Bozeman\, MT
CATEGORIES:Farm Markets & Shopping
ATTACH;FMTTYPE=image/jpeg:https://enjoywhereyouare.today/wp-content/uploads/2024/06/Gallatin-Valley-Farmers-Market.jpg
GEO:45.6901377;-111.0372167
X-APPLE-STRUCTURED-LOCATION;VALUE=URI;X-ADDRESS=Gallatin County Fairgrounds 901 N Black Ave Bozeman MT;X-APPLE-RADIUS=500;X-TITLE=901 N Black Ave:geo:-111.0372167,45.6901377
END:VEVENT
BEGIN:VEVENT
DTSTART;TZID=America/New_York:20240719T110000
DTEND;TZID=America/New_York:20240719T230000
DTSTAMP:20260425T114912
CREATED:20240627T153649Z
LAST-MODIFIED:20240627T154139Z
UID:10005997-1721386800-1721430000@enjoywhereyouare.today
SUMMARY:Big Sky Country State Fair
DESCRIPTION:
URL:https://enjoywhereyouare.today/events/big-sky-country-state-fair/2024-07-19/
LOCATION:Gallatin County Fairgrounds\, 901 N Black Ave\, Bozeman\, MT
CATEGORIES:Festivals and Events
ATTACH;FMTTYPE=image/jpeg:https://enjoywhereyouare.today/wp-content/uploads/2024/06/Big-Sky-Country-State-Fair.jpg
GEO:45.6901377;-111.0372167
X-APPLE-STRUCTURED-LOCATION;VALUE=URI;X-ADDRESS=Gallatin County Fairgrounds 901 N Black Ave Bozeman MT;X-APPLE-RADIUS=500;X-TITLE=901 N Black Ave:geo:-111.0372167,45.6901377
END:VEVENT
BEGIN:VEVENT
DTSTART;TZID=America/New_York:20240718T110000
DTEND;TZID=America/New_York:20240718T230000
DTSTAMP:20260425T114912
CREATED:20240627T153649Z
LAST-MODIFIED:20240627T154139Z
UID:10005996-1721300400-1721343600@enjoywhereyouare.today
SUMMARY:Big Sky Country State Fair
DESCRIPTION:
URL:https://enjoywhereyouare.today/events/big-sky-country-state-fair/2024-07-18/
LOCATION:Gallatin County Fairgrounds\, 901 N Black Ave\, Bozeman\, MT
CATEGORIES:Festivals and Events
ATTACH;FMTTYPE=image/jpeg:https://enjoywhereyouare.today/wp-content/uploads/2024/06/Big-Sky-Country-State-Fair.jpg
GEO:45.6901377;-111.0372167
X-APPLE-STRUCTURED-LOCATION;VALUE=URI;X-ADDRESS=Gallatin County Fairgrounds 901 N Black Ave Bozeman MT;X-APPLE-RADIUS=500;X-TITLE=901 N Black Ave:geo:-111.0372167,45.6901377
END:VEVENT
BEGIN:VEVENT
DTSTART;TZID=America/New_York:20240717T110000
DTEND;TZID=America/New_York:20240717T230000
DTSTAMP:20260425T114912
CREATED:20240627T153649Z
LAST-MODIFIED:20240627T154139Z
UID:10005995-1721214000-1721257200@enjoywhereyouare.today
SUMMARY:Big Sky Country State Fair
DESCRIPTION:
URL:https://enjoywhereyouare.today/events/big-sky-country-state-fair/2024-07-17/
LOCATION:Gallatin County Fairgrounds\, 901 N Black Ave\, Bozeman\, MT
CATEGORIES:Festivals and Events
ATTACH;FMTTYPE=image/jpeg:https://enjoywhereyouare.today/wp-content/uploads/2024/06/Big-Sky-Country-State-Fair.jpg
GEO:45.6901377;-111.0372167
X-APPLE-STRUCTURED-LOCATION;VALUE=URI;X-ADDRESS=Gallatin County Fairgrounds 901 N Black Ave Bozeman MT;X-APPLE-RADIUS=500;X-TITLE=901 N Black Ave:geo:-111.0372167,45.6901377
END:VEVENT
BEGIN:VEVENT
DTSTART;TZID=America/New_York:20240713T090000
DTEND;TZID=America/New_York:20240713T120000
DTSTAMP:20260425T114912
CREATED:20240628T165248Z
LAST-MODIFIED:20240628T165248Z
UID:10006009-1720861200-1720872000@enjoywhereyouare.today
SUMMARY:Gallatin Valley Farmers' Market
DESCRIPTION:Nearly 120 vendors provide an opportunity to buy homemade food\, handmade crafts\, and locally grown Bozeman area produce.
URL:https://enjoywhereyouare.today/events/gallatin-valley-farmers-market/2024-07-13/
LOCATION:Gallatin County Fairgrounds\, 901 N Black Ave\, Bozeman\, MT
CATEGORIES:Farm Markets & Shopping
ATTACH;FMTTYPE=image/jpeg:https://enjoywhereyouare.today/wp-content/uploads/2024/06/Gallatin-Valley-Farmers-Market.jpg
GEO:45.6901377;-111.0372167
X-APPLE-STRUCTURED-LOCATION;VALUE=URI;X-ADDRESS=Gallatin County Fairgrounds 901 N Black Ave Bozeman MT;X-APPLE-RADIUS=500;X-TITLE=901 N Black Ave:geo:-111.0372167,45.6901377
END:VEVENT
BEGIN:VEVENT
DTSTART;TZID=America/New_York:20240706T090000
DTEND;TZID=America/New_York:20240706T120000
DTSTAMP:20260425T114912
CREATED:20240628T165248Z
LAST-MODIFIED:20240628T165248Z
UID:10006008-1720256400-1720267200@enjoywhereyouare.today
SUMMARY:Gallatin Valley Farmers' Market
DESCRIPTION:Nearly 120 vendors provide an opportunity to buy homemade food\, handmade crafts\, and locally grown Bozeman area produce.
URL:https://enjoywhereyouare.today/events/gallatin-valley-farmers-market/2024-07-06/
LOCATION:Gallatin County Fairgrounds\, 901 N Black Ave\, Bozeman\, MT
CATEGORIES:Farm Markets & Shopping
ATTACH;FMTTYPE=image/jpeg:https://enjoywhereyouare.today/wp-content/uploads/2024/06/Gallatin-Valley-Farmers-Market.jpg
GEO:45.6901377;-111.0372167
X-APPLE-STRUCTURED-LOCATION;VALUE=URI;X-ADDRESS=Gallatin County Fairgrounds 901 N Black Ave Bozeman MT;X-APPLE-RADIUS=500;X-TITLE=901 N Black Ave:geo:-111.0372167,45.6901377
END:VEVENT
BEGIN:VEVENT
DTSTART;TZID=America/New_York:20240629T090000
DTEND;TZID=America/New_York:20240629T120000
DTSTAMP:20260425T114912
CREATED:20240628T165248Z
LAST-MODIFIED:20240628T165248Z
UID:10006007-1719651600-1719662400@enjoywhereyouare.today
SUMMARY:Gallatin Valley Farmers' Market
DESCRIPTION:Nearly 120 vendors provide an opportunity to buy homemade food\, handmade crafts\, and locally grown Bozeman area produce.
URL:https://enjoywhereyouare.today/events/gallatin-valley-farmers-market/2024-06-29/
LOCATION:Gallatin County Fairgrounds\, 901 N Black Ave\, Bozeman\, MT
CATEGORIES:Farm Markets & Shopping
ATTACH;FMTTYPE=image/jpeg:https://enjoywhereyouare.today/wp-content/uploads/2024/06/Gallatin-Valley-Farmers-Market.jpg
GEO:45.6901377;-111.0372167
X-APPLE-STRUCTURED-LOCATION;VALUE=URI;X-ADDRESS=Gallatin County Fairgrounds 901 N Black Ave Bozeman MT;X-APPLE-RADIUS=500;X-TITLE=901 N Black Ave:geo:-111.0372167,45.6901377
END:VEVENT
BEGIN:VEVENT
DTSTART;TZID=America/New_York:20240622T090000
DTEND;TZID=America/New_York:20240622T120000
DTSTAMP:20260425T114912
CREATED:20240628T165248Z
LAST-MODIFIED:20240628T165248Z
UID:10006006-1719046800-1719057600@enjoywhereyouare.today
SUMMARY:Gallatin Valley Farmers' Market
DESCRIPTION:Nearly 120 vendors provide an opportunity to buy homemade food\, handmade crafts\, and locally grown Bozeman area produce.
URL:https://enjoywhereyouare.today/events/gallatin-valley-farmers-market/2024-06-22/
LOCATION:Gallatin County Fairgrounds\, 901 N Black Ave\, Bozeman\, MT
CATEGORIES:Farm Markets & Shopping
ATTACH;FMTTYPE=image/jpeg:https://enjoywhereyouare.today/wp-content/uploads/2024/06/Gallatin-Valley-Farmers-Market.jpg
GEO:45.6901377;-111.0372167
X-APPLE-STRUCTURED-LOCATION;VALUE=URI;X-ADDRESS=Gallatin County Fairgrounds 901 N Black Ave Bozeman MT;X-APPLE-RADIUS=500;X-TITLE=901 N Black Ave:geo:-111.0372167,45.6901377
END:VEVENT
BEGIN:VEVENT
DTSTART;TZID=America/New_York:20240615T090000
DTEND;TZID=America/New_York:20240615T120000
DTSTAMP:20260425T114912
CREATED:20240628T165248Z
LAST-MODIFIED:20240628T165248Z
UID:10006005-1718442000-1718452800@enjoywhereyouare.today
SUMMARY:Gallatin Valley Farmers' Market
DESCRIPTION:Nearly 120 vendors provide an opportunity to buy homemade food\, handmade crafts\, and locally grown Bozeman area produce.
URL:https://enjoywhereyouare.today/events/gallatin-valley-farmers-market/2024-06-15/
LOCATION:Gallatin County Fairgrounds\, 901 N Black Ave\, Bozeman\, MT
CATEGORIES:Farm Markets & Shopping
ATTACH;FMTTYPE=image/jpeg:https://enjoywhereyouare.today/wp-content/uploads/2024/06/Gallatin-Valley-Farmers-Market.jpg
GEO:45.6901377;-111.0372167
X-APPLE-STRUCTURED-LOCATION;VALUE=URI;X-ADDRESS=Gallatin County Fairgrounds 901 N Black Ave Bozeman MT;X-APPLE-RADIUS=500;X-TITLE=901 N Black Ave:geo:-111.0372167,45.6901377
END:VEVENT
END:VCALENDAR