BEGIN:VCALENDAR
VERSION:2.0
PRODID:-//Enjoy Where You Are - ECPv6.5.2//NONSGML v1.0//EN
CALSCALE:GREGORIAN
METHOD:PUBLISH
X-ORIGINAL-URL:https://enjoywhereyouare.today
X-WR-CALDESC:Events for Enjoy Where You Are
REFRESH-INTERVAL;VALUE=DURATION:PT1H
X-Robots-Tag:noindex
X-PUBLISHED-TTL:PT1H
BEGIN:VTIMEZONE
TZID:America/New_York
BEGIN:DAYLIGHT
TZOFFSETFROM:-0500
TZOFFSETTO:-0400
TZNAME:EDT
DTSTART:20260308T070000
END:DAYLIGHT
BEGIN:STANDARD
TZOFFSETFROM:-0400
TZOFFSETTO:-0500
TZNAME:EST
DTSTART:20261101T060000
END:STANDARD
END:VTIMEZONE
BEGIN:VEVENT
DTSTART;TZID=America/New_York:20260422T120000
DTEND;TZID=America/New_York:20260422T170000
DTSTAMP:20260422T164714
CREATED:20260217T210638Z
LAST-MODIFIED:20260217T210638Z
UID:10015973-1776859200-1776877200@enjoywhereyouare.today
SUMMARY:PIZZA WEDNESDAYS!
DESCRIPTION:
URL:https://enjoywhereyouare.today/events/pizza-wednesdays/2026-04-22/
LOCATION:Folgarelli’s\, West Front Street\, Traverse City\, MI\, 49684\, United States
CATEGORIES:Daily Specials
ATTACH;FMTTYPE=image/jpeg:https://enjoywhereyouare.today/wp-content/uploads/2026/02/Folgarelli-Pizza-Wednesday.jpg
GEO:44.7643602;-85.6293837
X-APPLE-STRUCTURED-LOCATION;VALUE=URI;X-ADDRESS=Folgarelli’s West Front Street Traverse City MI 49684 United States;X-APPLE-RADIUS=500;X-TITLE=West Front Street:geo:-85.6293837,44.7643602
END:VEVENT
BEGIN:VEVENT
DTSTART;TZID=America/New_York:20260429T120000
DTEND;TZID=America/New_York:20260429T170000
DTSTAMP:20260422T164714
CREATED:20260217T210638Z
LAST-MODIFIED:20260217T210638Z
UID:10015974-1777464000-1777482000@enjoywhereyouare.today
SUMMARY:PIZZA WEDNESDAYS!
DESCRIPTION:
URL:https://enjoywhereyouare.today/events/pizza-wednesdays/2026-04-29/
LOCATION:Folgarelli’s\, West Front Street\, Traverse City\, MI\, 49684\, United States
CATEGORIES:Daily Specials
ATTACH;FMTTYPE=image/jpeg:https://enjoywhereyouare.today/wp-content/uploads/2026/02/Folgarelli-Pizza-Wednesday.jpg
GEO:44.7643602;-85.6293837
X-APPLE-STRUCTURED-LOCATION;VALUE=URI;X-ADDRESS=Folgarelli’s West Front Street Traverse City MI 49684 United States;X-APPLE-RADIUS=500;X-TITLE=West Front Street:geo:-85.6293837,44.7643602
END:VEVENT
END:VCALENDAR