BEGIN:VCALENDAR
VERSION:2.0
PRODID:-//Enjoy Where You Are - ECPv6.5.2//NONSGML v1.0//EN
CALSCALE:GREGORIAN
METHOD:PUBLISH
X-WR-CALNAME:Enjoy Where You Are
X-ORIGINAL-URL:https://enjoywhereyouare.today
X-WR-CALDESC:Events for Enjoy Where You Are
REFRESH-INTERVAL;VALUE=DURATION:PT1H
X-Robots-Tag:noindex
X-PUBLISHED-TTL:PT1H
BEGIN:VTIMEZONE
TZID:America/New_York
BEGIN:DAYLIGHT
TZOFFSETFROM:-0500
TZOFFSETTO:-0400
TZNAME:EDT
DTSTART:20250309T070000
END:DAYLIGHT
BEGIN:STANDARD
TZOFFSETFROM:-0400
TZOFFSETTO:-0500
TZNAME:EST
DTSTART:20251102T060000
END:STANDARD
END:VTIMEZONE
BEGIN:VEVENT
DTSTART;TZID=America/New_York:20251127T140000
DTEND;TZID=America/New_York:20251127T180000
DTSTAMP:20260422T214150
CREATED:20250925T180127Z
LAST-MODIFIED:20250925T180127Z
UID:10014518-1764252000-1764266400@enjoywhereyouare.today
SUMMARY:East Bay Corners Farm Market
DESCRIPTION:
URL:https://enjoywhereyouare.today/events/east-bay-corners-farm-market/2025-11-27/
LOCATION:East Bay Township\, North Three Mile Road\, Traverse City\, Michigan\, 49696\, United States
CATEGORIES:*East Bay-Acme-Williamsburg,Farm Markets & Shopping
ATTACH;FMTTYPE=image/jpeg:https://enjoywhereyouare.today/wp-content/uploads/2025/09/East-Bay-Farm-Market.jpg
GEO:44.7142845;-85.5577292
X-APPLE-STRUCTURED-LOCATION;VALUE=URI;X-ADDRESS=East Bay Township North Three Mile Road Traverse City Michigan 49696 United States;X-APPLE-RADIUS=500;X-TITLE=North Three Mile Road:geo:-85.5577292,44.7142845
END:VEVENT
BEGIN:VEVENT
DTSTART;TZID=America/New_York:20251120T140000
DTEND;TZID=America/New_York:20251120T180000
DTSTAMP:20260422T214150
CREATED:20250925T180127Z
LAST-MODIFIED:20250925T180127Z
UID:10014517-1763647200-1763661600@enjoywhereyouare.today
SUMMARY:East Bay Corners Farm Market
DESCRIPTION:
URL:https://enjoywhereyouare.today/events/east-bay-corners-farm-market/2025-11-20/
LOCATION:East Bay Township\, North Three Mile Road\, Traverse City\, Michigan\, 49696\, United States
CATEGORIES:*East Bay-Acme-Williamsburg,Farm Markets & Shopping
ATTACH;FMTTYPE=image/jpeg:https://enjoywhereyouare.today/wp-content/uploads/2025/09/East-Bay-Farm-Market.jpg
GEO:44.7142845;-85.5577292
X-APPLE-STRUCTURED-LOCATION;VALUE=URI;X-ADDRESS=East Bay Township North Three Mile Road Traverse City Michigan 49696 United States;X-APPLE-RADIUS=500;X-TITLE=North Three Mile Road:geo:-85.5577292,44.7142845
END:VEVENT
BEGIN:VEVENT
DTSTART;TZID=America/New_York:20251113T140000
DTEND;TZID=America/New_York:20251113T180000
DTSTAMP:20260422T214150
CREATED:20250925T180127Z
LAST-MODIFIED:20250925T180127Z
UID:10014516-1763042400-1763056800@enjoywhereyouare.today
SUMMARY:East Bay Corners Farm Market
DESCRIPTION:
URL:https://enjoywhereyouare.today/events/east-bay-corners-farm-market/2025-11-13/
LOCATION:East Bay Township\, North Three Mile Road\, Traverse City\, Michigan\, 49696\, United States
CATEGORIES:*East Bay-Acme-Williamsburg,Farm Markets & Shopping
ATTACH;FMTTYPE=image/jpeg:https://enjoywhereyouare.today/wp-content/uploads/2025/09/East-Bay-Farm-Market.jpg
GEO:44.7142845;-85.5577292
X-APPLE-STRUCTURED-LOCATION;VALUE=URI;X-ADDRESS=East Bay Township North Three Mile Road Traverse City Michigan 49696 United States;X-APPLE-RADIUS=500;X-TITLE=North Three Mile Road:geo:-85.5577292,44.7142845
END:VEVENT
BEGIN:VEVENT
DTSTART;TZID=America/New_York:20251106T140000
DTEND;TZID=America/New_York:20251106T180000
DTSTAMP:20260422T214150
CREATED:20250925T180127Z
LAST-MODIFIED:20250925T180127Z
UID:10014515-1762437600-1762452000@enjoywhereyouare.today
SUMMARY:East Bay Corners Farm Market
DESCRIPTION:
URL:https://enjoywhereyouare.today/events/east-bay-corners-farm-market/2025-11-06/
LOCATION:East Bay Township\, North Three Mile Road\, Traverse City\, Michigan\, 49696\, United States
CATEGORIES:*East Bay-Acme-Williamsburg,Farm Markets & Shopping
ATTACH;FMTTYPE=image/jpeg:https://enjoywhereyouare.today/wp-content/uploads/2025/09/East-Bay-Farm-Market.jpg
GEO:44.7142845;-85.5577292
X-APPLE-STRUCTURED-LOCATION;VALUE=URI;X-ADDRESS=East Bay Township North Three Mile Road Traverse City Michigan 49696 United States;X-APPLE-RADIUS=500;X-TITLE=North Three Mile Road:geo:-85.5577292,44.7142845
END:VEVENT
BEGIN:VEVENT
DTSTART;TZID=America/New_York:20251030T140000
DTEND;TZID=America/New_York:20251030T180000
DTSTAMP:20260422T214150
CREATED:20250925T180127Z
LAST-MODIFIED:20250925T180127Z
UID:10014514-1761832800-1761847200@enjoywhereyouare.today
SUMMARY:East Bay Corners Farm Market
DESCRIPTION:
URL:https://enjoywhereyouare.today/events/east-bay-corners-farm-market/2025-10-30/
LOCATION:East Bay Township\, North Three Mile Road\, Traverse City\, Michigan\, 49696\, United States
CATEGORIES:*East Bay-Acme-Williamsburg,Farm Markets & Shopping
ATTACH;FMTTYPE=image/jpeg:https://enjoywhereyouare.today/wp-content/uploads/2025/09/East-Bay-Farm-Market.jpg
GEO:44.7142845;-85.5577292
X-APPLE-STRUCTURED-LOCATION;VALUE=URI;X-ADDRESS=East Bay Township North Three Mile Road Traverse City Michigan 49696 United States;X-APPLE-RADIUS=500;X-TITLE=North Three Mile Road:geo:-85.5577292,44.7142845
END:VEVENT
BEGIN:VEVENT
DTSTART;TZID=America/New_York:20251023T140000
DTEND;TZID=America/New_York:20251023T180000
DTSTAMP:20260422T214150
CREATED:20250925T180127Z
LAST-MODIFIED:20250925T180127Z
UID:10014513-1761228000-1761242400@enjoywhereyouare.today
SUMMARY:East Bay Corners Farm Market
DESCRIPTION:
URL:https://enjoywhereyouare.today/events/east-bay-corners-farm-market/2025-10-23/
LOCATION:East Bay Township\, North Three Mile Road\, Traverse City\, Michigan\, 49696\, United States
CATEGORIES:*East Bay-Acme-Williamsburg,Farm Markets & Shopping
ATTACH;FMTTYPE=image/jpeg:https://enjoywhereyouare.today/wp-content/uploads/2025/09/East-Bay-Farm-Market.jpg
GEO:44.7142845;-85.5577292
X-APPLE-STRUCTURED-LOCATION;VALUE=URI;X-ADDRESS=East Bay Township North Three Mile Road Traverse City Michigan 49696 United States;X-APPLE-RADIUS=500;X-TITLE=North Three Mile Road:geo:-85.5577292,44.7142845
END:VEVENT
BEGIN:VEVENT
DTSTART;TZID=America/New_York:20251016T140000
DTEND;TZID=America/New_York:20251016T180000
DTSTAMP:20260422T214150
CREATED:20250925T180127Z
LAST-MODIFIED:20250925T180127Z
UID:10014512-1760623200-1760637600@enjoywhereyouare.today
SUMMARY:East Bay Corners Farm Market
DESCRIPTION:
URL:https://enjoywhereyouare.today/events/east-bay-corners-farm-market/2025-10-16/
LOCATION:East Bay Township\, North Three Mile Road\, Traverse City\, Michigan\, 49696\, United States
CATEGORIES:*East Bay-Acme-Williamsburg,Farm Markets & Shopping
ATTACH;FMTTYPE=image/jpeg:https://enjoywhereyouare.today/wp-content/uploads/2025/09/East-Bay-Farm-Market.jpg
GEO:44.7142845;-85.5577292
X-APPLE-STRUCTURED-LOCATION;VALUE=URI;X-ADDRESS=East Bay Township North Three Mile Road Traverse City Michigan 49696 United States;X-APPLE-RADIUS=500;X-TITLE=North Three Mile Road:geo:-85.5577292,44.7142845
END:VEVENT
BEGIN:VEVENT
DTSTART;TZID=America/New_York:20251009T140000
DTEND;TZID=America/New_York:20251009T180000
DTSTAMP:20260422T214150
CREATED:20250925T180127Z
LAST-MODIFIED:20250925T180127Z
UID:10014511-1760018400-1760032800@enjoywhereyouare.today
SUMMARY:East Bay Corners Farm Market
DESCRIPTION:
URL:https://enjoywhereyouare.today/events/east-bay-corners-farm-market/2025-10-09/
LOCATION:East Bay Township\, North Three Mile Road\, Traverse City\, Michigan\, 49696\, United States
CATEGORIES:*East Bay-Acme-Williamsburg,Farm Markets & Shopping
ATTACH;FMTTYPE=image/jpeg:https://enjoywhereyouare.today/wp-content/uploads/2025/09/East-Bay-Farm-Market.jpg
GEO:44.7142845;-85.5577292
X-APPLE-STRUCTURED-LOCATION;VALUE=URI;X-ADDRESS=East Bay Township North Three Mile Road Traverse City Michigan 49696 United States;X-APPLE-RADIUS=500;X-TITLE=North Three Mile Road:geo:-85.5577292,44.7142845
END:VEVENT
BEGIN:VEVENT
DTSTART;TZID=America/New_York:20251002T140000
DTEND;TZID=America/New_York:20251002T180000
DTSTAMP:20260422T214150
CREATED:20250925T180127Z
LAST-MODIFIED:20250925T180127Z
UID:10014510-1759413600-1759428000@enjoywhereyouare.today
SUMMARY:East Bay Corners Farm Market
DESCRIPTION:
URL:https://enjoywhereyouare.today/events/east-bay-corners-farm-market/2025-10-02/
LOCATION:East Bay Township\, North Three Mile Road\, Traverse City\, Michigan\, 49696\, United States
CATEGORIES:*East Bay-Acme-Williamsburg,Farm Markets & Shopping
ATTACH;FMTTYPE=image/jpeg:https://enjoywhereyouare.today/wp-content/uploads/2025/09/East-Bay-Farm-Market.jpg
GEO:44.7142845;-85.5577292
X-APPLE-STRUCTURED-LOCATION;VALUE=URI;X-ADDRESS=East Bay Township North Three Mile Road Traverse City Michigan 49696 United States;X-APPLE-RADIUS=500;X-TITLE=North Three Mile Road:geo:-85.5577292,44.7142845
END:VEVENT
BEGIN:VEVENT
DTSTART;TZID=America/New_York:20250925T140000
DTEND;TZID=America/New_York:20250925T180000
DTSTAMP:20260422T214150
CREATED:20250925T180127Z
LAST-MODIFIED:20250925T180127Z
UID:10014509-1758808800-1758823200@enjoywhereyouare.today
SUMMARY:East Bay Corners Farm Market
DESCRIPTION:
URL:https://enjoywhereyouare.today/events/east-bay-corners-farm-market/2025-09-25/
LOCATION:East Bay Township\, North Three Mile Road\, Traverse City\, Michigan\, 49696\, United States
CATEGORIES:*East Bay-Acme-Williamsburg,Farm Markets & Shopping
ATTACH;FMTTYPE=image/jpeg:https://enjoywhereyouare.today/wp-content/uploads/2025/09/East-Bay-Farm-Market.jpg
GEO:44.7142845;-85.5577292
X-APPLE-STRUCTURED-LOCATION;VALUE=URI;X-ADDRESS=East Bay Township North Three Mile Road Traverse City Michigan 49696 United States;X-APPLE-RADIUS=500;X-TITLE=North Three Mile Road:geo:-85.5577292,44.7142845
END:VEVENT
END:VCALENDAR