BEGIN:VCALENDAR
VERSION:2.0
PRODID:-//Enjoy Where You Are - ECPv6.5.2//NONSGML v1.0//EN
CALSCALE:GREGORIAN
METHOD:PUBLISH
X-ORIGINAL-URL:https://enjoywhereyouare.today
X-WR-CALDESC:Events for Enjoy Where You Are
REFRESH-INTERVAL;VALUE=DURATION:PT1H
X-Robots-Tag:noindex
X-PUBLISHED-TTL:PT1H
BEGIN:VTIMEZONE
TZID:America/New_York
BEGIN:DAYLIGHT
TZOFFSETFROM:-0500
TZOFFSETTO:-0400
TZNAME:EDT
DTSTART:20230312T070000
END:DAYLIGHT
BEGIN:STANDARD
TZOFFSETFROM:-0400
TZOFFSETTO:-0500
TZNAME:EST
DTSTART:20231105T060000
END:STANDARD
END:VTIMEZONE
BEGIN:VEVENT
DTSTART;VALUE=DATE:20231021
DTEND;VALUE=DATE:20231022
DTSTAMP:20260423T030042
CREATED:20230307T142229Z
LAST-MODIFIED:20230307T142229Z
UID:10003080-1697846400-1697932799@enjoywhereyouare.today
SUMMARY:Downtown Tailgate
DESCRIPTION:The Largest Tailgate north of Ann Arbor and East Lansing! The DTCA will host a tailgate and simulcast screening (w/giant LED screen) of the MSU/UofM football game. This is a FREE family-friendly community event. Make sure to bring your own chair or blanket to enjoy.
URL:https://enjoywhereyouare.today/events/downtown-tailgate/
LOCATION:Civic Square Park\, 203 S. Union\, Traverse City\, MI\, 49684
CATEGORIES:Family and Kids,Festivals and Events
ATTACH;FMTTYPE=image/png:https://enjoywhereyouare.today/wp-content/uploads/2023/03/TC-MSU-um-tailgate.png
GEO:44.7624709;-85.6234352
X-APPLE-STRUCTURED-LOCATION;VALUE=URI;X-ADDRESS=Civic Square Park 203 S. Union Traverse City MI 49684;X-APPLE-RADIUS=500;X-TITLE=203 S. Union:geo:-85.6234352,44.7624709
END:VEVENT
END:VCALENDAR