BEGIN:VCALENDAR
VERSION:2.0
PRODID:-//Enjoy Where You Are - ECPv6.5.2//NONSGML v1.0//EN
CALSCALE:GREGORIAN
METHOD:PUBLISH
X-WR-CALNAME:Enjoy Where You Are
X-ORIGINAL-URL:https://enjoywhereyouare.today
X-WR-CALDESC:Events for Enjoy Where You Are
REFRESH-INTERVAL;VALUE=DURATION:PT1H
X-Robots-Tag:noindex
X-PUBLISHED-TTL:PT1H
BEGIN:VTIMEZONE
TZID:America/New_York
BEGIN:DAYLIGHT
TZOFFSETFROM:-0500
TZOFFSETTO:-0400
TZNAME:EDT
DTSTART:20260308T070000
END:DAYLIGHT
BEGIN:STANDARD
TZOFFSETFROM:-0400
TZOFFSETTO:-0500
TZNAME:EST
DTSTART:20261101T060000
END:STANDARD
END:VTIMEZONE
BEGIN:VEVENT
DTSTART;TZID=America/New_York:20260428T150000
DTEND;TZID=America/New_York:20260428T200000
DTSTAMP:20260422T181146
CREATED:20260108T175113Z
LAST-MODIFIED:20260108T180622Z
UID:10015673-1777388400-1777406400@enjoywhereyouare.today
SUMMARY:TWO TUESDAYS
DESCRIPTION:2 Pizzas for the price of 1! \nEvery Tuesday – Buy 1 Pizza\, Get 1 Free! \nDine-in\, Take-out\, & DoorDash! \nCall (231) 786-0555 to place order! ENJOY!!!
URL:https://enjoywhereyouare.today/events/two-tuesdays/2026-04-28/
LOCATION:Nittolo’s Little Italy\, Garland Street\, Traverse City\, MI\, 49684\, United States
CATEGORIES:*Downtown TC and Traverse City,Daily Specials
ATTACH;FMTTYPE=image/jpeg:https://enjoywhereyouare.today/wp-content/uploads/2026/01/Nittolos-2-for-Tues-1-e1767894420421.jpg
GEO:44.765066;-85.625119
X-APPLE-STRUCTURED-LOCATION;VALUE=URI;X-ADDRESS=Nittolo’s Little Italy Garland Street Traverse City MI 49684 United States;X-APPLE-RADIUS=500;X-TITLE=Garland Street:geo:-85.625119,44.765066
END:VEVENT
BEGIN:VEVENT
DTSTART;TZID=America/New_York:20260505T150000
DTEND;TZID=America/New_York:20260505T200000
DTSTAMP:20260422T181146
CREATED:20260108T175113Z
LAST-MODIFIED:20260108T180622Z
UID:10015674-1777993200-1778011200@enjoywhereyouare.today
SUMMARY:TWO TUESDAYS
DESCRIPTION:2 Pizzas for the price of 1! \nEvery Tuesday – Buy 1 Pizza\, Get 1 Free! \nDine-in\, Take-out\, & DoorDash! \nCall (231) 786-0555 to place order! ENJOY!!!
URL:https://enjoywhereyouare.today/events/two-tuesdays/2026-05-05/
LOCATION:Nittolo’s Little Italy\, Garland Street\, Traverse City\, MI\, 49684\, United States
CATEGORIES:*Downtown TC and Traverse City,Daily Specials
ATTACH;FMTTYPE=image/jpeg:https://enjoywhereyouare.today/wp-content/uploads/2026/01/Nittolos-2-for-Tues-1-e1767894420421.jpg
GEO:44.765066;-85.625119
X-APPLE-STRUCTURED-LOCATION;VALUE=URI;X-ADDRESS=Nittolo’s Little Italy Garland Street Traverse City MI 49684 United States;X-APPLE-RADIUS=500;X-TITLE=Garland Street:geo:-85.625119,44.765066
END:VEVENT
BEGIN:VEVENT
DTSTART;TZID=America/New_York:20260512T150000
DTEND;TZID=America/New_York:20260512T200000
DTSTAMP:20260422T181146
CREATED:20260108T175113Z
LAST-MODIFIED:20260108T180622Z
UID:10015675-1778598000-1778616000@enjoywhereyouare.today
SUMMARY:TWO TUESDAYS
DESCRIPTION:2 Pizzas for the price of 1! \nEvery Tuesday – Buy 1 Pizza\, Get 1 Free! \nDine-in\, Take-out\, & DoorDash! \nCall (231) 786-0555 to place order! ENJOY!!!
URL:https://enjoywhereyouare.today/events/two-tuesdays/2026-05-12/
LOCATION:Nittolo’s Little Italy\, Garland Street\, Traverse City\, MI\, 49684\, United States
CATEGORIES:*Downtown TC and Traverse City,Daily Specials
ATTACH;FMTTYPE=image/jpeg:https://enjoywhereyouare.today/wp-content/uploads/2026/01/Nittolos-2-for-Tues-1-e1767894420421.jpg
GEO:44.765066;-85.625119
X-APPLE-STRUCTURED-LOCATION;VALUE=URI;X-ADDRESS=Nittolo’s Little Italy Garland Street Traverse City MI 49684 United States;X-APPLE-RADIUS=500;X-TITLE=Garland Street:geo:-85.625119,44.765066
END:VEVENT
BEGIN:VEVENT
DTSTART;TZID=America/New_York:20260519T150000
DTEND;TZID=America/New_York:20260519T200000
DTSTAMP:20260422T181146
CREATED:20260108T175113Z
LAST-MODIFIED:20260108T180622Z
UID:10015676-1779202800-1779220800@enjoywhereyouare.today
SUMMARY:TWO TUESDAYS
DESCRIPTION:2 Pizzas for the price of 1! \nEvery Tuesday – Buy 1 Pizza\, Get 1 Free! \nDine-in\, Take-out\, & DoorDash! \nCall (231) 786-0555 to place order! ENJOY!!!
URL:https://enjoywhereyouare.today/events/two-tuesdays/2026-05-19/
LOCATION:Nittolo’s Little Italy\, Garland Street\, Traverse City\, MI\, 49684\, United States
CATEGORIES:*Downtown TC and Traverse City,Daily Specials
ATTACH;FMTTYPE=image/jpeg:https://enjoywhereyouare.today/wp-content/uploads/2026/01/Nittolos-2-for-Tues-1-e1767894420421.jpg
GEO:44.765066;-85.625119
X-APPLE-STRUCTURED-LOCATION;VALUE=URI;X-ADDRESS=Nittolo’s Little Italy Garland Street Traverse City MI 49684 United States;X-APPLE-RADIUS=500;X-TITLE=Garland Street:geo:-85.625119,44.765066
END:VEVENT
BEGIN:VEVENT
DTSTART;TZID=America/New_York:20260526T150000
DTEND;TZID=America/New_York:20260526T200000
DTSTAMP:20260422T181146
CREATED:20260108T175113Z
LAST-MODIFIED:20260108T180622Z
UID:10015677-1779807600-1779825600@enjoywhereyouare.today
SUMMARY:TWO TUESDAYS
DESCRIPTION:2 Pizzas for the price of 1! \nEvery Tuesday – Buy 1 Pizza\, Get 1 Free! \nDine-in\, Take-out\, & DoorDash! \nCall (231) 786-0555 to place order! ENJOY!!!
URL:https://enjoywhereyouare.today/events/two-tuesdays/2026-05-26/
LOCATION:Nittolo’s Little Italy\, Garland Street\, Traverse City\, MI\, 49684\, United States
CATEGORIES:*Downtown TC and Traverse City,Daily Specials
ATTACH;FMTTYPE=image/jpeg:https://enjoywhereyouare.today/wp-content/uploads/2026/01/Nittolos-2-for-Tues-1-e1767894420421.jpg
GEO:44.765066;-85.625119
X-APPLE-STRUCTURED-LOCATION;VALUE=URI;X-ADDRESS=Nittolo’s Little Italy Garland Street Traverse City MI 49684 United States;X-APPLE-RADIUS=500;X-TITLE=Garland Street:geo:-85.625119,44.765066
END:VEVENT
END:VCALENDAR