BEGIN:VCALENDAR
VERSION:2.0
PRODID:-//Enjoy Where You Are - ECPv6.5.2//NONSGML v1.0//EN
CALSCALE:GREGORIAN
METHOD:PUBLISH
X-WR-CALNAME:Enjoy Where You Are
X-ORIGINAL-URL:https://enjoywhereyouare.today
X-WR-CALDESC:Events for Enjoy Where You Are
REFRESH-INTERVAL;VALUE=DURATION:PT1H
X-Robots-Tag:noindex
X-PUBLISHED-TTL:PT1H
BEGIN:VTIMEZONE
TZID:America/New_York
BEGIN:DAYLIGHT
TZOFFSETFROM:-0500
TZOFFSETTO:-0400
TZNAME:EDT
DTSTART:20260308T070000
END:DAYLIGHT
BEGIN:STANDARD
TZOFFSETFROM:-0400
TZOFFSETTO:-0500
TZNAME:EST
DTSTART:20261101T060000
END:STANDARD
END:VTIMEZONE
BEGIN:VEVENT
DTSTART;TZID=America/New_York:20260424T110000
DTEND;TZID=America/New_York:20260424T210000
DTSTAMP:20260420T084541
CREATED:20250912T202655Z
LAST-MODIFIED:20250912T202949Z
UID:10014337-1777028400-1777064400@enjoywhereyouare.today
SUMMARY:Friday Fish Fry
DESCRIPTION:All-you-can-eat Friday Fish Frys!!!
URL:https://enjoywhereyouare.today/events/friday-fish-fry/2026-04-24/
LOCATION:Rico’s Cafe and Pizzeria\, U.S. 31\, Grawn\, MI\, 49637\, United States
CATEGORIES:*Silver Lake-Interlochen-Lake Ann,Daily Specials
ATTACH;FMTTYPE=image/jpeg:https://enjoywhereyouare.today/wp-content/uploads/2025/09/Ricos-Friday-Fish.jpg
GEO:44.665311;-85.6927556
X-APPLE-STRUCTURED-LOCATION;VALUE=URI;X-ADDRESS=Rico’s Cafe and Pizzeria U.S. 31 Grawn MI 49637 United States;X-APPLE-RADIUS=500;X-TITLE=U.S. 31:geo:-85.6927556,44.665311
END:VEVENT
BEGIN:VEVENT
DTSTART;TZID=America/New_York:20260501T110000
DTEND;TZID=America/New_York:20260501T210000
DTSTAMP:20260420T084541
CREATED:20250912T202655Z
LAST-MODIFIED:20250912T202949Z
UID:10014338-1777633200-1777669200@enjoywhereyouare.today
SUMMARY:Friday Fish Fry
DESCRIPTION:All-you-can-eat Friday Fish Frys!!!
URL:https://enjoywhereyouare.today/events/friday-fish-fry/2026-05-01/
LOCATION:Rico’s Cafe and Pizzeria\, U.S. 31\, Grawn\, MI\, 49637\, United States
CATEGORIES:*Silver Lake-Interlochen-Lake Ann,Daily Specials
ATTACH;FMTTYPE=image/jpeg:https://enjoywhereyouare.today/wp-content/uploads/2025/09/Ricos-Friday-Fish.jpg
GEO:44.665311;-85.6927556
X-APPLE-STRUCTURED-LOCATION;VALUE=URI;X-ADDRESS=Rico’s Cafe and Pizzeria U.S. 31 Grawn MI 49637 United States;X-APPLE-RADIUS=500;X-TITLE=U.S. 31:geo:-85.6927556,44.665311
END:VEVENT
BEGIN:VEVENT
DTSTART;TZID=America/New_York:20260508T110000
DTEND;TZID=America/New_York:20260508T210000
DTSTAMP:20260420T084541
CREATED:20250912T202655Z
LAST-MODIFIED:20250912T202949Z
UID:10014339-1778238000-1778274000@enjoywhereyouare.today
SUMMARY:Friday Fish Fry
DESCRIPTION:All-you-can-eat Friday Fish Frys!!!
URL:https://enjoywhereyouare.today/events/friday-fish-fry/2026-05-08/
LOCATION:Rico’s Cafe and Pizzeria\, U.S. 31\, Grawn\, MI\, 49637\, United States
CATEGORIES:*Silver Lake-Interlochen-Lake Ann,Daily Specials
ATTACH;FMTTYPE=image/jpeg:https://enjoywhereyouare.today/wp-content/uploads/2025/09/Ricos-Friday-Fish.jpg
GEO:44.665311;-85.6927556
X-APPLE-STRUCTURED-LOCATION;VALUE=URI;X-ADDRESS=Rico’s Cafe and Pizzeria U.S. 31 Grawn MI 49637 United States;X-APPLE-RADIUS=500;X-TITLE=U.S. 31:geo:-85.6927556,44.665311
END:VEVENT
BEGIN:VEVENT
DTSTART;TZID=America/New_York:20260515T110000
DTEND;TZID=America/New_York:20260515T210000
DTSTAMP:20260420T084541
CREATED:20250912T202655Z
LAST-MODIFIED:20250912T202949Z
UID:10014340-1778842800-1778878800@enjoywhereyouare.today
SUMMARY:Friday Fish Fry
DESCRIPTION:All-you-can-eat Friday Fish Frys!!!
URL:https://enjoywhereyouare.today/events/friday-fish-fry/2026-05-15/
LOCATION:Rico’s Cafe and Pizzeria\, U.S. 31\, Grawn\, MI\, 49637\, United States
CATEGORIES:*Silver Lake-Interlochen-Lake Ann,Daily Specials
ATTACH;FMTTYPE=image/jpeg:https://enjoywhereyouare.today/wp-content/uploads/2025/09/Ricos-Friday-Fish.jpg
GEO:44.665311;-85.6927556
X-APPLE-STRUCTURED-LOCATION;VALUE=URI;X-ADDRESS=Rico’s Cafe and Pizzeria U.S. 31 Grawn MI 49637 United States;X-APPLE-RADIUS=500;X-TITLE=U.S. 31:geo:-85.6927556,44.665311
END:VEVENT
BEGIN:VEVENT
DTSTART;TZID=America/New_York:20260522T110000
DTEND;TZID=America/New_York:20260522T210000
DTSTAMP:20260420T084541
CREATED:20250912T202655Z
LAST-MODIFIED:20250912T202949Z
UID:10014341-1779447600-1779483600@enjoywhereyouare.today
SUMMARY:Friday Fish Fry
DESCRIPTION:All-you-can-eat Friday Fish Frys!!!
URL:https://enjoywhereyouare.today/events/friday-fish-fry/2026-05-22/
LOCATION:Rico’s Cafe and Pizzeria\, U.S. 31\, Grawn\, MI\, 49637\, United States
CATEGORIES:*Silver Lake-Interlochen-Lake Ann,Daily Specials
ATTACH;FMTTYPE=image/jpeg:https://enjoywhereyouare.today/wp-content/uploads/2025/09/Ricos-Friday-Fish.jpg
GEO:44.665311;-85.6927556
X-APPLE-STRUCTURED-LOCATION;VALUE=URI;X-ADDRESS=Rico’s Cafe and Pizzeria U.S. 31 Grawn MI 49637 United States;X-APPLE-RADIUS=500;X-TITLE=U.S. 31:geo:-85.6927556,44.665311
END:VEVENT
BEGIN:VEVENT
DTSTART;TZID=America/New_York:20260529T110000
DTEND;TZID=America/New_York:20260529T210000
DTSTAMP:20260420T084541
CREATED:20250912T202655Z
LAST-MODIFIED:20250912T202949Z
UID:10014342-1780052400-1780088400@enjoywhereyouare.today
SUMMARY:Friday Fish Fry
DESCRIPTION:All-you-can-eat Friday Fish Frys!!!
URL:https://enjoywhereyouare.today/events/friday-fish-fry/2026-05-29/
LOCATION:Rico’s Cafe and Pizzeria\, U.S. 31\, Grawn\, MI\, 49637\, United States
CATEGORIES:*Silver Lake-Interlochen-Lake Ann,Daily Specials
ATTACH;FMTTYPE=image/jpeg:https://enjoywhereyouare.today/wp-content/uploads/2025/09/Ricos-Friday-Fish.jpg
GEO:44.665311;-85.6927556
X-APPLE-STRUCTURED-LOCATION;VALUE=URI;X-ADDRESS=Rico’s Cafe and Pizzeria U.S. 31 Grawn MI 49637 United States;X-APPLE-RADIUS=500;X-TITLE=U.S. 31:geo:-85.6927556,44.665311
END:VEVENT
END:VCALENDAR