BEGIN:VCALENDAR
VERSION:2.0
PRODID:-//Enjoy Where You Are - ECPv6.5.2//NONSGML v1.0//EN
CALSCALE:GREGORIAN
METHOD:PUBLISH
X-ORIGINAL-URL:https://enjoywhereyouare.today
X-WR-CALDESC:Events for Enjoy Where You Are
REFRESH-INTERVAL;VALUE=DURATION:PT1H
X-Robots-Tag:noindex
X-PUBLISHED-TTL:PT1H
BEGIN:VTIMEZONE
TZID:America/New_York
BEGIN:DAYLIGHT
TZOFFSETFROM:-0500
TZOFFSETTO:-0400
TZNAME:EDT
DTSTART:20260308T070000
END:DAYLIGHT
BEGIN:STANDARD
TZOFFSETFROM:-0400
TZOFFSETTO:-0500
TZNAME:EST
DTSTART:20261101T060000
END:STANDARD
END:VTIMEZONE
BEGIN:VEVENT
DTSTART;TZID=America/New_York:20260430T160000
DTEND;TZID=America/New_York:20260430T220000
DTSTAMP:20260424T134041
CREATED:20260127T162238Z
LAST-MODIFIED:20260129T142759Z
UID:10015837-1777564800-1777586400@enjoywhereyouare.today
SUMMARY:LADIES NIGHT
DESCRIPTION:1/2 OFF All Drinks!
URL:https://enjoywhereyouare.today/events/ladies-night-2/2026-04-30/
LOCATION:Gypsy Spirits\, West Front Street\, Traverse City\, MI\, 49684\, United States
CATEGORIES:*Downtown TC and Traverse City,Daily Specials
ATTACH;FMTTYPE=image/png:https://enjoywhereyouare.today/wp-content/uploads/2026/01/Gypsy-Ladies-Night-1.png
GEO:44.7635954;-85.6270257
X-APPLE-STRUCTURED-LOCATION;VALUE=URI;X-ADDRESS=Gypsy Spirits West Front Street Traverse City MI 49684 United States;X-APPLE-RADIUS=500;X-TITLE=West Front Street:geo:-85.6270257,44.7635954
END:VEVENT
BEGIN:VEVENT
DTSTART;TZID=America/New_York:20260430T180000
DTEND;TZID=America/New_York:20260430T210000
DTSTAMP:20260424T134041
CREATED:20260415T152416Z
LAST-MODIFIED:20260415T155541Z
UID:10016174-1777572000-1777582800@enjoywhereyouare.today
SUMMARY:Walter Scott Wine Dinner
DESCRIPTION:Click HERE for Event Tickets
URL:https://enjoywhereyouare.today/events/walter-scott-wine-dinner/
LOCATION:Boathouse Restaurant\, 14039 Peninsula Drive\, Traverse City\, MI\, 49686\, United States
CATEGORIES:*Old Mission Peninsula,Beer Wine and Spirits Events,Food
ATTACH;FMTTYPE=image/jpeg:https://enjoywhereyouare.today/wp-content/uploads/2026/04/Boathouse-Walter-Scott-Wine-Dinner-2026.jpg
GEO:44.8939519;-85.5258963
X-APPLE-STRUCTURED-LOCATION;VALUE=URI;X-ADDRESS=Boathouse Restaurant 14039 Peninsula Drive Traverse City MI 49686 United States;X-APPLE-RADIUS=500;X-TITLE=14039 Peninsula Drive:geo:-85.5258963,44.8939519
END:VEVENT
BEGIN:VEVENT
DTSTART;TZID=America/New_York:20260430T190000
DTEND;TZID=America/New_York:20260430T220000
DTSTAMP:20260424T134041
CREATED:20240910T153728Z
LAST-MODIFIED:20240910T153728Z
UID:10007090-1777575600-1777586400@enjoywhereyouare.today
SUMMARY:Bingo Nights
DESCRIPTION:Starting at a $20 buy in\, you must be 18+ to play with us! Its a game that we all know and love\, so why not bring everyone down for dinner\, and drinks!
URL:https://enjoywhereyouare.today/events/bingo-nights/2026-04-30/
LOCATION:The Jump\, 75770 Gallatin Road\, Gallatin Gateway\, MT\, 59730\, United States
CATEGORIES:Bar Games
ATTACH;FMTTYPE=image/png:https://enjoywhereyouare.today/wp-content/uploads/2024/09/Bingo-Nights-Big-Sky.png
GEO:45.5906017;-111.1965304
X-APPLE-STRUCTURED-LOCATION;VALUE=URI;X-ADDRESS=The Jump 75770 Gallatin Road Gallatin Gateway MT 59730 United States;X-APPLE-RADIUS=500;X-TITLE=75770 Gallatin Road:geo:-111.1965304,45.5906017
END:VEVENT
BEGIN:VEVENT
DTSTART;TZID=America/New_York:20260501T110000
DTEND;TZID=America/New_York:20260501T210000
DTSTAMP:20260424T134041
CREATED:20250912T202655Z
LAST-MODIFIED:20250912T202949Z
UID:10014338-1777633200-1777669200@enjoywhereyouare.today
SUMMARY:Friday Fish Fry
DESCRIPTION:All-you-can-eat Friday Fish Frys!!!
URL:https://enjoywhereyouare.today/events/friday-fish-fry/2026-05-01/
LOCATION:Rico’s Cafe and Pizzeria\, U.S. 31\, Grawn\, MI\, 49637\, United States
CATEGORIES:*Silver Lake-Interlochen-Lake Ann,Daily Specials
ATTACH;FMTTYPE=image/jpeg:https://enjoywhereyouare.today/wp-content/uploads/2025/09/Ricos-Friday-Fish.jpg
GEO:44.665311;-85.6927556
X-APPLE-STRUCTURED-LOCATION;VALUE=URI;X-ADDRESS=Rico’s Cafe and Pizzeria U.S. 31 Grawn MI 49637 United States;X-APPLE-RADIUS=500;X-TITLE=U.S. 31:geo:-85.6927556,44.665311
END:VEVENT
BEGIN:VEVENT
DTSTART;TZID=America/New_York:20260501T140000
DTEND;TZID=America/New_York:20260501T170000
DTSTAMP:20260424T134041
CREATED:20250915T203347Z
LAST-MODIFIED:20250915T203347Z
UID:10014507-1777644000-1777654800@enjoywhereyouare.today
SUMMARY:Happy Hour
DESCRIPTION:Monday-Friday from 2-5pm. Half Off all of your favorite drinks. Includes Pub classics or one of 20 tap beers. ENJOY!!!
URL:https://enjoywhereyouare.today/events/happy-hour-6/2026-05-01/
LOCATION:The Pub\, 160 E Front St\, Traverse City\, MI\, 49684
CATEGORIES:*Downtown TC and Traverse City,Daily Specials
ATTACH;FMTTYPE=image/jpeg:https://enjoywhereyouare.today/wp-content/uploads/2025/09/The-Pub-TC-Happy-Hour.jpg
GEO:44.7638478;-85.6212028
X-APPLE-STRUCTURED-LOCATION;VALUE=URI;X-ADDRESS=The Pub 160 E Front St Traverse City MI 49684;X-APPLE-RADIUS=500;X-TITLE=160 E Front St:geo:-85.6212028,44.7638478
END:VEVENT
BEGIN:VEVENT
DTSTART;TZID=America/New_York:20260501T150000
DTEND;TZID=America/New_York:20260501T170000
DTSTAMP:20260424T134041
CREATED:20250430T222645Z
LAST-MODIFIED:20260107T175918Z
UID:10011651-1777647600-1777654800@enjoywhereyouare.today
SUMMARY:New York Style Happy Hour
DESCRIPTION:🍕 NEW YORK STYLE HAPPY HOUR 🗽\n7 days a week from 3–5 PM! \nThink big flavors\, bold vibes\, and specials that’ll transport you straight to the streets of NYC—right here in Northern Michigan. \n🍷 Food + drink specials\n🍝 Classic Italian favorites\n🍕 Pizza like it’s meant to be \n📍 Check out the full menu and happy hour specials (here) \nGrab your happy hour crew and come get a taste of the city that never sleeps—Italian style!
URL:https://enjoywhereyouare.today/events/happy-hour-5/2026-05-01/
LOCATION:Nittolo’s Little Italy\, Garland Street\, Traverse City\, MI\, 49684\, United States
CATEGORIES:*Downtown TC and Traverse City,Daily Specials
ATTACH;FMTTYPE=image/jpeg:https://enjoywhereyouare.today/wp-content/uploads/2025/04/Nittolos-Happy-Hour-1.jpg
GEO:44.765066;-85.625119
X-APPLE-STRUCTURED-LOCATION;VALUE=URI;X-ADDRESS=Nittolo’s Little Italy Garland Street Traverse City MI 49684 United States;X-APPLE-RADIUS=500;X-TITLE=Garland Street:geo:-85.625119,44.765066
END:VEVENT
BEGIN:VEVENT
DTSTART;TZID=America/New_York:20260501T150000
DTEND;TZID=America/New_York:20260501T180000
DTSTAMP:20260424T134041
CREATED:20260306T170208Z
LAST-MODIFIED:20260306T170208Z
UID:10016080-1777647600-1777658400@enjoywhereyouare.today
SUMMARY:HAPPY HOUR
DESCRIPTION:EVERYDAY 3-6pm \n\nSelect Drafts $3\nWells $4.50\nCalls $6.50\nSelect Wine $7\nSelect Cocktails $7
URL:https://enjoywhereyouare.today/events/happy-hour-8/2026-05-01/
LOCATION:Apache Trout Grill\, South West Bay Shore Drive\, Traverse City\, MI\, 49684\, United States
CATEGORIES:Daily Specials
ATTACH;FMTTYPE=image/png:https://enjoywhereyouare.today/wp-content/uploads/2026/03/Apache-Happy-Hour.png
GEO:44.7801523;-85.6390055
X-APPLE-STRUCTURED-LOCATION;VALUE=URI;X-ADDRESS=Apache Trout Grill South West Bay Shore Drive Traverse City MI 49684 United States;X-APPLE-RADIUS=500;X-TITLE=South West Bay Shore Drive:geo:-85.6390055,44.7801523
END:VEVENT
BEGIN:VEVENT
DTSTART;TZID=America/New_York:20260501T150000
DTEND;TZID=America/New_York:20260501T180000
DTSTAMP:20260424T134041
CREATED:20260306T180002Z
LAST-MODIFIED:20260306T180546Z
UID:10016151-1777647600-1777658400@enjoywhereyouare.today
SUMMARY:HAPPY HOUR
DESCRIPTION:
URL:https://enjoywhereyouare.today/events/happy-hour-9/2026-05-01/
LOCATION:West End Tavern\, South West Bay Shore Drive\, Traverse City\, MI\, 49684\, United States
CATEGORIES:Daily Specials
ATTACH;FMTTYPE=image/jpeg:https://enjoywhereyouare.today/wp-content/uploads/2026/03/West-End-Happy-Hour-1.jpg
GEO:44.7928879;-85.6365013
X-APPLE-STRUCTURED-LOCATION;VALUE=URI;X-ADDRESS=West End Tavern South West Bay Shore Drive Traverse City MI 49684 United States;X-APPLE-RADIUS=500;X-TITLE=South West Bay Shore Drive:geo:-85.6365013,44.7928879
END:VEVENT
BEGIN:VEVENT
DTSTART;TZID=America/New_York:20260502T150000
DTEND;TZID=America/New_York:20260502T170000
DTSTAMP:20260424T134041
CREATED:20250430T222645Z
LAST-MODIFIED:20260107T175918Z
UID:10011652-1777734000-1777741200@enjoywhereyouare.today
SUMMARY:New York Style Happy Hour
DESCRIPTION:🍕 NEW YORK STYLE HAPPY HOUR 🗽\n7 days a week from 3–5 PM! \nThink big flavors\, bold vibes\, and specials that’ll transport you straight to the streets of NYC—right here in Northern Michigan. \n🍷 Food + drink specials\n🍝 Classic Italian favorites\n🍕 Pizza like it’s meant to be \n📍 Check out the full menu and happy hour specials (here) \nGrab your happy hour crew and come get a taste of the city that never sleeps—Italian style!
URL:https://enjoywhereyouare.today/events/happy-hour-5/2026-05-02/
LOCATION:Nittolo’s Little Italy\, Garland Street\, Traverse City\, MI\, 49684\, United States
CATEGORIES:*Downtown TC and Traverse City,Daily Specials
ATTACH;FMTTYPE=image/jpeg:https://enjoywhereyouare.today/wp-content/uploads/2025/04/Nittolos-Happy-Hour-1.jpg
GEO:44.765066;-85.625119
X-APPLE-STRUCTURED-LOCATION;VALUE=URI;X-ADDRESS=Nittolo’s Little Italy Garland Street Traverse City MI 49684 United States;X-APPLE-RADIUS=500;X-TITLE=Garland Street:geo:-85.625119,44.765066
END:VEVENT
BEGIN:VEVENT
DTSTART;TZID=America/New_York:20260502T150000
DTEND;TZID=America/New_York:20260502T180000
DTSTAMP:20260424T134041
CREATED:20260306T170208Z
LAST-MODIFIED:20260306T170208Z
UID:10016081-1777734000-1777744800@enjoywhereyouare.today
SUMMARY:HAPPY HOUR
DESCRIPTION:EVERYDAY 3-6pm \n\nSelect Drafts $3\nWells $4.50\nCalls $6.50\nSelect Wine $7\nSelect Cocktails $7
URL:https://enjoywhereyouare.today/events/happy-hour-8/2026-05-02/
LOCATION:Apache Trout Grill\, South West Bay Shore Drive\, Traverse City\, MI\, 49684\, United States
CATEGORIES:Daily Specials
ATTACH;FMTTYPE=image/png:https://enjoywhereyouare.today/wp-content/uploads/2026/03/Apache-Happy-Hour.png
GEO:44.7801523;-85.6390055
X-APPLE-STRUCTURED-LOCATION;VALUE=URI;X-ADDRESS=Apache Trout Grill South West Bay Shore Drive Traverse City MI 49684 United States;X-APPLE-RADIUS=500;X-TITLE=South West Bay Shore Drive:geo:-85.6390055,44.7801523
END:VEVENT
BEGIN:VEVENT
DTSTART;TZID=America/New_York:20260503T150000
DTEND;TZID=America/New_York:20260503T170000
DTSTAMP:20260424T134041
CREATED:20250430T222645Z
LAST-MODIFIED:20260107T175918Z
UID:10011653-1777820400-1777827600@enjoywhereyouare.today
SUMMARY:New York Style Happy Hour
DESCRIPTION:🍕 NEW YORK STYLE HAPPY HOUR 🗽\n7 days a week from 3–5 PM! \nThink big flavors\, bold vibes\, and specials that’ll transport you straight to the streets of NYC—right here in Northern Michigan. \n🍷 Food + drink specials\n🍝 Classic Italian favorites\n🍕 Pizza like it’s meant to be \n📍 Check out the full menu and happy hour specials (here) \nGrab your happy hour crew and come get a taste of the city that never sleeps—Italian style!
URL:https://enjoywhereyouare.today/events/happy-hour-5/2026-05-03/
LOCATION:Nittolo’s Little Italy\, Garland Street\, Traverse City\, MI\, 49684\, United States
CATEGORIES:*Downtown TC and Traverse City,Daily Specials
ATTACH;FMTTYPE=image/jpeg:https://enjoywhereyouare.today/wp-content/uploads/2025/04/Nittolos-Happy-Hour-1.jpg
GEO:44.765066;-85.625119
X-APPLE-STRUCTURED-LOCATION;VALUE=URI;X-ADDRESS=Nittolo’s Little Italy Garland Street Traverse City MI 49684 United States;X-APPLE-RADIUS=500;X-TITLE=Garland Street:geo:-85.625119,44.765066
END:VEVENT
BEGIN:VEVENT
DTSTART;TZID=America/New_York:20260503T150000
DTEND;TZID=America/New_York:20260503T180000
DTSTAMP:20260424T134041
CREATED:20260306T170208Z
LAST-MODIFIED:20260306T170208Z
UID:10016082-1777820400-1777831200@enjoywhereyouare.today
SUMMARY:HAPPY HOUR
DESCRIPTION:EVERYDAY 3-6pm \n\nSelect Drafts $3\nWells $4.50\nCalls $6.50\nSelect Wine $7\nSelect Cocktails $7
URL:https://enjoywhereyouare.today/events/happy-hour-8/2026-05-03/
LOCATION:Apache Trout Grill\, South West Bay Shore Drive\, Traverse City\, MI\, 49684\, United States
CATEGORIES:Daily Specials
ATTACH;FMTTYPE=image/png:https://enjoywhereyouare.today/wp-content/uploads/2026/03/Apache-Happy-Hour.png
GEO:44.7801523;-85.6390055
X-APPLE-STRUCTURED-LOCATION;VALUE=URI;X-ADDRESS=Apache Trout Grill South West Bay Shore Drive Traverse City MI 49684 United States;X-APPLE-RADIUS=500;X-TITLE=South West Bay Shore Drive:geo:-85.6390055,44.7801523
END:VEVENT
BEGIN:VEVENT
DTSTART;TZID=America/New_York:20260504T150000
DTEND;TZID=America/New_York:20260504T170000
DTSTAMP:20260424T134041
CREATED:20250430T222645Z
LAST-MODIFIED:20260107T175918Z
UID:10011654-1777906800-1777914000@enjoywhereyouare.today
SUMMARY:New York Style Happy Hour
DESCRIPTION:🍕 NEW YORK STYLE HAPPY HOUR 🗽\n7 days a week from 3–5 PM! \nThink big flavors\, bold vibes\, and specials that’ll transport you straight to the streets of NYC—right here in Northern Michigan. \n🍷 Food + drink specials\n🍝 Classic Italian favorites\n🍕 Pizza like it’s meant to be \n📍 Check out the full menu and happy hour specials (here) \nGrab your happy hour crew and come get a taste of the city that never sleeps—Italian style!
URL:https://enjoywhereyouare.today/events/happy-hour-5/2026-05-04/
LOCATION:Nittolo’s Little Italy\, Garland Street\, Traverse City\, MI\, 49684\, United States
CATEGORIES:*Downtown TC and Traverse City,Daily Specials
ATTACH;FMTTYPE=image/jpeg:https://enjoywhereyouare.today/wp-content/uploads/2025/04/Nittolos-Happy-Hour-1.jpg
GEO:44.765066;-85.625119
X-APPLE-STRUCTURED-LOCATION;VALUE=URI;X-ADDRESS=Nittolo’s Little Italy Garland Street Traverse City MI 49684 United States;X-APPLE-RADIUS=500;X-TITLE=Garland Street:geo:-85.625119,44.765066
END:VEVENT
BEGIN:VEVENT
DTSTART;TZID=America/New_York:20260504T150000
DTEND;TZID=America/New_York:20260504T180000
DTSTAMP:20260424T134041
CREATED:20260306T170208Z
LAST-MODIFIED:20260306T170208Z
UID:10016083-1777906800-1777917600@enjoywhereyouare.today
SUMMARY:HAPPY HOUR
DESCRIPTION:EVERYDAY 3-6pm \n\nSelect Drafts $3\nWells $4.50\nCalls $6.50\nSelect Wine $7\nSelect Cocktails $7
URL:https://enjoywhereyouare.today/events/happy-hour-8/2026-05-04/
LOCATION:Apache Trout Grill\, South West Bay Shore Drive\, Traverse City\, MI\, 49684\, United States
CATEGORIES:Daily Specials
ATTACH;FMTTYPE=image/png:https://enjoywhereyouare.today/wp-content/uploads/2026/03/Apache-Happy-Hour.png
GEO:44.7801523;-85.6390055
X-APPLE-STRUCTURED-LOCATION;VALUE=URI;X-ADDRESS=Apache Trout Grill South West Bay Shore Drive Traverse City MI 49684 United States;X-APPLE-RADIUS=500;X-TITLE=South West Bay Shore Drive:geo:-85.6390055,44.7801523
END:VEVENT
BEGIN:VEVENT
DTSTART;TZID=America/New_York:20260504T150000
DTEND;TZID=America/New_York:20260504T180000
DTSTAMP:20260424T134041
CREATED:20260306T180002Z
LAST-MODIFIED:20260306T180546Z
UID:10016152-1777906800-1777917600@enjoywhereyouare.today
SUMMARY:HAPPY HOUR
DESCRIPTION:
URL:https://enjoywhereyouare.today/events/happy-hour-9/2026-05-04/
LOCATION:West End Tavern\, South West Bay Shore Drive\, Traverse City\, MI\, 49684\, United States
CATEGORIES:Daily Specials
ATTACH;FMTTYPE=image/jpeg:https://enjoywhereyouare.today/wp-content/uploads/2026/03/West-End-Happy-Hour-1.jpg
GEO:44.7928879;-85.6365013
X-APPLE-STRUCTURED-LOCATION;VALUE=URI;X-ADDRESS=West End Tavern South West Bay Shore Drive Traverse City MI 49684 United States;X-APPLE-RADIUS=500;X-TITLE=South West Bay Shore Drive:geo:-85.6365013,44.7928879
END:VEVENT
BEGIN:VEVENT
DTSTART;TZID=America/New_York:20260504T160000
DTEND;TZID=America/New_York:20260504T180000
DTSTAMP:20260424T134041
CREATED:20251126T131435Z
LAST-MODIFIED:20260126T224503Z
UID:10015066-1777910400-1777917600@enjoywhereyouare.today
SUMMARY:Happy Hour
DESCRIPTION:$4 Canned Cocktails \n1/2 Off Classic Cocktails & Spirit + Mixers
URL:https://enjoywhereyouare.today/events/happy-hour-7/2026-05-04/
LOCATION:Gypsy Spirits\, West Front Street\, Traverse City\, MI\, 49684\, United States
CATEGORIES:*Downtown TC and Traverse City,Daily Specials
ATTACH;FMTTYPE=image/jpeg:https://enjoywhereyouare.today/wp-content/uploads/2025/11/Gypsy-Spirits.jpg
GEO:44.7635954;-85.6270257
X-APPLE-STRUCTURED-LOCATION;VALUE=URI;X-ADDRESS=Gypsy Spirits West Front Street Traverse City MI 49684 United States;X-APPLE-RADIUS=500;X-TITLE=West Front Street:geo:-85.6270257,44.7635954
END:VEVENT
BEGIN:VEVENT
DTSTART;TZID=America/New_York:20260504T160000
DTEND;TZID=America/New_York:20260504T220000
DTSTAMP:20260424T134041
CREATED:20260126T224043Z
LAST-MODIFIED:20260128T182139Z
UID:10015732-1777910400-1777932000@enjoywhereyouare.today
SUMMARY:MENS NIGHT
DESCRIPTION:1/2 OFF All Drinks!
URL:https://enjoywhereyouare.today/events/mens-night-2/2026-05-04/
LOCATION:Gypsy Spirits\, West Front Street\, Traverse City\, MI\, 49684\, United States
CATEGORIES:*Downtown TC and Traverse City,Daily Specials
ATTACH;FMTTYPE=image/png:https://enjoywhereyouare.today/wp-content/uploads/2026/01/Gypsy-Mens-Night-2.png
GEO:44.7635954;-85.6270257
X-APPLE-STRUCTURED-LOCATION;VALUE=URI;X-ADDRESS=Gypsy Spirits West Front Street Traverse City MI 49684 United States;X-APPLE-RADIUS=500;X-TITLE=West Front Street:geo:-85.6270257,44.7635954
END:VEVENT
BEGIN:VEVENT
DTSTART;VALUE=DATE:20260505
DTEND;VALUE=DATE:20260506
DTSTAMP:20260424T134041
CREATED:20250818T141252Z
LAST-MODIFIED:20250818T141502Z
UID:10014237-1777939200-1778025599@enjoywhereyouare.today
SUMMARY:Tuesday Special
DESCRIPTION:Every Tuesday! Load up your account with races. Use them anytime.
URL:https://enjoywhereyouare.today/events/tuesday-special/2026-05-05/
LOCATION:K1 Speed\, West South Airport Road\, Traverse City\, MI\, 49686\, United States
CATEGORIES:Daily Specials
ATTACH;FMTTYPE=image/jpeg:https://enjoywhereyouare.today/wp-content/uploads/2025/08/K1-Speed-Tues-Special.jpg
GEO:44.7349488;-85.5993179
X-APPLE-STRUCTURED-LOCATION;VALUE=URI;X-ADDRESS=K1 Speed West South Airport Road Traverse City MI 49686 United States;X-APPLE-RADIUS=500;X-TITLE=West South Airport Road:geo:-85.5993179,44.7349488
END:VEVENT
BEGIN:VEVENT
DTSTART;TZID=America/New_York:20260505T150000
DTEND;TZID=America/New_York:20260505T170000
DTSTAMP:20260424T134041
CREATED:20250430T222645Z
LAST-MODIFIED:20260107T175918Z
UID:10011655-1777993200-1778000400@enjoywhereyouare.today
SUMMARY:New York Style Happy Hour
DESCRIPTION:🍕 NEW YORK STYLE HAPPY HOUR 🗽\n7 days a week from 3–5 PM! \nThink big flavors\, bold vibes\, and specials that’ll transport you straight to the streets of NYC—right here in Northern Michigan. \n🍷 Food + drink specials\n🍝 Classic Italian favorites\n🍕 Pizza like it’s meant to be \n📍 Check out the full menu and happy hour specials (here) \nGrab your happy hour crew and come get a taste of the city that never sleeps—Italian style!
URL:https://enjoywhereyouare.today/events/happy-hour-5/2026-05-05/
LOCATION:Nittolo’s Little Italy\, Garland Street\, Traverse City\, MI\, 49684\, United States
CATEGORIES:*Downtown TC and Traverse City,Daily Specials
ATTACH;FMTTYPE=image/jpeg:https://enjoywhereyouare.today/wp-content/uploads/2025/04/Nittolos-Happy-Hour-1.jpg
GEO:44.765066;-85.625119
X-APPLE-STRUCTURED-LOCATION;VALUE=URI;X-ADDRESS=Nittolo’s Little Italy Garland Street Traverse City MI 49684 United States;X-APPLE-RADIUS=500;X-TITLE=Garland Street:geo:-85.625119,44.765066
END:VEVENT
BEGIN:VEVENT
DTSTART;TZID=America/New_York:20260505T150000
DTEND;TZID=America/New_York:20260505T180000
DTSTAMP:20260424T134041
CREATED:20260306T170208Z
LAST-MODIFIED:20260306T170208Z
UID:10016084-1777993200-1778004000@enjoywhereyouare.today
SUMMARY:HAPPY HOUR
DESCRIPTION:EVERYDAY 3-6pm \n\nSelect Drafts $3\nWells $4.50\nCalls $6.50\nSelect Wine $7\nSelect Cocktails $7
URL:https://enjoywhereyouare.today/events/happy-hour-8/2026-05-05/
LOCATION:Apache Trout Grill\, South West Bay Shore Drive\, Traverse City\, MI\, 49684\, United States
CATEGORIES:Daily Specials
ATTACH;FMTTYPE=image/png:https://enjoywhereyouare.today/wp-content/uploads/2026/03/Apache-Happy-Hour.png
GEO:44.7801523;-85.6390055
X-APPLE-STRUCTURED-LOCATION;VALUE=URI;X-ADDRESS=Apache Trout Grill South West Bay Shore Drive Traverse City MI 49684 United States;X-APPLE-RADIUS=500;X-TITLE=South West Bay Shore Drive:geo:-85.6390055,44.7801523
END:VEVENT
BEGIN:VEVENT
DTSTART;TZID=America/New_York:20260505T150000
DTEND;TZID=America/New_York:20260505T180000
DTSTAMP:20260424T134041
CREATED:20260306T180002Z
LAST-MODIFIED:20260306T180546Z
UID:10016153-1777993200-1778004000@enjoywhereyouare.today
SUMMARY:HAPPY HOUR
DESCRIPTION:
URL:https://enjoywhereyouare.today/events/happy-hour-9/2026-05-05/
LOCATION:West End Tavern\, South West Bay Shore Drive\, Traverse City\, MI\, 49684\, United States
CATEGORIES:Daily Specials
ATTACH;FMTTYPE=image/jpeg:https://enjoywhereyouare.today/wp-content/uploads/2026/03/West-End-Happy-Hour-1.jpg
GEO:44.7928879;-85.6365013
X-APPLE-STRUCTURED-LOCATION;VALUE=URI;X-ADDRESS=West End Tavern South West Bay Shore Drive Traverse City MI 49684 United States;X-APPLE-RADIUS=500;X-TITLE=South West Bay Shore Drive:geo:-85.6365013,44.7928879
END:VEVENT
BEGIN:VEVENT
DTSTART;TZID=America/New_York:20260505T150000
DTEND;TZID=America/New_York:20260505T200000
DTSTAMP:20260424T134041
CREATED:20260108T175113Z
LAST-MODIFIED:20260108T180622Z
UID:10015674-1777993200-1778011200@enjoywhereyouare.today
SUMMARY:TWO TUESDAYS
DESCRIPTION:2 Pizzas for the price of 1! \nEvery Tuesday – Buy 1 Pizza\, Get 1 Free! \nDine-in\, Take-out\, & DoorDash! \nCall (231) 786-0555 to place order! ENJOY!!!
URL:https://enjoywhereyouare.today/events/two-tuesdays/2026-05-05/
LOCATION:Nittolo’s Little Italy\, Garland Street\, Traverse City\, MI\, 49684\, United States
CATEGORIES:*Downtown TC and Traverse City,Daily Specials
ATTACH;FMTTYPE=image/jpeg:https://enjoywhereyouare.today/wp-content/uploads/2026/01/Nittolos-2-for-Tues-1-e1767894420421.jpg
GEO:44.765066;-85.625119
X-APPLE-STRUCTURED-LOCATION;VALUE=URI;X-ADDRESS=Nittolo’s Little Italy Garland Street Traverse City MI 49684 United States;X-APPLE-RADIUS=500;X-TITLE=Garland Street:geo:-85.625119,44.765066
END:VEVENT
BEGIN:VEVENT
DTSTART;TZID=America/New_York:20260505T160000
DTEND;TZID=America/New_York:20260505T180000
DTSTAMP:20260424T134041
CREATED:20251126T131435Z
LAST-MODIFIED:20260126T224503Z
UID:10015067-1777996800-1778004000@enjoywhereyouare.today
SUMMARY:Happy Hour
DESCRIPTION:$4 Canned Cocktails \n1/2 Off Classic Cocktails & Spirit + Mixers
URL:https://enjoywhereyouare.today/events/happy-hour-7/2026-05-05/
LOCATION:Gypsy Spirits\, West Front Street\, Traverse City\, MI\, 49684\, United States
CATEGORIES:*Downtown TC and Traverse City,Daily Specials
ATTACH;FMTTYPE=image/jpeg:https://enjoywhereyouare.today/wp-content/uploads/2025/11/Gypsy-Spirits.jpg
GEO:44.7635954;-85.6270257
X-APPLE-STRUCTURED-LOCATION;VALUE=URI;X-ADDRESS=Gypsy Spirits West Front Street Traverse City MI 49684 United States;X-APPLE-RADIUS=500;X-TITLE=West Front Street:geo:-85.6270257,44.7635954
END:VEVENT
BEGIN:VEVENT
DTSTART;TZID=America/New_York:20260505T160000
DTEND;TZID=America/New_York:20260505T220000
DTSTAMP:20260424T134041
CREATED:20260129T150516Z
LAST-MODIFIED:20260129T150516Z
UID:10015943-1777996800-1778018400@enjoywhereyouare.today
SUMMARY:TINI TUESDAYS
DESCRIPTION:$7 Dirty and Dry Martinis all night!
URL:https://enjoywhereyouare.today/events/tini-tuesdays/2026-05-05/
LOCATION:Gypsy Spirits\, West Front Street\, Traverse City\, MI\, 49684\, United States
CATEGORIES:Daily Specials
ATTACH;FMTTYPE=image/png:https://enjoywhereyouare.today/wp-content/uploads/2026/01/Gypsy-Tini-Tuesday.png
GEO:44.7635954;-85.6270257
X-APPLE-STRUCTURED-LOCATION;VALUE=URI;X-ADDRESS=Gypsy Spirits West Front Street Traverse City MI 49684 United States;X-APPLE-RADIUS=500;X-TITLE=West Front Street:geo:-85.6270257,44.7635954
END:VEVENT
BEGIN:VEVENT
DTSTART;TZID=America/New_York:20260506T150000
DTEND;TZID=America/New_York:20260506T170000
DTSTAMP:20260424T134041
CREATED:20250430T222645Z
LAST-MODIFIED:20260107T175918Z
UID:10011656-1778079600-1778086800@enjoywhereyouare.today
SUMMARY:New York Style Happy Hour
DESCRIPTION:🍕 NEW YORK STYLE HAPPY HOUR 🗽\n7 days a week from 3–5 PM! \nThink big flavors\, bold vibes\, and specials that’ll transport you straight to the streets of NYC—right here in Northern Michigan. \n🍷 Food + drink specials\n🍝 Classic Italian favorites\n🍕 Pizza like it’s meant to be \n📍 Check out the full menu and happy hour specials (here) \nGrab your happy hour crew and come get a taste of the city that never sleeps—Italian style!
URL:https://enjoywhereyouare.today/events/happy-hour-5/2026-05-06/
LOCATION:Nittolo’s Little Italy\, Garland Street\, Traverse City\, MI\, 49684\, United States
CATEGORIES:*Downtown TC and Traverse City,Daily Specials
ATTACH;FMTTYPE=image/jpeg:https://enjoywhereyouare.today/wp-content/uploads/2025/04/Nittolos-Happy-Hour-1.jpg
GEO:44.765066;-85.625119
X-APPLE-STRUCTURED-LOCATION;VALUE=URI;X-ADDRESS=Nittolo’s Little Italy Garland Street Traverse City MI 49684 United States;X-APPLE-RADIUS=500;X-TITLE=Garland Street:geo:-85.625119,44.765066
END:VEVENT
BEGIN:VEVENT
DTSTART;TZID=America/New_York:20260506T150000
DTEND;TZID=America/New_York:20260506T180000
DTSTAMP:20260424T134041
CREATED:20260306T170208Z
LAST-MODIFIED:20260306T170208Z
UID:10016085-1778079600-1778090400@enjoywhereyouare.today
SUMMARY:HAPPY HOUR
DESCRIPTION:EVERYDAY 3-6pm \n\nSelect Drafts $3\nWells $4.50\nCalls $6.50\nSelect Wine $7\nSelect Cocktails $7
URL:https://enjoywhereyouare.today/events/happy-hour-8/2026-05-06/
LOCATION:Apache Trout Grill\, South West Bay Shore Drive\, Traverse City\, MI\, 49684\, United States
CATEGORIES:Daily Specials
ATTACH;FMTTYPE=image/png:https://enjoywhereyouare.today/wp-content/uploads/2026/03/Apache-Happy-Hour.png
GEO:44.7801523;-85.6390055
X-APPLE-STRUCTURED-LOCATION;VALUE=URI;X-ADDRESS=Apache Trout Grill South West Bay Shore Drive Traverse City MI 49684 United States;X-APPLE-RADIUS=500;X-TITLE=South West Bay Shore Drive:geo:-85.6390055,44.7801523
END:VEVENT
BEGIN:VEVENT
DTSTART;TZID=America/New_York:20260506T150000
DTEND;TZID=America/New_York:20260506T180000
DTSTAMP:20260424T134041
CREATED:20260306T180002Z
LAST-MODIFIED:20260306T180546Z
UID:10016154-1778079600-1778090400@enjoywhereyouare.today
SUMMARY:HAPPY HOUR
DESCRIPTION:
URL:https://enjoywhereyouare.today/events/happy-hour-9/2026-05-06/
LOCATION:West End Tavern\, South West Bay Shore Drive\, Traverse City\, MI\, 49684\, United States
CATEGORIES:Daily Specials
ATTACH;FMTTYPE=image/jpeg:https://enjoywhereyouare.today/wp-content/uploads/2026/03/West-End-Happy-Hour-1.jpg
GEO:44.7928879;-85.6365013
X-APPLE-STRUCTURED-LOCATION;VALUE=URI;X-ADDRESS=West End Tavern South West Bay Shore Drive Traverse City MI 49684 United States;X-APPLE-RADIUS=500;X-TITLE=South West Bay Shore Drive:geo:-85.6365013,44.7928879
END:VEVENT
BEGIN:VEVENT
DTSTART;TZID=America/New_York:20260506T160000
DTEND;TZID=America/New_York:20260506T180000
DTSTAMP:20260424T134041
CREATED:20251126T131435Z
LAST-MODIFIED:20260126T224503Z
UID:10015068-1778083200-1778090400@enjoywhereyouare.today
SUMMARY:Happy Hour
DESCRIPTION:$4 Canned Cocktails \n1/2 Off Classic Cocktails & Spirit + Mixers
URL:https://enjoywhereyouare.today/events/happy-hour-7/2026-05-06/
LOCATION:Gypsy Spirits\, West Front Street\, Traverse City\, MI\, 49684\, United States
CATEGORIES:*Downtown TC and Traverse City,Daily Specials
ATTACH;FMTTYPE=image/jpeg:https://enjoywhereyouare.today/wp-content/uploads/2025/11/Gypsy-Spirits.jpg
GEO:44.7635954;-85.6270257
X-APPLE-STRUCTURED-LOCATION;VALUE=URI;X-ADDRESS=Gypsy Spirits West Front Street Traverse City MI 49684 United States;X-APPLE-RADIUS=500;X-TITLE=West Front Street:geo:-85.6270257,44.7635954
END:VEVENT
BEGIN:VEVENT
DTSTART;TZID=America/New_York:20260506T170000
DTEND;TZID=America/New_York:20260506T210000
DTSTAMP:20260424T134041
CREATED:20260127T195116Z
LAST-MODIFIED:20260129T161720Z
UID:10015960-1778086800-1778101200@enjoywhereyouare.today
SUMMARY:MOVIE NIGHT!
DESCRIPTION:MOVIE WATCH PARTY!\nDouble Feature every Wednesday!\nJanuary 28th\n5pm – Blades of Glory\n7pm – I\, Tonya \nFebruary 4th\n5pm – Mighty Ducks\n7pm – Cool Runnings
URL:https://enjoywhereyouare.today/events/movie-night-2/2026-05-06/
LOCATION:Gypsy Spirits\, West Front Street\, Traverse City\, MI\, 49684\, United States
CATEGORIES:*Downtown TC and Traverse City,Daily Specials
ATTACH;FMTTYPE=image/png:https://enjoywhereyouare.today/wp-content/uploads/2026/01/Gypsy-Watch-Party-2.png
GEO:44.7635954;-85.6270257
X-APPLE-STRUCTURED-LOCATION;VALUE=URI;X-ADDRESS=Gypsy Spirits West Front Street Traverse City MI 49684 United States;X-APPLE-RADIUS=500;X-TITLE=West Front Street:geo:-85.6270257,44.7635954
END:VEVENT
BEGIN:VEVENT
DTSTART;TZID=America/New_York:20260506T170000
DTEND;TZID=America/New_York:20260506T210000
DTSTAMP:20260424T134041
CREATED:20260218T135335Z
LAST-MODIFIED:20260218T135503Z
UID:10016005-1778086800-1778101200@enjoywhereyouare.today
SUMMARY:Burger Night!
DESCRIPTION:Enjoy a burger and a glass of cabernet in the lounge for only $22 on Wednesdays!!!
URL:https://enjoywhereyouare.today/events/burger-night-2/2026-05-06/
LOCATION:Boathouse Restaurant\, 14039 Peninsula Drive\, Traverse City\, MI\, 49686\, United States
CATEGORIES:Daily Specials
ATTACH;FMTTYPE=image/jpeg:https://enjoywhereyouare.today/wp-content/uploads/2024/10/boathouse-buger-night.jpg
GEO:44.8939519;-85.5258963
X-APPLE-STRUCTURED-LOCATION;VALUE=URI;X-ADDRESS=Boathouse Restaurant 14039 Peninsula Drive Traverse City MI 49686 United States;X-APPLE-RADIUS=500;X-TITLE=14039 Peninsula Drive:geo:-85.5258963,44.8939519
END:VEVENT
END:VCALENDAR