BEGIN:VCALENDAR
VERSION:2.0
PRODID:-//Enjoy Where You Are - ECPv6.5.2//NONSGML v1.0//EN
CALSCALE:GREGORIAN
METHOD:PUBLISH
X-WR-CALNAME:Enjoy Where You Are
X-ORIGINAL-URL:https://enjoywhereyouare.today
X-WR-CALDESC:Events for Enjoy Where You Are
REFRESH-INTERVAL;VALUE=DURATION:PT1H
X-Robots-Tag:noindex
X-PUBLISHED-TTL:PT1H
BEGIN:VTIMEZONE
TZID:America/New_York
BEGIN:DAYLIGHT
TZOFFSETFROM:-0500
TZOFFSETTO:-0400
TZNAME:EDT
DTSTART:20240310T070000
END:DAYLIGHT
BEGIN:STANDARD
TZOFFSETFROM:-0400
TZOFFSETTO:-0500
TZNAME:EST
DTSTART:20241103T060000
END:STANDARD
END:VTIMEZONE
BEGIN:VEVENT
DTSTART;TZID=America/New_York:20240904T160000
DTEND;TZID=America/New_York:20240904T190000
DTSTAMP:20260425T092633
CREATED:20221216T192121Z
LAST-MODIFIED:20250609T140234Z
UID:10004574-1725465600-1725476400@enjoywhereyouare.today
SUMMARY:Happy Hour
DESCRIPTION:
URL:https://enjoywhereyouare.today/events/happy-hour-2-2/2024-09-04/
LOCATION:The Parlor
CATEGORIES:Best Bars in TC,Daily Specials
ATTACH;FMTTYPE=image/jpeg:https://enjoywhereyouare.today/wp-content/uploads/2022/12/The-Parlor-Happy-Hour-2.jpg
GEO:44.7601682;-85.6205602
END:VEVENT
BEGIN:VEVENT
DTSTART;TZID=America/New_York:20240903T160000
DTEND;TZID=America/New_York:20240903T233000
DTSTAMP:20260425T092633
CREATED:20230117T165954Z
LAST-MODIFIED:20250609T140450Z
UID:10013807-1725379200-1725406200@enjoywhereyouare.today
SUMMARY:Two for Tuesdays
DESCRIPTION:2 for 1 beers all night!
URL:https://enjoywhereyouare.today/events/two-for-tuesdays/2024-09-03/
LOCATION:The Parlor
CATEGORIES:Best Bars in TC,Daily Specials,The Parlor The Pub North Bar
ATTACH;FMTTYPE=image/jpeg:https://enjoywhereyouare.today/wp-content/uploads/2023/01/The-Parlor-Tuesdays.jpg
GEO:44.7601682;-85.6205602
END:VEVENT
BEGIN:VEVENT
DTSTART;TZID=America/New_York:20240903T160000
DTEND;TZID=America/New_York:20240903T190000
DTSTAMP:20260425T092633
CREATED:20221216T192121Z
LAST-MODIFIED:20250609T140234Z
UID:10004573-1725379200-1725390000@enjoywhereyouare.today
SUMMARY:Happy Hour
DESCRIPTION:
URL:https://enjoywhereyouare.today/events/happy-hour-2-2/2024-09-03/
LOCATION:The Parlor
CATEGORIES:Best Bars in TC,Daily Specials
ATTACH;FMTTYPE=image/jpeg:https://enjoywhereyouare.today/wp-content/uploads/2022/12/The-Parlor-Happy-Hour-2.jpg
GEO:44.7601682;-85.6205602
END:VEVENT
BEGIN:VEVENT
DTSTART;TZID=America/New_York:20240902T160000
DTEND;TZID=America/New_York:20240902T190000
DTSTAMP:20260425T092633
CREATED:20221216T192121Z
LAST-MODIFIED:20250609T140234Z
UID:10004765-1725292800-1725303600@enjoywhereyouare.today
SUMMARY:Happy Hour
DESCRIPTION:
URL:https://enjoywhereyouare.today/events/happy-hour-2-2/2024-09-02/
LOCATION:The Parlor
CATEGORIES:Best Bars in TC,Daily Specials
ATTACH;FMTTYPE=image/jpeg:https://enjoywhereyouare.today/wp-content/uploads/2022/12/The-Parlor-Happy-Hour-2.jpg
GEO:44.7601682;-85.6205602
END:VEVENT
BEGIN:VEVENT
DTSTART;TZID=America/New_York:20240901T160000
DTEND;TZID=America/New_York:20240901T190000
DTSTAMP:20260425T092633
CREATED:20221216T192121Z
LAST-MODIFIED:20250609T140234Z
UID:10004572-1725206400-1725217200@enjoywhereyouare.today
SUMMARY:Happy Hour
DESCRIPTION:
URL:https://enjoywhereyouare.today/events/happy-hour-2-2/2024-09-01/
LOCATION:The Parlor
CATEGORIES:Best Bars in TC,Daily Specials
ATTACH;FMTTYPE=image/jpeg:https://enjoywhereyouare.today/wp-content/uploads/2022/12/The-Parlor-Happy-Hour-2.jpg
GEO:44.7601682;-85.6205602
END:VEVENT
BEGIN:VEVENT
DTSTART;TZID=America/New_York:20240831T160000
DTEND;TZID=America/New_York:20240831T190000
DTSTAMP:20260425T092633
CREATED:20221216T192121Z
LAST-MODIFIED:20250609T140234Z
UID:10004571-1725120000-1725130800@enjoywhereyouare.today
SUMMARY:Happy Hour
DESCRIPTION:
URL:https://enjoywhereyouare.today/events/happy-hour-2-2/2024-08-31/
LOCATION:The Parlor
CATEGORIES:Best Bars in TC,Daily Specials
ATTACH;FMTTYPE=image/jpeg:https://enjoywhereyouare.today/wp-content/uploads/2022/12/The-Parlor-Happy-Hour-2.jpg
GEO:44.7601682;-85.6205602
END:VEVENT
BEGIN:VEVENT
DTSTART;TZID=America/New_York:20240830T160000
DTEND;TZID=America/New_York:20240830T190000
DTSTAMP:20260425T092633
CREATED:20221216T192121Z
LAST-MODIFIED:20250609T140234Z
UID:10004570-1725033600-1725044400@enjoywhereyouare.today
SUMMARY:Happy Hour
DESCRIPTION:
URL:https://enjoywhereyouare.today/events/happy-hour-2-2/2024-08-30/
LOCATION:The Parlor
CATEGORIES:Best Bars in TC,Daily Specials
ATTACH;FMTTYPE=image/jpeg:https://enjoywhereyouare.today/wp-content/uploads/2022/12/The-Parlor-Happy-Hour-2.jpg
GEO:44.7601682;-85.6205602
END:VEVENT
BEGIN:VEVENT
DTSTART;TZID=America/New_York:20240829T160000
DTEND;TZID=America/New_York:20240829T190000
DTSTAMP:20260425T092633
CREATED:20221216T192121Z
LAST-MODIFIED:20250609T140234Z
UID:10004569-1724947200-1724958000@enjoywhereyouare.today
SUMMARY:Happy Hour
DESCRIPTION:
URL:https://enjoywhereyouare.today/events/happy-hour-2-2/2024-08-29/
LOCATION:The Parlor
CATEGORIES:Best Bars in TC,Daily Specials
ATTACH;FMTTYPE=image/jpeg:https://enjoywhereyouare.today/wp-content/uploads/2022/12/The-Parlor-Happy-Hour-2.jpg
GEO:44.7601682;-85.6205602
END:VEVENT
BEGIN:VEVENT
DTSTART;TZID=America/New_York:20240828T160000
DTEND;TZID=America/New_York:20240828T190000
DTSTAMP:20260425T092633
CREATED:20221216T192121Z
LAST-MODIFIED:20250609T140234Z
UID:10004568-1724860800-1724871600@enjoywhereyouare.today
SUMMARY:Happy Hour
DESCRIPTION:
URL:https://enjoywhereyouare.today/events/happy-hour-2-2/2024-08-28/
LOCATION:The Parlor
CATEGORIES:Best Bars in TC,Daily Specials
ATTACH;FMTTYPE=image/jpeg:https://enjoywhereyouare.today/wp-content/uploads/2022/12/The-Parlor-Happy-Hour-2.jpg
GEO:44.7601682;-85.6205602
END:VEVENT
BEGIN:VEVENT
DTSTART;TZID=America/New_York:20240827T160000
DTEND;TZID=America/New_York:20240827T233000
DTSTAMP:20260425T092633
CREATED:20230117T165954Z
LAST-MODIFIED:20250609T140450Z
UID:10013806-1724774400-1724801400@enjoywhereyouare.today
SUMMARY:Two for Tuesdays
DESCRIPTION:2 for 1 beers all night!
URL:https://enjoywhereyouare.today/events/two-for-tuesdays/2024-08-27/
LOCATION:The Parlor
CATEGORIES:Best Bars in TC,Daily Specials,The Parlor The Pub North Bar
ATTACH;FMTTYPE=image/jpeg:https://enjoywhereyouare.today/wp-content/uploads/2023/01/The-Parlor-Tuesdays.jpg
GEO:44.7601682;-85.6205602
END:VEVENT
BEGIN:VEVENT
DTSTART;TZID=America/New_York:20240827T160000
DTEND;TZID=America/New_York:20240827T190000
DTSTAMP:20260425T092633
CREATED:20221216T192121Z
LAST-MODIFIED:20250609T140234Z
UID:10004567-1724774400-1724785200@enjoywhereyouare.today
SUMMARY:Happy Hour
DESCRIPTION:
URL:https://enjoywhereyouare.today/events/happy-hour-2-2/2024-08-27/
LOCATION:The Parlor
CATEGORIES:Best Bars in TC,Daily Specials
ATTACH;FMTTYPE=image/jpeg:https://enjoywhereyouare.today/wp-content/uploads/2022/12/The-Parlor-Happy-Hour-2.jpg
GEO:44.7601682;-85.6205602
END:VEVENT
BEGIN:VEVENT
DTSTART;TZID=America/New_York:20240826T160000
DTEND;TZID=America/New_York:20240826T190000
DTSTAMP:20260425T092633
CREATED:20221216T192121Z
LAST-MODIFIED:20250609T140234Z
UID:10004764-1724688000-1724698800@enjoywhereyouare.today
SUMMARY:Happy Hour
DESCRIPTION:
URL:https://enjoywhereyouare.today/events/happy-hour-2-2/2024-08-26/
LOCATION:The Parlor
CATEGORIES:Best Bars in TC,Daily Specials
ATTACH;FMTTYPE=image/jpeg:https://enjoywhereyouare.today/wp-content/uploads/2022/12/The-Parlor-Happy-Hour-2.jpg
GEO:44.7601682;-85.6205602
END:VEVENT
BEGIN:VEVENT
DTSTART;TZID=America/New_York:20240825T160000
DTEND;TZID=America/New_York:20240825T190000
DTSTAMP:20260425T092633
CREATED:20221216T192121Z
LAST-MODIFIED:20250609T140234Z
UID:10004566-1724601600-1724612400@enjoywhereyouare.today
SUMMARY:Happy Hour
DESCRIPTION:
URL:https://enjoywhereyouare.today/events/happy-hour-2-2/2024-08-25/
LOCATION:The Parlor
CATEGORIES:Best Bars in TC,Daily Specials
ATTACH;FMTTYPE=image/jpeg:https://enjoywhereyouare.today/wp-content/uploads/2022/12/The-Parlor-Happy-Hour-2.jpg
GEO:44.7601682;-85.6205602
END:VEVENT
BEGIN:VEVENT
DTSTART;TZID=America/New_York:20240824T160000
DTEND;TZID=America/New_York:20240824T190000
DTSTAMP:20260425T092633
CREATED:20221216T192121Z
LAST-MODIFIED:20250609T140234Z
UID:10004565-1724515200-1724526000@enjoywhereyouare.today
SUMMARY:Happy Hour
DESCRIPTION:
URL:https://enjoywhereyouare.today/events/happy-hour-2-2/2024-08-24/
LOCATION:The Parlor
CATEGORIES:Best Bars in TC,Daily Specials
ATTACH;FMTTYPE=image/jpeg:https://enjoywhereyouare.today/wp-content/uploads/2022/12/The-Parlor-Happy-Hour-2.jpg
GEO:44.7601682;-85.6205602
END:VEVENT
BEGIN:VEVENT
DTSTART;TZID=America/New_York:20240823T160000
DTEND;TZID=America/New_York:20240823T190000
DTSTAMP:20260425T092633
CREATED:20221216T192121Z
LAST-MODIFIED:20250609T140234Z
UID:10004564-1724428800-1724439600@enjoywhereyouare.today
SUMMARY:Happy Hour
DESCRIPTION:
URL:https://enjoywhereyouare.today/events/happy-hour-2-2/2024-08-23/
LOCATION:The Parlor
CATEGORIES:Best Bars in TC,Daily Specials
ATTACH;FMTTYPE=image/jpeg:https://enjoywhereyouare.today/wp-content/uploads/2022/12/The-Parlor-Happy-Hour-2.jpg
GEO:44.7601682;-85.6205602
END:VEVENT
BEGIN:VEVENT
DTSTART;TZID=America/New_York:20240822T160000
DTEND;TZID=America/New_York:20240822T190000
DTSTAMP:20260425T092633
CREATED:20221216T192121Z
LAST-MODIFIED:20250609T140234Z
UID:10004563-1724342400-1724353200@enjoywhereyouare.today
SUMMARY:Happy Hour
DESCRIPTION:
URL:https://enjoywhereyouare.today/events/happy-hour-2-2/2024-08-22/
LOCATION:The Parlor
CATEGORIES:Best Bars in TC,Daily Specials
ATTACH;FMTTYPE=image/jpeg:https://enjoywhereyouare.today/wp-content/uploads/2022/12/The-Parlor-Happy-Hour-2.jpg
GEO:44.7601682;-85.6205602
END:VEVENT
BEGIN:VEVENT
DTSTART;TZID=America/New_York:20240821T160000
DTEND;TZID=America/New_York:20240821T190000
DTSTAMP:20260425T092633
CREATED:20221216T192121Z
LAST-MODIFIED:20250609T140234Z
UID:10004562-1724256000-1724266800@enjoywhereyouare.today
SUMMARY:Happy Hour
DESCRIPTION:
URL:https://enjoywhereyouare.today/events/happy-hour-2-2/2024-08-21/
LOCATION:The Parlor
CATEGORIES:Best Bars in TC,Daily Specials
ATTACH;FMTTYPE=image/jpeg:https://enjoywhereyouare.today/wp-content/uploads/2022/12/The-Parlor-Happy-Hour-2.jpg
GEO:44.7601682;-85.6205602
END:VEVENT
BEGIN:VEVENT
DTSTART;TZID=America/New_York:20240820T160000
DTEND;TZID=America/New_York:20240820T233000
DTSTAMP:20260425T092633
CREATED:20230117T165954Z
LAST-MODIFIED:20250609T140450Z
UID:10013805-1724169600-1724196600@enjoywhereyouare.today
SUMMARY:Two for Tuesdays
DESCRIPTION:2 for 1 beers all night!
URL:https://enjoywhereyouare.today/events/two-for-tuesdays/2024-08-20/
LOCATION:The Parlor
CATEGORIES:Best Bars in TC,Daily Specials,The Parlor The Pub North Bar
ATTACH;FMTTYPE=image/jpeg:https://enjoywhereyouare.today/wp-content/uploads/2023/01/The-Parlor-Tuesdays.jpg
GEO:44.7601682;-85.6205602
END:VEVENT
BEGIN:VEVENT
DTSTART;TZID=America/New_York:20240820T160000
DTEND;TZID=America/New_York:20240820T190000
DTSTAMP:20260425T092633
CREATED:20221216T192121Z
LAST-MODIFIED:20250609T140234Z
UID:10004561-1724169600-1724180400@enjoywhereyouare.today
SUMMARY:Happy Hour
DESCRIPTION:
URL:https://enjoywhereyouare.today/events/happy-hour-2-2/2024-08-20/
LOCATION:The Parlor
CATEGORIES:Best Bars in TC,Daily Specials
ATTACH;FMTTYPE=image/jpeg:https://enjoywhereyouare.today/wp-content/uploads/2022/12/The-Parlor-Happy-Hour-2.jpg
GEO:44.7601682;-85.6205602
END:VEVENT
BEGIN:VEVENT
DTSTART;TZID=America/New_York:20240819T160000
DTEND;TZID=America/New_York:20240819T190000
DTSTAMP:20260425T092633
CREATED:20221216T192121Z
LAST-MODIFIED:20250609T140234Z
UID:10004763-1724083200-1724094000@enjoywhereyouare.today
SUMMARY:Happy Hour
DESCRIPTION:
URL:https://enjoywhereyouare.today/events/happy-hour-2-2/2024-08-19/
LOCATION:The Parlor
CATEGORIES:Best Bars in TC,Daily Specials
ATTACH;FMTTYPE=image/jpeg:https://enjoywhereyouare.today/wp-content/uploads/2022/12/The-Parlor-Happy-Hour-2.jpg
GEO:44.7601682;-85.6205602
END:VEVENT
BEGIN:VEVENT
DTSTART;TZID=America/New_York:20240818T160000
DTEND;TZID=America/New_York:20240818T190000
DTSTAMP:20260425T092633
CREATED:20221216T192121Z
LAST-MODIFIED:20250609T140234Z
UID:10004560-1723996800-1724007600@enjoywhereyouare.today
SUMMARY:Happy Hour
DESCRIPTION:
URL:https://enjoywhereyouare.today/events/happy-hour-2-2/2024-08-18/
LOCATION:The Parlor
CATEGORIES:Best Bars in TC,Daily Specials
ATTACH;FMTTYPE=image/jpeg:https://enjoywhereyouare.today/wp-content/uploads/2022/12/The-Parlor-Happy-Hour-2.jpg
GEO:44.7601682;-85.6205602
END:VEVENT
BEGIN:VEVENT
DTSTART;TZID=America/New_York:20240817T160000
DTEND;TZID=America/New_York:20240817T190000
DTSTAMP:20260425T092633
CREATED:20221216T192121Z
LAST-MODIFIED:20250609T140234Z
UID:10004559-1723910400-1723921200@enjoywhereyouare.today
SUMMARY:Happy Hour
DESCRIPTION:
URL:https://enjoywhereyouare.today/events/happy-hour-2-2/2024-08-17/
LOCATION:The Parlor
CATEGORIES:Best Bars in TC,Daily Specials
ATTACH;FMTTYPE=image/jpeg:https://enjoywhereyouare.today/wp-content/uploads/2022/12/The-Parlor-Happy-Hour-2.jpg
GEO:44.7601682;-85.6205602
END:VEVENT
BEGIN:VEVENT
DTSTART;TZID=America/New_York:20240816T160000
DTEND;TZID=America/New_York:20240816T190000
DTSTAMP:20260425T092633
CREATED:20221216T192121Z
LAST-MODIFIED:20250609T140234Z
UID:10004558-1723824000-1723834800@enjoywhereyouare.today
SUMMARY:Happy Hour
DESCRIPTION:
URL:https://enjoywhereyouare.today/events/happy-hour-2-2/2024-08-16/
LOCATION:The Parlor
CATEGORIES:Best Bars in TC,Daily Specials
ATTACH;FMTTYPE=image/jpeg:https://enjoywhereyouare.today/wp-content/uploads/2022/12/The-Parlor-Happy-Hour-2.jpg
GEO:44.7601682;-85.6205602
END:VEVENT
BEGIN:VEVENT
DTSTART;TZID=America/New_York:20240815T160000
DTEND;TZID=America/New_York:20240815T190000
DTSTAMP:20260425T092633
CREATED:20221216T192121Z
LAST-MODIFIED:20250609T140234Z
UID:10004557-1723737600-1723748400@enjoywhereyouare.today
SUMMARY:Happy Hour
DESCRIPTION:
URL:https://enjoywhereyouare.today/events/happy-hour-2-2/2024-08-15/
LOCATION:The Parlor
CATEGORIES:Best Bars in TC,Daily Specials
ATTACH;FMTTYPE=image/jpeg:https://enjoywhereyouare.today/wp-content/uploads/2022/12/The-Parlor-Happy-Hour-2.jpg
GEO:44.7601682;-85.6205602
END:VEVENT
BEGIN:VEVENT
DTSTART;TZID=America/New_York:20240814T160000
DTEND;TZID=America/New_York:20240814T190000
DTSTAMP:20260425T092633
CREATED:20221216T192121Z
LAST-MODIFIED:20250609T140234Z
UID:10004556-1723651200-1723662000@enjoywhereyouare.today
SUMMARY:Happy Hour
DESCRIPTION:
URL:https://enjoywhereyouare.today/events/happy-hour-2-2/2024-08-14/
LOCATION:The Parlor
CATEGORIES:Best Bars in TC,Daily Specials
ATTACH;FMTTYPE=image/jpeg:https://enjoywhereyouare.today/wp-content/uploads/2022/12/The-Parlor-Happy-Hour-2.jpg
GEO:44.7601682;-85.6205602
END:VEVENT
BEGIN:VEVENT
DTSTART;TZID=America/New_York:20240813T160000
DTEND;TZID=America/New_York:20240813T233000
DTSTAMP:20260425T092633
CREATED:20230117T165954Z
LAST-MODIFIED:20250609T140450Z
UID:10013804-1723564800-1723591800@enjoywhereyouare.today
SUMMARY:Two for Tuesdays
DESCRIPTION:2 for 1 beers all night!
URL:https://enjoywhereyouare.today/events/two-for-tuesdays/2024-08-13/
LOCATION:The Parlor
CATEGORIES:Best Bars in TC,Daily Specials,The Parlor The Pub North Bar
ATTACH;FMTTYPE=image/jpeg:https://enjoywhereyouare.today/wp-content/uploads/2023/01/The-Parlor-Tuesdays.jpg
GEO:44.7601682;-85.6205602
END:VEVENT
BEGIN:VEVENT
DTSTART;TZID=America/New_York:20240813T160000
DTEND;TZID=America/New_York:20240813T190000
DTSTAMP:20260425T092633
CREATED:20221216T192121Z
LAST-MODIFIED:20250609T140234Z
UID:10004555-1723564800-1723575600@enjoywhereyouare.today
SUMMARY:Happy Hour
DESCRIPTION:
URL:https://enjoywhereyouare.today/events/happy-hour-2-2/2024-08-13/
LOCATION:The Parlor
CATEGORIES:Best Bars in TC,Daily Specials
ATTACH;FMTTYPE=image/jpeg:https://enjoywhereyouare.today/wp-content/uploads/2022/12/The-Parlor-Happy-Hour-2.jpg
GEO:44.7601682;-85.6205602
END:VEVENT
BEGIN:VEVENT
DTSTART;TZID=America/New_York:20240812T160000
DTEND;TZID=America/New_York:20240812T190000
DTSTAMP:20260425T092633
CREATED:20221216T192121Z
LAST-MODIFIED:20250609T140234Z
UID:10004762-1723478400-1723489200@enjoywhereyouare.today
SUMMARY:Happy Hour
DESCRIPTION:
URL:https://enjoywhereyouare.today/events/happy-hour-2-2/2024-08-12/
LOCATION:The Parlor
CATEGORIES:Best Bars in TC,Daily Specials
ATTACH;FMTTYPE=image/jpeg:https://enjoywhereyouare.today/wp-content/uploads/2022/12/The-Parlor-Happy-Hour-2.jpg
GEO:44.7601682;-85.6205602
END:VEVENT
BEGIN:VEVENT
DTSTART;TZID=America/New_York:20240811T160000
DTEND;TZID=America/New_York:20240811T190000
DTSTAMP:20260425T092633
CREATED:20221216T192121Z
LAST-MODIFIED:20250609T140234Z
UID:10004554-1723392000-1723402800@enjoywhereyouare.today
SUMMARY:Happy Hour
DESCRIPTION:
URL:https://enjoywhereyouare.today/events/happy-hour-2-2/2024-08-11/
LOCATION:The Parlor
CATEGORIES:Best Bars in TC,Daily Specials
ATTACH;FMTTYPE=image/jpeg:https://enjoywhereyouare.today/wp-content/uploads/2022/12/The-Parlor-Happy-Hour-2.jpg
GEO:44.7601682;-85.6205602
END:VEVENT
BEGIN:VEVENT
DTSTART;TZID=America/New_York:20240810T160000
DTEND;TZID=America/New_York:20240810T190000
DTSTAMP:20260425T092633
CREATED:20221216T192121Z
LAST-MODIFIED:20250609T140234Z
UID:10004553-1723305600-1723316400@enjoywhereyouare.today
SUMMARY:Happy Hour
DESCRIPTION:
URL:https://enjoywhereyouare.today/events/happy-hour-2-2/2024-08-10/
LOCATION:The Parlor
CATEGORIES:Best Bars in TC,Daily Specials
ATTACH;FMTTYPE=image/jpeg:https://enjoywhereyouare.today/wp-content/uploads/2022/12/The-Parlor-Happy-Hour-2.jpg
GEO:44.7601682;-85.6205602
END:VEVENT
END:VCALENDAR