BEGIN:VCALENDAR
VERSION:2.0
PRODID:-//Enjoy Where You Are - ECPv6.5.2//NONSGML v1.0//EN
CALSCALE:GREGORIAN
METHOD:PUBLISH
X-WR-CALNAME:Enjoy Where You Are
X-ORIGINAL-URL:https://enjoywhereyouare.today
X-WR-CALDESC:Events for Enjoy Where You Are
REFRESH-INTERVAL;VALUE=DURATION:PT1H
X-Robots-Tag:noindex
X-PUBLISHED-TTL:PT1H
BEGIN:VTIMEZONE
TZID:America/New_York
BEGIN:DAYLIGHT
TZOFFSETFROM:-0500
TZOFFSETTO:-0400
TZNAME:EDT
DTSTART:20240310T070000
END:DAYLIGHT
BEGIN:STANDARD
TZOFFSETFROM:-0400
TZOFFSETTO:-0500
TZNAME:EST
DTSTART:20241103T060000
END:STANDARD
END:VTIMEZONE
BEGIN:VEVENT
DTSTART;TZID=America/New_York:20241101T160000
DTEND;TZID=America/New_York:20241101T190000
DTSTAMP:20260422T182901
CREATED:20221216T192121Z
LAST-MODIFIED:20250609T140234Z
UID:10004624-1730476800-1730487600@enjoywhereyouare.today
SUMMARY:Happy Hour
DESCRIPTION:
URL:https://enjoywhereyouare.today/events/happy-hour-2-2/2024-11-01/
LOCATION:The Parlor
CATEGORIES:Best Bars in TC,Daily Specials
ATTACH;FMTTYPE=image/jpeg:https://enjoywhereyouare.today/wp-content/uploads/2022/12/The-Parlor-Happy-Hour-2.jpg
GEO:44.7601682;-85.6205602
END:VEVENT
BEGIN:VEVENT
DTSTART;TZID=America/New_York:20241031T160000
DTEND;TZID=America/New_York:20241031T190000
DTSTAMP:20260422T182901
CREATED:20221216T192121Z
LAST-MODIFIED:20250609T140234Z
UID:10004623-1730390400-1730401200@enjoywhereyouare.today
SUMMARY:Happy Hour
DESCRIPTION:
URL:https://enjoywhereyouare.today/events/happy-hour-2-2/2024-10-31/
LOCATION:The Parlor
CATEGORIES:Best Bars in TC,Daily Specials
ATTACH;FMTTYPE=image/jpeg:https://enjoywhereyouare.today/wp-content/uploads/2022/12/The-Parlor-Happy-Hour-2.jpg
GEO:44.7601682;-85.6205602
END:VEVENT
BEGIN:VEVENT
DTSTART;TZID=America/New_York:20241030T200000
DTEND;TZID=America/New_York:20241030T230000
DTSTAMP:20260422T182901
CREATED:20240917T101926Z
LAST-MODIFIED:20240917T101926Z
UID:10007328-1730318400-1730329200@enjoywhereyouare.today
SUMMARY:Wink Solo
DESCRIPTION:Wine Wednesday With Wink! 50% off bottles of wine!
URL:https://enjoywhereyouare.today/events/wink-solo/2024-10-30/
LOCATION:The Parlor
CATEGORIES:*Downtown TC and Traverse City,Best Bars in TC,Music
ATTACH;FMTTYPE=image/jpeg:https://enjoywhereyouare.today/wp-content/uploads/2024/09/Wink-Solo.jpg
GEO:44.7601682;-85.6205602
END:VEVENT
BEGIN:VEVENT
DTSTART;TZID=America/New_York:20241030T190000
DTEND;TZID=America/New_York:20241030T220000
DTSTAMP:20260422T182901
CREATED:20240917T140016Z
LAST-MODIFIED:20240917T140323Z
UID:10007518-1730314800-1730325600@enjoywhereyouare.today
SUMMARY:Jesse Jefferson
DESCRIPTION:
URL:https://enjoywhereyouare.today/events/jesse-jefferson-north-bar-tc/2024-10-30/
LOCATION:North Bar TC\, 160 E. Front St.\, Traverse City\, MI
CATEGORIES:*Downtown TC and Traverse City,Best Bars in TC,Music,Traverse City
ATTACH;FMTTYPE=image/jpeg:https://enjoywhereyouare.today/wp-content/uploads/2024/09/Jesse-Jefferson-North-Bar-TC.jpg
GEO:44.7638478;-85.6212028
X-APPLE-STRUCTURED-LOCATION;VALUE=URI;X-ADDRESS=North Bar TC 160 E. Front St. Traverse City MI;X-APPLE-RADIUS=500;X-TITLE=160 E. Front St.:geo:-85.6212028,44.7638478
END:VEVENT
BEGIN:VEVENT
DTSTART;TZID=America/New_York:20241030T160000
DTEND;TZID=America/New_York:20241030T190000
DTSTAMP:20260422T182901
CREATED:20221216T192121Z
LAST-MODIFIED:20250609T140234Z
UID:10004622-1730304000-1730314800@enjoywhereyouare.today
SUMMARY:Happy Hour
DESCRIPTION:
URL:https://enjoywhereyouare.today/events/happy-hour-2-2/2024-10-30/
LOCATION:The Parlor
CATEGORIES:Best Bars in TC,Daily Specials
ATTACH;FMTTYPE=image/jpeg:https://enjoywhereyouare.today/wp-content/uploads/2022/12/The-Parlor-Happy-Hour-2.jpg
GEO:44.7601682;-85.6205602
END:VEVENT
BEGIN:VEVENT
DTSTART;TZID=America/New_York:20241029T160000
DTEND;TZID=America/New_York:20241029T233000
DTSTAMP:20260422T182902
CREATED:20230117T165954Z
LAST-MODIFIED:20250609T140450Z
UID:10013815-1730217600-1730244600@enjoywhereyouare.today
SUMMARY:Two for Tuesdays
DESCRIPTION:2 for 1 beers all night!
URL:https://enjoywhereyouare.today/events/two-for-tuesdays/2024-10-29/
LOCATION:The Parlor
CATEGORIES:Best Bars in TC,Daily Specials,The Parlor The Pub North Bar
ATTACH;FMTTYPE=image/jpeg:https://enjoywhereyouare.today/wp-content/uploads/2023/01/The-Parlor-Tuesdays.jpg
GEO:44.7601682;-85.6205602
END:VEVENT
BEGIN:VEVENT
DTSTART;TZID=America/New_York:20241029T160000
DTEND;TZID=America/New_York:20241029T190000
DTSTAMP:20260422T182902
CREATED:20221216T192121Z
LAST-MODIFIED:20250609T140234Z
UID:10004621-1730217600-1730228400@enjoywhereyouare.today
SUMMARY:Happy Hour
DESCRIPTION:
URL:https://enjoywhereyouare.today/events/happy-hour-2-2/2024-10-29/
LOCATION:The Parlor
CATEGORIES:Best Bars in TC,Daily Specials
ATTACH;FMTTYPE=image/jpeg:https://enjoywhereyouare.today/wp-content/uploads/2022/12/The-Parlor-Happy-Hour-2.jpg
GEO:44.7601682;-85.6205602
END:VEVENT
BEGIN:VEVENT
DTSTART;TZID=America/New_York:20241028T160000
DTEND;TZID=America/New_York:20241028T190000
DTSTAMP:20260422T182902
CREATED:20221216T192121Z
LAST-MODIFIED:20250609T140234Z
UID:10004773-1730131200-1730142000@enjoywhereyouare.today
SUMMARY:Happy Hour
DESCRIPTION:
URL:https://enjoywhereyouare.today/events/happy-hour-2-2/2024-10-28/
LOCATION:The Parlor
CATEGORIES:Best Bars in TC,Daily Specials
ATTACH;FMTTYPE=image/jpeg:https://enjoywhereyouare.today/wp-content/uploads/2022/12/The-Parlor-Happy-Hour-2.jpg
GEO:44.7601682;-85.6205602
END:VEVENT
BEGIN:VEVENT
DTSTART;TZID=America/New_York:20241027T160000
DTEND;TZID=America/New_York:20241027T190000
DTSTAMP:20260422T182902
CREATED:20221216T192121Z
LAST-MODIFIED:20250609T140234Z
UID:10004620-1730044800-1730055600@enjoywhereyouare.today
SUMMARY:Happy Hour
DESCRIPTION:
URL:https://enjoywhereyouare.today/events/happy-hour-2-2/2024-10-27/
LOCATION:The Parlor
CATEGORIES:Best Bars in TC,Daily Specials
ATTACH;FMTTYPE=image/jpeg:https://enjoywhereyouare.today/wp-content/uploads/2022/12/The-Parlor-Happy-Hour-2.jpg
GEO:44.7601682;-85.6205602
END:VEVENT
BEGIN:VEVENT
DTSTART;TZID=America/New_York:20241026T160000
DTEND;TZID=America/New_York:20241026T190000
DTSTAMP:20260422T182902
CREATED:20221216T192121Z
LAST-MODIFIED:20250609T140234Z
UID:10004619-1729958400-1729969200@enjoywhereyouare.today
SUMMARY:Happy Hour
DESCRIPTION:
URL:https://enjoywhereyouare.today/events/happy-hour-2-2/2024-10-26/
LOCATION:The Parlor
CATEGORIES:Best Bars in TC,Daily Specials
ATTACH;FMTTYPE=image/jpeg:https://enjoywhereyouare.today/wp-content/uploads/2022/12/The-Parlor-Happy-Hour-2.jpg
GEO:44.7601682;-85.6205602
END:VEVENT
BEGIN:VEVENT
DTSTART;TZID=America/New_York:20241025T160000
DTEND;TZID=America/New_York:20241025T190000
DTSTAMP:20260422T182902
CREATED:20221216T192121Z
LAST-MODIFIED:20250609T140234Z
UID:10004618-1729872000-1729882800@enjoywhereyouare.today
SUMMARY:Happy Hour
DESCRIPTION:
URL:https://enjoywhereyouare.today/events/happy-hour-2-2/2024-10-25/
LOCATION:The Parlor
CATEGORIES:Best Bars in TC,Daily Specials
ATTACH;FMTTYPE=image/jpeg:https://enjoywhereyouare.today/wp-content/uploads/2022/12/The-Parlor-Happy-Hour-2.jpg
GEO:44.7601682;-85.6205602
END:VEVENT
BEGIN:VEVENT
DTSTART;TZID=America/New_York:20241024T160000
DTEND;TZID=America/New_York:20241024T190000
DTSTAMP:20260422T182902
CREATED:20221216T192121Z
LAST-MODIFIED:20250609T140234Z
UID:10004617-1729785600-1729796400@enjoywhereyouare.today
SUMMARY:Happy Hour
DESCRIPTION:
URL:https://enjoywhereyouare.today/events/happy-hour-2-2/2024-10-24/
LOCATION:The Parlor
CATEGORIES:Best Bars in TC,Daily Specials
ATTACH;FMTTYPE=image/jpeg:https://enjoywhereyouare.today/wp-content/uploads/2022/12/The-Parlor-Happy-Hour-2.jpg
GEO:44.7601682;-85.6205602
END:VEVENT
BEGIN:VEVENT
DTSTART;TZID=America/New_York:20241023T200000
DTEND;TZID=America/New_York:20241023T230000
DTSTAMP:20260422T182902
CREATED:20240917T101926Z
LAST-MODIFIED:20240917T101926Z
UID:10007327-1729713600-1729724400@enjoywhereyouare.today
SUMMARY:Wink Solo
DESCRIPTION:Wine Wednesday With Wink! 50% off bottles of wine!
URL:https://enjoywhereyouare.today/events/wink-solo/2024-10-23/
LOCATION:The Parlor
CATEGORIES:*Downtown TC and Traverse City,Best Bars in TC,Music
ATTACH;FMTTYPE=image/jpeg:https://enjoywhereyouare.today/wp-content/uploads/2024/09/Wink-Solo.jpg
GEO:44.7601682;-85.6205602
END:VEVENT
BEGIN:VEVENT
DTSTART;TZID=America/New_York:20241023T190000
DTEND;TZID=America/New_York:20241023T220000
DTSTAMP:20260422T182902
CREATED:20240917T140016Z
LAST-MODIFIED:20240917T140323Z
UID:10007517-1729710000-1729720800@enjoywhereyouare.today
SUMMARY:Jesse Jefferson
DESCRIPTION:
URL:https://enjoywhereyouare.today/events/jesse-jefferson-north-bar-tc/2024-10-23/
LOCATION:North Bar TC\, 160 E. Front St.\, Traverse City\, MI
CATEGORIES:*Downtown TC and Traverse City,Best Bars in TC,Music,Traverse City
ATTACH;FMTTYPE=image/jpeg:https://enjoywhereyouare.today/wp-content/uploads/2024/09/Jesse-Jefferson-North-Bar-TC.jpg
GEO:44.7638478;-85.6212028
X-APPLE-STRUCTURED-LOCATION;VALUE=URI;X-ADDRESS=North Bar TC 160 E. Front St. Traverse City MI;X-APPLE-RADIUS=500;X-TITLE=160 E. Front St.:geo:-85.6212028,44.7638478
END:VEVENT
BEGIN:VEVENT
DTSTART;TZID=America/New_York:20241023T160000
DTEND;TZID=America/New_York:20241023T190000
DTSTAMP:20260422T182902
CREATED:20221216T192121Z
LAST-MODIFIED:20250609T140234Z
UID:10004616-1729699200-1729710000@enjoywhereyouare.today
SUMMARY:Happy Hour
DESCRIPTION:
URL:https://enjoywhereyouare.today/events/happy-hour-2-2/2024-10-23/
LOCATION:The Parlor
CATEGORIES:Best Bars in TC,Daily Specials
ATTACH;FMTTYPE=image/jpeg:https://enjoywhereyouare.today/wp-content/uploads/2022/12/The-Parlor-Happy-Hour-2.jpg
GEO:44.7601682;-85.6205602
END:VEVENT
BEGIN:VEVENT
DTSTART;TZID=America/New_York:20241022T160000
DTEND;TZID=America/New_York:20241022T233000
DTSTAMP:20260422T182902
CREATED:20230117T165954Z
LAST-MODIFIED:20250609T140450Z
UID:10013814-1729612800-1729639800@enjoywhereyouare.today
SUMMARY:Two for Tuesdays
DESCRIPTION:2 for 1 beers all night!
URL:https://enjoywhereyouare.today/events/two-for-tuesdays/2024-10-22/
LOCATION:The Parlor
CATEGORIES:Best Bars in TC,Daily Specials,The Parlor The Pub North Bar
ATTACH;FMTTYPE=image/jpeg:https://enjoywhereyouare.today/wp-content/uploads/2023/01/The-Parlor-Tuesdays.jpg
GEO:44.7601682;-85.6205602
END:VEVENT
BEGIN:VEVENT
DTSTART;TZID=America/New_York:20241022T160000
DTEND;TZID=America/New_York:20241022T190000
DTSTAMP:20260422T182902
CREATED:20221216T192121Z
LAST-MODIFIED:20250609T140234Z
UID:10004615-1729612800-1729623600@enjoywhereyouare.today
SUMMARY:Happy Hour
DESCRIPTION:
URL:https://enjoywhereyouare.today/events/happy-hour-2-2/2024-10-22/
LOCATION:The Parlor
CATEGORIES:Best Bars in TC,Daily Specials
ATTACH;FMTTYPE=image/jpeg:https://enjoywhereyouare.today/wp-content/uploads/2022/12/The-Parlor-Happy-Hour-2.jpg
GEO:44.7601682;-85.6205602
END:VEVENT
BEGIN:VEVENT
DTSTART;TZID=America/New_York:20241021T160000
DTEND;TZID=America/New_York:20241021T190000
DTSTAMP:20260422T182902
CREATED:20221216T192121Z
LAST-MODIFIED:20250609T140234Z
UID:10004772-1729526400-1729537200@enjoywhereyouare.today
SUMMARY:Happy Hour
DESCRIPTION:
URL:https://enjoywhereyouare.today/events/happy-hour-2-2/2024-10-21/
LOCATION:The Parlor
CATEGORIES:Best Bars in TC,Daily Specials
ATTACH;FMTTYPE=image/jpeg:https://enjoywhereyouare.today/wp-content/uploads/2022/12/The-Parlor-Happy-Hour-2.jpg
GEO:44.7601682;-85.6205602
END:VEVENT
BEGIN:VEVENT
DTSTART;TZID=America/New_York:20241020T160000
DTEND;TZID=America/New_York:20241020T190000
DTSTAMP:20260422T182902
CREATED:20221216T192121Z
LAST-MODIFIED:20250609T140234Z
UID:10004614-1729440000-1729450800@enjoywhereyouare.today
SUMMARY:Happy Hour
DESCRIPTION:
URL:https://enjoywhereyouare.today/events/happy-hour-2-2/2024-10-20/
LOCATION:The Parlor
CATEGORIES:Best Bars in TC,Daily Specials
ATTACH;FMTTYPE=image/jpeg:https://enjoywhereyouare.today/wp-content/uploads/2022/12/The-Parlor-Happy-Hour-2.jpg
GEO:44.7601682;-85.6205602
END:VEVENT
BEGIN:VEVENT
DTSTART;TZID=America/New_York:20241019T160000
DTEND;TZID=America/New_York:20241019T190000
DTSTAMP:20260422T182902
CREATED:20221216T192121Z
LAST-MODIFIED:20250609T140234Z
UID:10004613-1729353600-1729364400@enjoywhereyouare.today
SUMMARY:Happy Hour
DESCRIPTION:
URL:https://enjoywhereyouare.today/events/happy-hour-2-2/2024-10-19/
LOCATION:The Parlor
CATEGORIES:Best Bars in TC,Daily Specials
ATTACH;FMTTYPE=image/jpeg:https://enjoywhereyouare.today/wp-content/uploads/2022/12/The-Parlor-Happy-Hour-2.jpg
GEO:44.7601682;-85.6205602
END:VEVENT
BEGIN:VEVENT
DTSTART;TZID=America/New_York:20241018T160000
DTEND;TZID=America/New_York:20241018T190000
DTSTAMP:20260422T182902
CREATED:20221216T192121Z
LAST-MODIFIED:20250609T140234Z
UID:10004612-1729267200-1729278000@enjoywhereyouare.today
SUMMARY:Happy Hour
DESCRIPTION:
URL:https://enjoywhereyouare.today/events/happy-hour-2-2/2024-10-18/
LOCATION:The Parlor
CATEGORIES:Best Bars in TC,Daily Specials
ATTACH;FMTTYPE=image/jpeg:https://enjoywhereyouare.today/wp-content/uploads/2022/12/The-Parlor-Happy-Hour-2.jpg
GEO:44.7601682;-85.6205602
END:VEVENT
BEGIN:VEVENT
DTSTART;TZID=America/New_York:20241017T160000
DTEND;TZID=America/New_York:20241017T190000
DTSTAMP:20260422T182902
CREATED:20221216T192121Z
LAST-MODIFIED:20250609T140234Z
UID:10004611-1729180800-1729191600@enjoywhereyouare.today
SUMMARY:Happy Hour
DESCRIPTION:
URL:https://enjoywhereyouare.today/events/happy-hour-2-2/2024-10-17/
LOCATION:The Parlor
CATEGORIES:Best Bars in TC,Daily Specials
ATTACH;FMTTYPE=image/jpeg:https://enjoywhereyouare.today/wp-content/uploads/2022/12/The-Parlor-Happy-Hour-2.jpg
GEO:44.7601682;-85.6205602
END:VEVENT
BEGIN:VEVENT
DTSTART;TZID=America/New_York:20241016T200000
DTEND;TZID=America/New_York:20241016T230000
DTSTAMP:20260422T182902
CREATED:20240917T101926Z
LAST-MODIFIED:20240917T101926Z
UID:10007326-1729108800-1729119600@enjoywhereyouare.today
SUMMARY:Wink Solo
DESCRIPTION:Wine Wednesday With Wink! 50% off bottles of wine!
URL:https://enjoywhereyouare.today/events/wink-solo/2024-10-16/
LOCATION:The Parlor
CATEGORIES:*Downtown TC and Traverse City,Best Bars in TC,Music
ATTACH;FMTTYPE=image/jpeg:https://enjoywhereyouare.today/wp-content/uploads/2024/09/Wink-Solo.jpg
GEO:44.7601682;-85.6205602
END:VEVENT
BEGIN:VEVENT
DTSTART;TZID=America/New_York:20241016T190000
DTEND;TZID=America/New_York:20241016T220000
DTSTAMP:20260422T182902
CREATED:20240917T140016Z
LAST-MODIFIED:20240917T140323Z
UID:10007516-1729105200-1729116000@enjoywhereyouare.today
SUMMARY:Jesse Jefferson
DESCRIPTION:
URL:https://enjoywhereyouare.today/events/jesse-jefferson-north-bar-tc/2024-10-16/
LOCATION:North Bar TC\, 160 E. Front St.\, Traverse City\, MI
CATEGORIES:*Downtown TC and Traverse City,Best Bars in TC,Music,Traverse City
ATTACH;FMTTYPE=image/jpeg:https://enjoywhereyouare.today/wp-content/uploads/2024/09/Jesse-Jefferson-North-Bar-TC.jpg
GEO:44.7638478;-85.6212028
X-APPLE-STRUCTURED-LOCATION;VALUE=URI;X-ADDRESS=North Bar TC 160 E. Front St. Traverse City MI;X-APPLE-RADIUS=500;X-TITLE=160 E. Front St.:geo:-85.6212028,44.7638478
END:VEVENT
BEGIN:VEVENT
DTSTART;TZID=America/New_York:20241016T160000
DTEND;TZID=America/New_York:20241016T190000
DTSTAMP:20260422T182902
CREATED:20221216T192121Z
LAST-MODIFIED:20250609T140234Z
UID:10004610-1729094400-1729105200@enjoywhereyouare.today
SUMMARY:Happy Hour
DESCRIPTION:
URL:https://enjoywhereyouare.today/events/happy-hour-2-2/2024-10-16/
LOCATION:The Parlor
CATEGORIES:Best Bars in TC,Daily Specials
ATTACH;FMTTYPE=image/jpeg:https://enjoywhereyouare.today/wp-content/uploads/2022/12/The-Parlor-Happy-Hour-2.jpg
GEO:44.7601682;-85.6205602
END:VEVENT
BEGIN:VEVENT
DTSTART;TZID=America/New_York:20241015T160000
DTEND;TZID=America/New_York:20241015T233000
DTSTAMP:20260422T182902
CREATED:20230117T165954Z
LAST-MODIFIED:20250609T140450Z
UID:10013813-1729008000-1729035000@enjoywhereyouare.today
SUMMARY:Two for Tuesdays
DESCRIPTION:2 for 1 beers all night!
URL:https://enjoywhereyouare.today/events/two-for-tuesdays/2024-10-15/
LOCATION:The Parlor
CATEGORIES:Best Bars in TC,Daily Specials,The Parlor The Pub North Bar
ATTACH;FMTTYPE=image/jpeg:https://enjoywhereyouare.today/wp-content/uploads/2023/01/The-Parlor-Tuesdays.jpg
GEO:44.7601682;-85.6205602
END:VEVENT
BEGIN:VEVENT
DTSTART;TZID=America/New_York:20241015T160000
DTEND;TZID=America/New_York:20241015T190000
DTSTAMP:20260422T182902
CREATED:20221216T192121Z
LAST-MODIFIED:20250609T140234Z
UID:10004609-1729008000-1729018800@enjoywhereyouare.today
SUMMARY:Happy Hour
DESCRIPTION:
URL:https://enjoywhereyouare.today/events/happy-hour-2-2/2024-10-15/
LOCATION:The Parlor
CATEGORIES:Best Bars in TC,Daily Specials
ATTACH;FMTTYPE=image/jpeg:https://enjoywhereyouare.today/wp-content/uploads/2022/12/The-Parlor-Happy-Hour-2.jpg
GEO:44.7601682;-85.6205602
END:VEVENT
BEGIN:VEVENT
DTSTART;TZID=America/New_York:20241014T160000
DTEND;TZID=America/New_York:20241014T190000
DTSTAMP:20260422T182902
CREATED:20221216T192121Z
LAST-MODIFIED:20250609T140234Z
UID:10004771-1728921600-1728932400@enjoywhereyouare.today
SUMMARY:Happy Hour
DESCRIPTION:
URL:https://enjoywhereyouare.today/events/happy-hour-2-2/2024-10-14/
LOCATION:The Parlor
CATEGORIES:Best Bars in TC,Daily Specials
ATTACH;FMTTYPE=image/jpeg:https://enjoywhereyouare.today/wp-content/uploads/2022/12/The-Parlor-Happy-Hour-2.jpg
GEO:44.7601682;-85.6205602
END:VEVENT
BEGIN:VEVENT
DTSTART;TZID=America/New_York:20241013T160000
DTEND;TZID=America/New_York:20241013T190000
DTSTAMP:20260422T182902
CREATED:20221216T192121Z
LAST-MODIFIED:20250609T140234Z
UID:10004608-1728835200-1728846000@enjoywhereyouare.today
SUMMARY:Happy Hour
DESCRIPTION:
URL:https://enjoywhereyouare.today/events/happy-hour-2-2/2024-10-13/
LOCATION:The Parlor
CATEGORIES:Best Bars in TC,Daily Specials
ATTACH;FMTTYPE=image/jpeg:https://enjoywhereyouare.today/wp-content/uploads/2022/12/The-Parlor-Happy-Hour-2.jpg
GEO:44.7601682;-85.6205602
END:VEVENT
BEGIN:VEVENT
DTSTART;TZID=America/New_York:20241012T160000
DTEND;TZID=America/New_York:20241012T190000
DTSTAMP:20260422T182902
CREATED:20221216T192121Z
LAST-MODIFIED:20250609T140234Z
UID:10004607-1728748800-1728759600@enjoywhereyouare.today
SUMMARY:Happy Hour
DESCRIPTION:
URL:https://enjoywhereyouare.today/events/happy-hour-2-2/2024-10-12/
LOCATION:The Parlor
CATEGORIES:Best Bars in TC,Daily Specials
ATTACH;FMTTYPE=image/jpeg:https://enjoywhereyouare.today/wp-content/uploads/2022/12/The-Parlor-Happy-Hour-2.jpg
GEO:44.7601682;-85.6205602
END:VEVENT
END:VCALENDAR