BEGIN:VCALENDAR
VERSION:2.0
PRODID:-//Enjoy Where You Are - ECPv6.5.2//NONSGML v1.0//EN
CALSCALE:GREGORIAN
METHOD:PUBLISH
X-WR-CALNAME:Enjoy Where You Are
X-ORIGINAL-URL:https://enjoywhereyouare.today
X-WR-CALDESC:Events for Enjoy Where You Are
REFRESH-INTERVAL;VALUE=DURATION:PT1H
X-Robots-Tag:noindex
X-PUBLISHED-TTL:PT1H
BEGIN:VTIMEZONE
TZID:America/New_York
BEGIN:DAYLIGHT
TZOFFSETFROM:-0500
TZOFFSETTO:-0400
TZNAME:EDT
DTSTART:20240310T070000
END:DAYLIGHT
BEGIN:STANDARD
TZOFFSETFROM:-0400
TZOFFSETTO:-0500
TZNAME:EST
DTSTART:20241103T060000
END:STANDARD
BEGIN:DAYLIGHT
TZOFFSETFROM:-0500
TZOFFSETTO:-0400
TZNAME:EDT
DTSTART:20250309T070000
END:DAYLIGHT
BEGIN:STANDARD
TZOFFSETFROM:-0400
TZOFFSETTO:-0500
TZNAME:EST
DTSTART:20251102T060000
END:STANDARD
END:VTIMEZONE
BEGIN:VEVENT
DTSTART;TZID=America/New_York:20250115T160000
DTEND;TZID=America/New_York:20250115T190000
DTSTAMP:20260422T101551
CREATED:20221216T192121Z
LAST-MODIFIED:20250609T140234Z
UID:10010460-1736956800-1736967600@enjoywhereyouare.today
SUMMARY:Happy Hour
DESCRIPTION:
URL:https://enjoywhereyouare.today/events/happy-hour-2-2/2025-01-15/
LOCATION:The Parlor
CATEGORIES:Best Bars in TC,Daily Specials
ATTACH;FMTTYPE=image/jpeg:https://enjoywhereyouare.today/wp-content/uploads/2022/12/The-Parlor-Happy-Hour-2.jpg
GEO:44.7601682;-85.6205602
END:VEVENT
BEGIN:VEVENT
DTSTART;TZID=America/New_York:20250114T160000
DTEND;TZID=America/New_York:20250114T233000
DTSTAMP:20260422T101551
CREATED:20230117T165954Z
LAST-MODIFIED:20250609T140450Z
UID:10013826-1736870400-1736897400@enjoywhereyouare.today
SUMMARY:Two for Tuesdays
DESCRIPTION:2 for 1 beers all night!
URL:https://enjoywhereyouare.today/events/two-for-tuesdays/2025-01-14/
LOCATION:The Parlor
CATEGORIES:Best Bars in TC,Daily Specials,The Parlor The Pub North Bar
ATTACH;FMTTYPE=image/jpeg:https://enjoywhereyouare.today/wp-content/uploads/2023/01/The-Parlor-Tuesdays.jpg
GEO:44.7601682;-85.6205602
END:VEVENT
BEGIN:VEVENT
DTSTART;TZID=America/New_York:20250114T160000
DTEND;TZID=America/New_York:20250114T190000
DTSTAMP:20260422T101551
CREATED:20221216T192121Z
LAST-MODIFIED:20250609T140234Z
UID:10010459-1736870400-1736881200@enjoywhereyouare.today
SUMMARY:Happy Hour
DESCRIPTION:
URL:https://enjoywhereyouare.today/events/happy-hour-2-2/2025-01-14/
LOCATION:The Parlor
CATEGORIES:Best Bars in TC,Daily Specials
ATTACH;FMTTYPE=image/jpeg:https://enjoywhereyouare.today/wp-content/uploads/2022/12/The-Parlor-Happy-Hour-2.jpg
GEO:44.7601682;-85.6205602
END:VEVENT
BEGIN:VEVENT
DTSTART;TZID=America/New_York:20250113T160000
DTEND;TZID=America/New_York:20250113T190000
DTSTAMP:20260422T101551
CREATED:20221216T192121Z
LAST-MODIFIED:20250609T140234Z
UID:10010458-1736784000-1736794800@enjoywhereyouare.today
SUMMARY:Happy Hour
DESCRIPTION:
URL:https://enjoywhereyouare.today/events/happy-hour-2-2/2025-01-13/
LOCATION:The Parlor
CATEGORIES:Best Bars in TC,Daily Specials
ATTACH;FMTTYPE=image/jpeg:https://enjoywhereyouare.today/wp-content/uploads/2022/12/The-Parlor-Happy-Hour-2.jpg
GEO:44.7601682;-85.6205602
END:VEVENT
BEGIN:VEVENT
DTSTART;TZID=America/New_York:20250112T160000
DTEND;TZID=America/New_York:20250112T190000
DTSTAMP:20260422T101551
CREATED:20221216T192121Z
LAST-MODIFIED:20250609T140234Z
UID:10010457-1736697600-1736708400@enjoywhereyouare.today
SUMMARY:Happy Hour
DESCRIPTION:
URL:https://enjoywhereyouare.today/events/happy-hour-2-2/2025-01-12/
LOCATION:The Parlor
CATEGORIES:Best Bars in TC,Daily Specials
ATTACH;FMTTYPE=image/jpeg:https://enjoywhereyouare.today/wp-content/uploads/2022/12/The-Parlor-Happy-Hour-2.jpg
GEO:44.7601682;-85.6205602
END:VEVENT
BEGIN:VEVENT
DTSTART;TZID=America/New_York:20250111T160000
DTEND;TZID=America/New_York:20250111T190000
DTSTAMP:20260422T101551
CREATED:20221216T192121Z
LAST-MODIFIED:20250609T140234Z
UID:10010456-1736611200-1736622000@enjoywhereyouare.today
SUMMARY:Happy Hour
DESCRIPTION:
URL:https://enjoywhereyouare.today/events/happy-hour-2-2/2025-01-11/
LOCATION:The Parlor
CATEGORIES:Best Bars in TC,Daily Specials
ATTACH;FMTTYPE=image/jpeg:https://enjoywhereyouare.today/wp-content/uploads/2022/12/The-Parlor-Happy-Hour-2.jpg
GEO:44.7601682;-85.6205602
END:VEVENT
BEGIN:VEVENT
DTSTART;TZID=America/New_York:20250110T160000
DTEND;TZID=America/New_York:20250110T190000
DTSTAMP:20260422T101551
CREATED:20221216T192121Z
LAST-MODIFIED:20250609T140234Z
UID:10010455-1736524800-1736535600@enjoywhereyouare.today
SUMMARY:Happy Hour
DESCRIPTION:
URL:https://enjoywhereyouare.today/events/happy-hour-2-2/2025-01-10/
LOCATION:The Parlor
CATEGORIES:Best Bars in TC,Daily Specials
ATTACH;FMTTYPE=image/jpeg:https://enjoywhereyouare.today/wp-content/uploads/2022/12/The-Parlor-Happy-Hour-2.jpg
GEO:44.7601682;-85.6205602
END:VEVENT
BEGIN:VEVENT
DTSTART;TZID=America/New_York:20250109T160000
DTEND;TZID=America/New_York:20250109T190000
DTSTAMP:20260422T101551
CREATED:20221216T192121Z
LAST-MODIFIED:20250609T140234Z
UID:10010454-1736438400-1736449200@enjoywhereyouare.today
SUMMARY:Happy Hour
DESCRIPTION:
URL:https://enjoywhereyouare.today/events/happy-hour-2-2/2025-01-09/
LOCATION:The Parlor
CATEGORIES:Best Bars in TC,Daily Specials
ATTACH;FMTTYPE=image/jpeg:https://enjoywhereyouare.today/wp-content/uploads/2022/12/The-Parlor-Happy-Hour-2.jpg
GEO:44.7601682;-85.6205602
END:VEVENT
BEGIN:VEVENT
DTSTART;TZID=America/New_York:20250108T160000
DTEND;TZID=America/New_York:20250108T190000
DTSTAMP:20260422T101551
CREATED:20221216T192121Z
LAST-MODIFIED:20250609T140234Z
UID:10010453-1736352000-1736362800@enjoywhereyouare.today
SUMMARY:Happy Hour
DESCRIPTION:
URL:https://enjoywhereyouare.today/events/happy-hour-2-2/2025-01-08/
LOCATION:The Parlor
CATEGORIES:Best Bars in TC,Daily Specials
ATTACH;FMTTYPE=image/jpeg:https://enjoywhereyouare.today/wp-content/uploads/2022/12/The-Parlor-Happy-Hour-2.jpg
GEO:44.7601682;-85.6205602
END:VEVENT
BEGIN:VEVENT
DTSTART;TZID=America/New_York:20250107T160000
DTEND;TZID=America/New_York:20250107T233000
DTSTAMP:20260422T101551
CREATED:20230117T165954Z
LAST-MODIFIED:20250609T140450Z
UID:10013825-1736265600-1736292600@enjoywhereyouare.today
SUMMARY:Two for Tuesdays
DESCRIPTION:2 for 1 beers all night!
URL:https://enjoywhereyouare.today/events/two-for-tuesdays/2025-01-07/
LOCATION:The Parlor
CATEGORIES:Best Bars in TC,Daily Specials,The Parlor The Pub North Bar
ATTACH;FMTTYPE=image/jpeg:https://enjoywhereyouare.today/wp-content/uploads/2023/01/The-Parlor-Tuesdays.jpg
GEO:44.7601682;-85.6205602
END:VEVENT
BEGIN:VEVENT
DTSTART;TZID=America/New_York:20250107T160000
DTEND;TZID=America/New_York:20250107T190000
DTSTAMP:20260422T101551
CREATED:20221216T192121Z
LAST-MODIFIED:20250609T140234Z
UID:10010452-1736265600-1736276400@enjoywhereyouare.today
SUMMARY:Happy Hour
DESCRIPTION:
URL:https://enjoywhereyouare.today/events/happy-hour-2-2/2025-01-07/
LOCATION:The Parlor
CATEGORIES:Best Bars in TC,Daily Specials
ATTACH;FMTTYPE=image/jpeg:https://enjoywhereyouare.today/wp-content/uploads/2022/12/The-Parlor-Happy-Hour-2.jpg
GEO:44.7601682;-85.6205602
END:VEVENT
BEGIN:VEVENT
DTSTART;TZID=America/New_York:20250106T160000
DTEND;TZID=America/New_York:20250106T190000
DTSTAMP:20260422T101551
CREATED:20221216T192121Z
LAST-MODIFIED:20250609T140234Z
UID:10010451-1736179200-1736190000@enjoywhereyouare.today
SUMMARY:Happy Hour
DESCRIPTION:
URL:https://enjoywhereyouare.today/events/happy-hour-2-2/2025-01-06/
LOCATION:The Parlor
CATEGORIES:Best Bars in TC,Daily Specials
ATTACH;FMTTYPE=image/jpeg:https://enjoywhereyouare.today/wp-content/uploads/2022/12/The-Parlor-Happy-Hour-2.jpg
GEO:44.7601682;-85.6205602
END:VEVENT
BEGIN:VEVENT
DTSTART;TZID=America/New_York:20250105T160000
DTEND;TZID=America/New_York:20250105T190000
DTSTAMP:20260422T101551
CREATED:20221216T192121Z
LAST-MODIFIED:20250609T140234Z
UID:10010450-1736092800-1736103600@enjoywhereyouare.today
SUMMARY:Happy Hour
DESCRIPTION:
URL:https://enjoywhereyouare.today/events/happy-hour-2-2/2025-01-05/
LOCATION:The Parlor
CATEGORIES:Best Bars in TC,Daily Specials
ATTACH;FMTTYPE=image/jpeg:https://enjoywhereyouare.today/wp-content/uploads/2022/12/The-Parlor-Happy-Hour-2.jpg
GEO:44.7601682;-85.6205602
END:VEVENT
BEGIN:VEVENT
DTSTART;TZID=America/New_York:20250104T160000
DTEND;TZID=America/New_York:20250104T190000
DTSTAMP:20260422T101551
CREATED:20221216T192121Z
LAST-MODIFIED:20250609T140234Z
UID:10010449-1736006400-1736017200@enjoywhereyouare.today
SUMMARY:Happy Hour
DESCRIPTION:
URL:https://enjoywhereyouare.today/events/happy-hour-2-2/2025-01-04/
LOCATION:The Parlor
CATEGORIES:Best Bars in TC,Daily Specials
ATTACH;FMTTYPE=image/jpeg:https://enjoywhereyouare.today/wp-content/uploads/2022/12/The-Parlor-Happy-Hour-2.jpg
GEO:44.7601682;-85.6205602
END:VEVENT
BEGIN:VEVENT
DTSTART;TZID=America/New_York:20250103T160000
DTEND;TZID=America/New_York:20250103T190000
DTSTAMP:20260422T101551
CREATED:20221216T192121Z
LAST-MODIFIED:20250609T140234Z
UID:10010448-1735920000-1735930800@enjoywhereyouare.today
SUMMARY:Happy Hour
DESCRIPTION:
URL:https://enjoywhereyouare.today/events/happy-hour-2-2/2025-01-03/
LOCATION:The Parlor
CATEGORIES:Best Bars in TC,Daily Specials
ATTACH;FMTTYPE=image/jpeg:https://enjoywhereyouare.today/wp-content/uploads/2022/12/The-Parlor-Happy-Hour-2.jpg
GEO:44.7601682;-85.6205602
END:VEVENT
BEGIN:VEVENT
DTSTART;TZID=America/New_York:20250102T160000
DTEND;TZID=America/New_York:20250102T190000
DTSTAMP:20260422T101551
CREATED:20221216T192121Z
LAST-MODIFIED:20250609T140234Z
UID:10010447-1735833600-1735844400@enjoywhereyouare.today
SUMMARY:Happy Hour
DESCRIPTION:
URL:https://enjoywhereyouare.today/events/happy-hour-2-2/2025-01-02/
LOCATION:The Parlor
CATEGORIES:Best Bars in TC,Daily Specials
ATTACH;FMTTYPE=image/jpeg:https://enjoywhereyouare.today/wp-content/uploads/2022/12/The-Parlor-Happy-Hour-2.jpg
GEO:44.7601682;-85.6205602
END:VEVENT
BEGIN:VEVENT
DTSTART;TZID=America/New_York:20250101T160000
DTEND;TZID=America/New_York:20250101T190000
DTSTAMP:20260422T101551
CREATED:20221216T192121Z
LAST-MODIFIED:20250609T140234Z
UID:10010446-1735747200-1735758000@enjoywhereyouare.today
SUMMARY:Happy Hour
DESCRIPTION:
URL:https://enjoywhereyouare.today/events/happy-hour-2-2/2025-01-01/
LOCATION:The Parlor
CATEGORIES:Best Bars in TC,Daily Specials
ATTACH;FMTTYPE=image/jpeg:https://enjoywhereyouare.today/wp-content/uploads/2022/12/The-Parlor-Happy-Hour-2.jpg
GEO:44.7601682;-85.6205602
END:VEVENT
BEGIN:VEVENT
DTSTART;TZID=America/New_York:20241231T160000
DTEND;TZID=America/New_York:20241231T233000
DTSTAMP:20260422T101551
CREATED:20230117T165954Z
LAST-MODIFIED:20250609T140450Z
UID:10013824-1735660800-1735687800@enjoywhereyouare.today
SUMMARY:Two for Tuesdays
DESCRIPTION:2 for 1 beers all night!
URL:https://enjoywhereyouare.today/events/two-for-tuesdays/2024-12-31/
LOCATION:The Parlor
CATEGORIES:Best Bars in TC,Daily Specials,The Parlor The Pub North Bar
ATTACH;FMTTYPE=image/jpeg:https://enjoywhereyouare.today/wp-content/uploads/2023/01/The-Parlor-Tuesdays.jpg
GEO:44.7601682;-85.6205602
END:VEVENT
BEGIN:VEVENT
DTSTART;TZID=America/New_York:20241231T160000
DTEND;TZID=America/New_York:20241231T190000
DTSTAMP:20260422T101551
CREATED:20221216T192121Z
LAST-MODIFIED:20250609T140234Z
UID:10004675-1735660800-1735671600@enjoywhereyouare.today
SUMMARY:Happy Hour
DESCRIPTION:
URL:https://enjoywhereyouare.today/events/happy-hour-2-2/2024-12-31/
LOCATION:The Parlor
CATEGORIES:Best Bars in TC,Daily Specials
ATTACH;FMTTYPE=image/jpeg:https://enjoywhereyouare.today/wp-content/uploads/2022/12/The-Parlor-Happy-Hour-2.jpg
GEO:44.7601682;-85.6205602
END:VEVENT
BEGIN:VEVENT
DTSTART;TZID=America/New_York:20241230T160000
DTEND;TZID=America/New_York:20241230T190000
DTSTAMP:20260422T101551
CREATED:20221216T192121Z
LAST-MODIFIED:20250609T140234Z
UID:10004782-1735574400-1735585200@enjoywhereyouare.today
SUMMARY:Happy Hour
DESCRIPTION:
URL:https://enjoywhereyouare.today/events/happy-hour-2-2/2024-12-30/
LOCATION:The Parlor
CATEGORIES:Best Bars in TC,Daily Specials
ATTACH;FMTTYPE=image/jpeg:https://enjoywhereyouare.today/wp-content/uploads/2022/12/The-Parlor-Happy-Hour-2.jpg
GEO:44.7601682;-85.6205602
END:VEVENT
BEGIN:VEVENT
DTSTART;TZID=America/New_York:20241229T160000
DTEND;TZID=America/New_York:20241229T190000
DTSTAMP:20260422T101551
CREATED:20221216T192121Z
LAST-MODIFIED:20250609T140234Z
UID:10004674-1735488000-1735498800@enjoywhereyouare.today
SUMMARY:Happy Hour
DESCRIPTION:
URL:https://enjoywhereyouare.today/events/happy-hour-2-2/2024-12-29/
LOCATION:The Parlor
CATEGORIES:Best Bars in TC,Daily Specials
ATTACH;FMTTYPE=image/jpeg:https://enjoywhereyouare.today/wp-content/uploads/2022/12/The-Parlor-Happy-Hour-2.jpg
GEO:44.7601682;-85.6205602
END:VEVENT
BEGIN:VEVENT
DTSTART;TZID=America/New_York:20241228T160000
DTEND;TZID=America/New_York:20241228T190000
DTSTAMP:20260422T101551
CREATED:20221216T192121Z
LAST-MODIFIED:20250609T140234Z
UID:10004673-1735401600-1735412400@enjoywhereyouare.today
SUMMARY:Happy Hour
DESCRIPTION:
URL:https://enjoywhereyouare.today/events/happy-hour-2-2/2024-12-28/
LOCATION:The Parlor
CATEGORIES:Best Bars in TC,Daily Specials
ATTACH;FMTTYPE=image/jpeg:https://enjoywhereyouare.today/wp-content/uploads/2022/12/The-Parlor-Happy-Hour-2.jpg
GEO:44.7601682;-85.6205602
END:VEVENT
BEGIN:VEVENT
DTSTART;TZID=America/New_York:20241227T160000
DTEND;TZID=America/New_York:20241227T190000
DTSTAMP:20260422T101551
CREATED:20221216T192121Z
LAST-MODIFIED:20250609T140234Z
UID:10004672-1735315200-1735326000@enjoywhereyouare.today
SUMMARY:Happy Hour
DESCRIPTION:
URL:https://enjoywhereyouare.today/events/happy-hour-2-2/2024-12-27/
LOCATION:The Parlor
CATEGORIES:Best Bars in TC,Daily Specials
ATTACH;FMTTYPE=image/jpeg:https://enjoywhereyouare.today/wp-content/uploads/2022/12/The-Parlor-Happy-Hour-2.jpg
GEO:44.7601682;-85.6205602
END:VEVENT
BEGIN:VEVENT
DTSTART;TZID=America/New_York:20241226T160000
DTEND;TZID=America/New_York:20241226T190000
DTSTAMP:20260422T101551
CREATED:20221216T192121Z
LAST-MODIFIED:20250609T140234Z
UID:10004671-1735228800-1735239600@enjoywhereyouare.today
SUMMARY:Happy Hour
DESCRIPTION:
URL:https://enjoywhereyouare.today/events/happy-hour-2-2/2024-12-26/
LOCATION:The Parlor
CATEGORIES:Best Bars in TC,Daily Specials
ATTACH;FMTTYPE=image/jpeg:https://enjoywhereyouare.today/wp-content/uploads/2022/12/The-Parlor-Happy-Hour-2.jpg
GEO:44.7601682;-85.6205602
END:VEVENT
BEGIN:VEVENT
DTSTART;TZID=America/New_York:20241225T160000
DTEND;TZID=America/New_York:20241225T190000
DTSTAMP:20260422T101551
CREATED:20221216T192121Z
LAST-MODIFIED:20250609T140234Z
UID:10004670-1735142400-1735153200@enjoywhereyouare.today
SUMMARY:Happy Hour
DESCRIPTION:
URL:https://enjoywhereyouare.today/events/happy-hour-2-2/2024-12-25/
LOCATION:The Parlor
CATEGORIES:Best Bars in TC,Daily Specials
ATTACH;FMTTYPE=image/jpeg:https://enjoywhereyouare.today/wp-content/uploads/2022/12/The-Parlor-Happy-Hour-2.jpg
GEO:44.7601682;-85.6205602
END:VEVENT
BEGIN:VEVENT
DTSTART;TZID=America/New_York:20241224T160000
DTEND;TZID=America/New_York:20241224T233000
DTSTAMP:20260422T101551
CREATED:20230117T165954Z
LAST-MODIFIED:20250609T140450Z
UID:10013823-1735056000-1735083000@enjoywhereyouare.today
SUMMARY:Two for Tuesdays
DESCRIPTION:2 for 1 beers all night!
URL:https://enjoywhereyouare.today/events/two-for-tuesdays/2024-12-24/
LOCATION:The Parlor
CATEGORIES:Best Bars in TC,Daily Specials,The Parlor The Pub North Bar
ATTACH;FMTTYPE=image/jpeg:https://enjoywhereyouare.today/wp-content/uploads/2023/01/The-Parlor-Tuesdays.jpg
GEO:44.7601682;-85.6205602
END:VEVENT
BEGIN:VEVENT
DTSTART;TZID=America/New_York:20241224T160000
DTEND;TZID=America/New_York:20241224T190000
DTSTAMP:20260422T101551
CREATED:20221216T192121Z
LAST-MODIFIED:20250609T140234Z
UID:10004669-1735056000-1735066800@enjoywhereyouare.today
SUMMARY:Happy Hour
DESCRIPTION:
URL:https://enjoywhereyouare.today/events/happy-hour-2-2/2024-12-24/
LOCATION:The Parlor
CATEGORIES:Best Bars in TC,Daily Specials
ATTACH;FMTTYPE=image/jpeg:https://enjoywhereyouare.today/wp-content/uploads/2022/12/The-Parlor-Happy-Hour-2.jpg
GEO:44.7601682;-85.6205602
END:VEVENT
BEGIN:VEVENT
DTSTART;TZID=America/New_York:20241223T160000
DTEND;TZID=America/New_York:20241223T190000
DTSTAMP:20260422T101551
CREATED:20221216T192121Z
LAST-MODIFIED:20250609T140234Z
UID:10004781-1734969600-1734980400@enjoywhereyouare.today
SUMMARY:Happy Hour
DESCRIPTION:
URL:https://enjoywhereyouare.today/events/happy-hour-2-2/2024-12-23/
LOCATION:The Parlor
CATEGORIES:Best Bars in TC,Daily Specials
ATTACH;FMTTYPE=image/jpeg:https://enjoywhereyouare.today/wp-content/uploads/2022/12/The-Parlor-Happy-Hour-2.jpg
GEO:44.7601682;-85.6205602
END:VEVENT
BEGIN:VEVENT
DTSTART;TZID=America/New_York:20241222T160000
DTEND;TZID=America/New_York:20241222T190000
DTSTAMP:20260422T101551
CREATED:20221216T192121Z
LAST-MODIFIED:20250609T140234Z
UID:10004668-1734883200-1734894000@enjoywhereyouare.today
SUMMARY:Happy Hour
DESCRIPTION:
URL:https://enjoywhereyouare.today/events/happy-hour-2-2/2024-12-22/
LOCATION:The Parlor
CATEGORIES:Best Bars in TC,Daily Specials
ATTACH;FMTTYPE=image/jpeg:https://enjoywhereyouare.today/wp-content/uploads/2022/12/The-Parlor-Happy-Hour-2.jpg
GEO:44.7601682;-85.6205602
END:VEVENT
BEGIN:VEVENT
DTSTART;TZID=America/New_York:20241221T160000
DTEND;TZID=America/New_York:20241221T190000
DTSTAMP:20260422T101551
CREATED:20221216T192121Z
LAST-MODIFIED:20250609T140234Z
UID:10004667-1734796800-1734807600@enjoywhereyouare.today
SUMMARY:Happy Hour
DESCRIPTION:
URL:https://enjoywhereyouare.today/events/happy-hour-2-2/2024-12-21/
LOCATION:The Parlor
CATEGORIES:Best Bars in TC,Daily Specials
ATTACH;FMTTYPE=image/jpeg:https://enjoywhereyouare.today/wp-content/uploads/2022/12/The-Parlor-Happy-Hour-2.jpg
GEO:44.7601682;-85.6205602
END:VEVENT
END:VCALENDAR