BEGIN:VCALENDAR
VERSION:2.0
PRODID:-//Enjoy Where You Are - ECPv6.5.2//NONSGML v1.0//EN
CALSCALE:GREGORIAN
METHOD:PUBLISH
X-WR-CALNAME:Enjoy Where You Are
X-ORIGINAL-URL:https://enjoywhereyouare.today
X-WR-CALDESC:Events for Enjoy Where You Are
REFRESH-INTERVAL;VALUE=DURATION:PT1H
X-Robots-Tag:noindex
X-PUBLISHED-TTL:PT1H
BEGIN:VTIMEZONE
TZID:America/New_York
BEGIN:DAYLIGHT
TZOFFSETFROM:-0500
TZOFFSETTO:-0400
TZNAME:EDT
DTSTART:20250309T070000
END:DAYLIGHT
BEGIN:STANDARD
TZOFFSETFROM:-0400
TZOFFSETTO:-0500
TZNAME:EST
DTSTART:20251102T060000
END:STANDARD
END:VTIMEZONE
BEGIN:VEVENT
DTSTART;TZID=America/New_York:20250219T160000
DTEND;TZID=America/New_York:20250219T190000
DTSTAMP:20260422T065822
CREATED:20221216T192121Z
LAST-MODIFIED:20250609T140234Z
UID:10010730-1739980800-1739991600@enjoywhereyouare.today
SUMMARY:Happy Hour
DESCRIPTION:
URL:https://enjoywhereyouare.today/events/happy-hour-2-2/2025-02-19/
LOCATION:The Parlor
CATEGORIES:Best Bars in TC,Daily Specials
ATTACH;FMTTYPE=image/jpeg:https://enjoywhereyouare.today/wp-content/uploads/2022/12/The-Parlor-Happy-Hour-2.jpg
GEO:44.7601682;-85.6205602
END:VEVENT
BEGIN:VEVENT
DTSTART;TZID=America/New_York:20250218T160000
DTEND;TZID=America/New_York:20250218T233000
DTSTAMP:20260422T065822
CREATED:20230117T165954Z
LAST-MODIFIED:20250609T140450Z
UID:10013831-1739894400-1739921400@enjoywhereyouare.today
SUMMARY:Two for Tuesdays
DESCRIPTION:2 for 1 beers all night!
URL:https://enjoywhereyouare.today/events/two-for-tuesdays/2025-02-18/
LOCATION:The Parlor
CATEGORIES:Best Bars in TC,Daily Specials,The Parlor The Pub North Bar
ATTACH;FMTTYPE=image/jpeg:https://enjoywhereyouare.today/wp-content/uploads/2023/01/The-Parlor-Tuesdays.jpg
GEO:44.7601682;-85.6205602
END:VEVENT
BEGIN:VEVENT
DTSTART;TZID=America/New_York:20250218T160000
DTEND;TZID=America/New_York:20250218T190000
DTSTAMP:20260422T065822
CREATED:20221216T192121Z
LAST-MODIFIED:20250609T140234Z
UID:10010729-1739894400-1739905200@enjoywhereyouare.today
SUMMARY:Happy Hour
DESCRIPTION:
URL:https://enjoywhereyouare.today/events/happy-hour-2-2/2025-02-18/
LOCATION:The Parlor
CATEGORIES:Best Bars in TC,Daily Specials
ATTACH;FMTTYPE=image/jpeg:https://enjoywhereyouare.today/wp-content/uploads/2022/12/The-Parlor-Happy-Hour-2.jpg
GEO:44.7601682;-85.6205602
END:VEVENT
BEGIN:VEVENT
DTSTART;TZID=America/New_York:20250217T160000
DTEND;TZID=America/New_York:20250217T190000
DTSTAMP:20260422T065822
CREATED:20221216T192121Z
LAST-MODIFIED:20250609T140234Z
UID:10010728-1739808000-1739818800@enjoywhereyouare.today
SUMMARY:Happy Hour
DESCRIPTION:
URL:https://enjoywhereyouare.today/events/happy-hour-2-2/2025-02-17/
LOCATION:The Parlor
CATEGORIES:Best Bars in TC,Daily Specials
ATTACH;FMTTYPE=image/jpeg:https://enjoywhereyouare.today/wp-content/uploads/2022/12/The-Parlor-Happy-Hour-2.jpg
GEO:44.7601682;-85.6205602
END:VEVENT
BEGIN:VEVENT
DTSTART;TZID=America/New_York:20250216T160000
DTEND;TZID=America/New_York:20250216T190000
DTSTAMP:20260422T065822
CREATED:20221216T192121Z
LAST-MODIFIED:20250609T140234Z
UID:10010727-1739721600-1739732400@enjoywhereyouare.today
SUMMARY:Happy Hour
DESCRIPTION:
URL:https://enjoywhereyouare.today/events/happy-hour-2-2/2025-02-16/
LOCATION:The Parlor
CATEGORIES:Best Bars in TC,Daily Specials
ATTACH;FMTTYPE=image/jpeg:https://enjoywhereyouare.today/wp-content/uploads/2022/12/The-Parlor-Happy-Hour-2.jpg
GEO:44.7601682;-85.6205602
END:VEVENT
BEGIN:VEVENT
DTSTART;TZID=America/New_York:20250215T160000
DTEND;TZID=America/New_York:20250215T190000
DTSTAMP:20260422T065822
CREATED:20221216T192121Z
LAST-MODIFIED:20250609T140234Z
UID:10010726-1739635200-1739646000@enjoywhereyouare.today
SUMMARY:Happy Hour
DESCRIPTION:
URL:https://enjoywhereyouare.today/events/happy-hour-2-2/2025-02-15/
LOCATION:The Parlor
CATEGORIES:Best Bars in TC,Daily Specials
ATTACH;FMTTYPE=image/jpeg:https://enjoywhereyouare.today/wp-content/uploads/2022/12/The-Parlor-Happy-Hour-2.jpg
GEO:44.7601682;-85.6205602
END:VEVENT
BEGIN:VEVENT
DTSTART;TZID=America/New_York:20250214T160000
DTEND;TZID=America/New_York:20250214T190000
DTSTAMP:20260422T065822
CREATED:20221216T192121Z
LAST-MODIFIED:20250609T140234Z
UID:10010725-1739548800-1739559600@enjoywhereyouare.today
SUMMARY:Happy Hour
DESCRIPTION:
URL:https://enjoywhereyouare.today/events/happy-hour-2-2/2025-02-14/
LOCATION:The Parlor
CATEGORIES:Best Bars in TC,Daily Specials
ATTACH;FMTTYPE=image/jpeg:https://enjoywhereyouare.today/wp-content/uploads/2022/12/The-Parlor-Happy-Hour-2.jpg
GEO:44.7601682;-85.6205602
END:VEVENT
BEGIN:VEVENT
DTSTART;TZID=America/New_York:20250213T160000
DTEND;TZID=America/New_York:20250213T190000
DTSTAMP:20260422T065822
CREATED:20221216T192121Z
LAST-MODIFIED:20250609T140234Z
UID:10010724-1739462400-1739473200@enjoywhereyouare.today
SUMMARY:Happy Hour
DESCRIPTION:
URL:https://enjoywhereyouare.today/events/happy-hour-2-2/2025-02-13/
LOCATION:The Parlor
CATEGORIES:Best Bars in TC,Daily Specials
ATTACH;FMTTYPE=image/jpeg:https://enjoywhereyouare.today/wp-content/uploads/2022/12/The-Parlor-Happy-Hour-2.jpg
GEO:44.7601682;-85.6205602
END:VEVENT
BEGIN:VEVENT
DTSTART;TZID=America/New_York:20250212T160000
DTEND;TZID=America/New_York:20250212T190000
DTSTAMP:20260422T065822
CREATED:20221216T192121Z
LAST-MODIFIED:20250609T140234Z
UID:10010723-1739376000-1739386800@enjoywhereyouare.today
SUMMARY:Happy Hour
DESCRIPTION:
URL:https://enjoywhereyouare.today/events/happy-hour-2-2/2025-02-12/
LOCATION:The Parlor
CATEGORIES:Best Bars in TC,Daily Specials
ATTACH;FMTTYPE=image/jpeg:https://enjoywhereyouare.today/wp-content/uploads/2022/12/The-Parlor-Happy-Hour-2.jpg
GEO:44.7601682;-85.6205602
END:VEVENT
BEGIN:VEVENT
DTSTART;TZID=America/New_York:20250211T160000
DTEND;TZID=America/New_York:20250211T233000
DTSTAMP:20260422T065822
CREATED:20230117T165954Z
LAST-MODIFIED:20250609T140450Z
UID:10013830-1739289600-1739316600@enjoywhereyouare.today
SUMMARY:Two for Tuesdays
DESCRIPTION:2 for 1 beers all night!
URL:https://enjoywhereyouare.today/events/two-for-tuesdays/2025-02-11/
LOCATION:The Parlor
CATEGORIES:Best Bars in TC,Daily Specials,The Parlor The Pub North Bar
ATTACH;FMTTYPE=image/jpeg:https://enjoywhereyouare.today/wp-content/uploads/2023/01/The-Parlor-Tuesdays.jpg
GEO:44.7601682;-85.6205602
END:VEVENT
BEGIN:VEVENT
DTSTART;TZID=America/New_York:20250211T160000
DTEND;TZID=America/New_York:20250211T190000
DTSTAMP:20260422T065822
CREATED:20221216T192121Z
LAST-MODIFIED:20250609T140234Z
UID:10010722-1739289600-1739300400@enjoywhereyouare.today
SUMMARY:Happy Hour
DESCRIPTION:
URL:https://enjoywhereyouare.today/events/happy-hour-2-2/2025-02-11/
LOCATION:The Parlor
CATEGORIES:Best Bars in TC,Daily Specials
ATTACH;FMTTYPE=image/jpeg:https://enjoywhereyouare.today/wp-content/uploads/2022/12/The-Parlor-Happy-Hour-2.jpg
GEO:44.7601682;-85.6205602
END:VEVENT
BEGIN:VEVENT
DTSTART;TZID=America/New_York:20250210T160000
DTEND;TZID=America/New_York:20250210T190000
DTSTAMP:20260422T065822
CREATED:20221216T192121Z
LAST-MODIFIED:20250609T140234Z
UID:10010721-1739203200-1739214000@enjoywhereyouare.today
SUMMARY:Happy Hour
DESCRIPTION:
URL:https://enjoywhereyouare.today/events/happy-hour-2-2/2025-02-10/
LOCATION:The Parlor
CATEGORIES:Best Bars in TC,Daily Specials
ATTACH;FMTTYPE=image/jpeg:https://enjoywhereyouare.today/wp-content/uploads/2022/12/The-Parlor-Happy-Hour-2.jpg
GEO:44.7601682;-85.6205602
END:VEVENT
BEGIN:VEVENT
DTSTART;TZID=America/New_York:20250209T160000
DTEND;TZID=America/New_York:20250209T190000
DTSTAMP:20260422T065822
CREATED:20221216T192121Z
LAST-MODIFIED:20250609T140234Z
UID:10010720-1739116800-1739127600@enjoywhereyouare.today
SUMMARY:Happy Hour
DESCRIPTION:
URL:https://enjoywhereyouare.today/events/happy-hour-2-2/2025-02-09/
LOCATION:The Parlor
CATEGORIES:Best Bars in TC,Daily Specials
ATTACH;FMTTYPE=image/jpeg:https://enjoywhereyouare.today/wp-content/uploads/2022/12/The-Parlor-Happy-Hour-2.jpg
GEO:44.7601682;-85.6205602
END:VEVENT
BEGIN:VEVENT
DTSTART;TZID=America/New_York:20250208T160000
DTEND;TZID=America/New_York:20250208T190000
DTSTAMP:20260422T065822
CREATED:20221216T192121Z
LAST-MODIFIED:20250609T140234Z
UID:10010719-1739030400-1739041200@enjoywhereyouare.today
SUMMARY:Happy Hour
DESCRIPTION:
URL:https://enjoywhereyouare.today/events/happy-hour-2-2/2025-02-08/
LOCATION:The Parlor
CATEGORIES:Best Bars in TC,Daily Specials
ATTACH;FMTTYPE=image/jpeg:https://enjoywhereyouare.today/wp-content/uploads/2022/12/The-Parlor-Happy-Hour-2.jpg
GEO:44.7601682;-85.6205602
END:VEVENT
BEGIN:VEVENT
DTSTART;TZID=America/New_York:20250207T160000
DTEND;TZID=America/New_York:20250207T190000
DTSTAMP:20260422T065822
CREATED:20221216T192121Z
LAST-MODIFIED:20250609T140234Z
UID:10010718-1738944000-1738954800@enjoywhereyouare.today
SUMMARY:Happy Hour
DESCRIPTION:
URL:https://enjoywhereyouare.today/events/happy-hour-2-2/2025-02-07/
LOCATION:The Parlor
CATEGORIES:Best Bars in TC,Daily Specials
ATTACH;FMTTYPE=image/jpeg:https://enjoywhereyouare.today/wp-content/uploads/2022/12/The-Parlor-Happy-Hour-2.jpg
GEO:44.7601682;-85.6205602
END:VEVENT
BEGIN:VEVENT
DTSTART;TZID=America/New_York:20250206T160000
DTEND;TZID=America/New_York:20250206T190000
DTSTAMP:20260422T065822
CREATED:20221216T192121Z
LAST-MODIFIED:20250609T140234Z
UID:10010717-1738857600-1738868400@enjoywhereyouare.today
SUMMARY:Happy Hour
DESCRIPTION:
URL:https://enjoywhereyouare.today/events/happy-hour-2-2/2025-02-06/
LOCATION:The Parlor
CATEGORIES:Best Bars in TC,Daily Specials
ATTACH;FMTTYPE=image/jpeg:https://enjoywhereyouare.today/wp-content/uploads/2022/12/The-Parlor-Happy-Hour-2.jpg
GEO:44.7601682;-85.6205602
END:VEVENT
BEGIN:VEVENT
DTSTART;TZID=America/New_York:20250205T160000
DTEND;TZID=America/New_York:20250205T190000
DTSTAMP:20260422T065822
CREATED:20221216T192121Z
LAST-MODIFIED:20250609T140234Z
UID:10010716-1738771200-1738782000@enjoywhereyouare.today
SUMMARY:Happy Hour
DESCRIPTION:
URL:https://enjoywhereyouare.today/events/happy-hour-2-2/2025-02-05/
LOCATION:The Parlor
CATEGORIES:Best Bars in TC,Daily Specials
ATTACH;FMTTYPE=image/jpeg:https://enjoywhereyouare.today/wp-content/uploads/2022/12/The-Parlor-Happy-Hour-2.jpg
GEO:44.7601682;-85.6205602
END:VEVENT
BEGIN:VEVENT
DTSTART;TZID=America/New_York:20250204T160000
DTEND;TZID=America/New_York:20250204T233000
DTSTAMP:20260422T065822
CREATED:20230117T165954Z
LAST-MODIFIED:20250609T140450Z
UID:10013829-1738684800-1738711800@enjoywhereyouare.today
SUMMARY:Two for Tuesdays
DESCRIPTION:2 for 1 beers all night!
URL:https://enjoywhereyouare.today/events/two-for-tuesdays/2025-02-04/
LOCATION:The Parlor
CATEGORIES:Best Bars in TC,Daily Specials,The Parlor The Pub North Bar
ATTACH;FMTTYPE=image/jpeg:https://enjoywhereyouare.today/wp-content/uploads/2023/01/The-Parlor-Tuesdays.jpg
GEO:44.7601682;-85.6205602
END:VEVENT
BEGIN:VEVENT
DTSTART;TZID=America/New_York:20250204T160000
DTEND;TZID=America/New_York:20250204T190000
DTSTAMP:20260422T065822
CREATED:20221216T192121Z
LAST-MODIFIED:20250609T140234Z
UID:10010715-1738684800-1738695600@enjoywhereyouare.today
SUMMARY:Happy Hour
DESCRIPTION:
URL:https://enjoywhereyouare.today/events/happy-hour-2-2/2025-02-04/
LOCATION:The Parlor
CATEGORIES:Best Bars in TC,Daily Specials
ATTACH;FMTTYPE=image/jpeg:https://enjoywhereyouare.today/wp-content/uploads/2022/12/The-Parlor-Happy-Hour-2.jpg
GEO:44.7601682;-85.6205602
END:VEVENT
BEGIN:VEVENT
DTSTART;TZID=America/New_York:20250203T160000
DTEND;TZID=America/New_York:20250203T190000
DTSTAMP:20260422T065822
CREATED:20221216T192121Z
LAST-MODIFIED:20250609T140234Z
UID:10010714-1738598400-1738609200@enjoywhereyouare.today
SUMMARY:Happy Hour
DESCRIPTION:
URL:https://enjoywhereyouare.today/events/happy-hour-2-2/2025-02-03/
LOCATION:The Parlor
CATEGORIES:Best Bars in TC,Daily Specials
ATTACH;FMTTYPE=image/jpeg:https://enjoywhereyouare.today/wp-content/uploads/2022/12/The-Parlor-Happy-Hour-2.jpg
GEO:44.7601682;-85.6205602
END:VEVENT
BEGIN:VEVENT
DTSTART;TZID=America/New_York:20250202T160000
DTEND;TZID=America/New_York:20250202T190000
DTSTAMP:20260422T065822
CREATED:20221216T192121Z
LAST-MODIFIED:20250609T140234Z
UID:10010713-1738512000-1738522800@enjoywhereyouare.today
SUMMARY:Happy Hour
DESCRIPTION:
URL:https://enjoywhereyouare.today/events/happy-hour-2-2/2025-02-02/
LOCATION:The Parlor
CATEGORIES:Best Bars in TC,Daily Specials
ATTACH;FMTTYPE=image/jpeg:https://enjoywhereyouare.today/wp-content/uploads/2022/12/The-Parlor-Happy-Hour-2.jpg
GEO:44.7601682;-85.6205602
END:VEVENT
BEGIN:VEVENT
DTSTART;TZID=America/New_York:20250201T160000
DTEND;TZID=America/New_York:20250201T190000
DTSTAMP:20260422T065822
CREATED:20221216T192121Z
LAST-MODIFIED:20250609T140234Z
UID:10010712-1738425600-1738436400@enjoywhereyouare.today
SUMMARY:Happy Hour
DESCRIPTION:
URL:https://enjoywhereyouare.today/events/happy-hour-2-2/2025-02-01/
LOCATION:The Parlor
CATEGORIES:Best Bars in TC,Daily Specials
ATTACH;FMTTYPE=image/jpeg:https://enjoywhereyouare.today/wp-content/uploads/2022/12/The-Parlor-Happy-Hour-2.jpg
GEO:44.7601682;-85.6205602
END:VEVENT
BEGIN:VEVENT
DTSTART;TZID=America/New_York:20250131T160000
DTEND;TZID=America/New_York:20250131T190000
DTSTAMP:20260422T065822
CREATED:20221216T192121Z
LAST-MODIFIED:20250609T140234Z
UID:10010476-1738339200-1738350000@enjoywhereyouare.today
SUMMARY:Happy Hour
DESCRIPTION:
URL:https://enjoywhereyouare.today/events/happy-hour-2-2/2025-01-31/
LOCATION:The Parlor
CATEGORIES:Best Bars in TC,Daily Specials
ATTACH;FMTTYPE=image/jpeg:https://enjoywhereyouare.today/wp-content/uploads/2022/12/The-Parlor-Happy-Hour-2.jpg
GEO:44.7601682;-85.6205602
END:VEVENT
BEGIN:VEVENT
DTSTART;TZID=America/New_York:20250130T160000
DTEND;TZID=America/New_York:20250130T190000
DTSTAMP:20260422T065822
CREATED:20221216T192121Z
LAST-MODIFIED:20250609T140234Z
UID:10010475-1738252800-1738263600@enjoywhereyouare.today
SUMMARY:Happy Hour
DESCRIPTION:
URL:https://enjoywhereyouare.today/events/happy-hour-2-2/2025-01-30/
LOCATION:The Parlor
CATEGORIES:Best Bars in TC,Daily Specials
ATTACH;FMTTYPE=image/jpeg:https://enjoywhereyouare.today/wp-content/uploads/2022/12/The-Parlor-Happy-Hour-2.jpg
GEO:44.7601682;-85.6205602
END:VEVENT
BEGIN:VEVENT
DTSTART;TZID=America/New_York:20250129T160000
DTEND;TZID=America/New_York:20250129T190000
DTSTAMP:20260422T065822
CREATED:20221216T192121Z
LAST-MODIFIED:20250609T140234Z
UID:10010474-1738166400-1738177200@enjoywhereyouare.today
SUMMARY:Happy Hour
DESCRIPTION:
URL:https://enjoywhereyouare.today/events/happy-hour-2-2/2025-01-29/
LOCATION:The Parlor
CATEGORIES:Best Bars in TC,Daily Specials
ATTACH;FMTTYPE=image/jpeg:https://enjoywhereyouare.today/wp-content/uploads/2022/12/The-Parlor-Happy-Hour-2.jpg
GEO:44.7601682;-85.6205602
END:VEVENT
BEGIN:VEVENT
DTSTART;TZID=America/New_York:20250128T160000
DTEND;TZID=America/New_York:20250128T233000
DTSTAMP:20260422T065822
CREATED:20230117T165954Z
LAST-MODIFIED:20250609T140450Z
UID:10013828-1738080000-1738107000@enjoywhereyouare.today
SUMMARY:Two for Tuesdays
DESCRIPTION:2 for 1 beers all night!
URL:https://enjoywhereyouare.today/events/two-for-tuesdays/2025-01-28/
LOCATION:The Parlor
CATEGORIES:Best Bars in TC,Daily Specials,The Parlor The Pub North Bar
ATTACH;FMTTYPE=image/jpeg:https://enjoywhereyouare.today/wp-content/uploads/2023/01/The-Parlor-Tuesdays.jpg
GEO:44.7601682;-85.6205602
END:VEVENT
BEGIN:VEVENT
DTSTART;TZID=America/New_York:20250128T160000
DTEND;TZID=America/New_York:20250128T190000
DTSTAMP:20260422T065822
CREATED:20221216T192121Z
LAST-MODIFIED:20250609T140234Z
UID:10010473-1738080000-1738090800@enjoywhereyouare.today
SUMMARY:Happy Hour
DESCRIPTION:
URL:https://enjoywhereyouare.today/events/happy-hour-2-2/2025-01-28/
LOCATION:The Parlor
CATEGORIES:Best Bars in TC,Daily Specials
ATTACH;FMTTYPE=image/jpeg:https://enjoywhereyouare.today/wp-content/uploads/2022/12/The-Parlor-Happy-Hour-2.jpg
GEO:44.7601682;-85.6205602
END:VEVENT
BEGIN:VEVENT
DTSTART;TZID=America/New_York:20250127T160000
DTEND;TZID=America/New_York:20250127T190000
DTSTAMP:20260422T065822
CREATED:20221216T192121Z
LAST-MODIFIED:20250609T140234Z
UID:10010472-1737993600-1738004400@enjoywhereyouare.today
SUMMARY:Happy Hour
DESCRIPTION:
URL:https://enjoywhereyouare.today/events/happy-hour-2-2/2025-01-27/
LOCATION:The Parlor
CATEGORIES:Best Bars in TC,Daily Specials
ATTACH;FMTTYPE=image/jpeg:https://enjoywhereyouare.today/wp-content/uploads/2022/12/The-Parlor-Happy-Hour-2.jpg
GEO:44.7601682;-85.6205602
END:VEVENT
BEGIN:VEVENT
DTSTART;TZID=America/New_York:20250126T160000
DTEND;TZID=America/New_York:20250126T190000
DTSTAMP:20260422T065822
CREATED:20221216T192121Z
LAST-MODIFIED:20250609T140234Z
UID:10010471-1737907200-1737918000@enjoywhereyouare.today
SUMMARY:Happy Hour
DESCRIPTION:
URL:https://enjoywhereyouare.today/events/happy-hour-2-2/2025-01-26/
LOCATION:The Parlor
CATEGORIES:Best Bars in TC,Daily Specials
ATTACH;FMTTYPE=image/jpeg:https://enjoywhereyouare.today/wp-content/uploads/2022/12/The-Parlor-Happy-Hour-2.jpg
GEO:44.7601682;-85.6205602
END:VEVENT
BEGIN:VEVENT
DTSTART;TZID=America/New_York:20250125T160000
DTEND;TZID=America/New_York:20250125T190000
DTSTAMP:20260422T065822
CREATED:20221216T192121Z
LAST-MODIFIED:20250609T140234Z
UID:10010470-1737820800-1737831600@enjoywhereyouare.today
SUMMARY:Happy Hour
DESCRIPTION:
URL:https://enjoywhereyouare.today/events/happy-hour-2-2/2025-01-25/
LOCATION:The Parlor
CATEGORIES:Best Bars in TC,Daily Specials
ATTACH;FMTTYPE=image/jpeg:https://enjoywhereyouare.today/wp-content/uploads/2022/12/The-Parlor-Happy-Hour-2.jpg
GEO:44.7601682;-85.6205602
END:VEVENT
END:VCALENDAR